From mboxrd@z Thu Jan 1 00:00:00 1970 Return-Path: Received: from mails.dpdk.org (mails.dpdk.org [217.70.189.124]) by inbox.dpdk.org (Postfix) with ESMTP id 7864446AEF for ; Sat, 5 Jul 2025 05:33:53 +0200 (CEST) Received: from mails.dpdk.org (localhost [127.0.0.1]) by mails.dpdk.org (Postfix) with ESMTP id 472D340287; Sat, 5 Jul 2025 05:33:53 +0200 (CEST) Received: from mail-io1-f99.google.com (mail-io1-f99.google.com [209.85.166.99]) by mails.dpdk.org (Postfix) with ESMTP id 5182940287 for ; Sat, 5 Jul 2025 05:33:51 +0200 (CEST) Received: by mail-io1-f99.google.com with SMTP id ca18e2360f4ac-86cf3dd8c97so169104939f.2 for ; Fri, 04 Jul 2025 20:33:51 -0700 (PDT) DKIM-Signature: v=1; a=rsa-sha256; c=relaxed/relaxed; d=iol.unh.edu; s=unh-iol; t=1751686430; x=1752291230; darn=dpdk.org; h=references:in-reply-to:cc:to:from:subject:message-id:date:from:to :cc:subject:date:message-id:reply-to; bh=Wd/90emjf2ffk7Wpu0EmU0UjXZygakeg0KzTytDgdL4=; b=ZNgv0Fjqih2D6mMrXIIKUiVVDeAUOBbyXgdFcbrp+9hPaZLLZycjNHYlLGnPykyAOI mSXJKOYxllouRpmm8RRXTjTm7Aaj1BOWC9RpjriCuSYBMQKMYPqHNCMbAB9ffBdmsuw8 ofIljgvkPigqh+89AtX1zbQpDorVVbLdnEp/8= X-Google-DKIM-Signature: v=1; a=rsa-sha256; c=relaxed/relaxed; d=1e100.net; s=20230601; t=1751686430; x=1752291230; h=references:in-reply-to:cc:to:from:subject:message-id:date :x-gm-message-state:from:to:cc:subject:date:message-id:reply-to; bh=Wd/90emjf2ffk7Wpu0EmU0UjXZygakeg0KzTytDgdL4=; b=lcpzyM1nANq7vL0yiGY6/j6GFU6GyPP3dvt7RJP6KkzYczq4M6lTw1Zeyqp3QA1QYv Z0ZoZracrTKXimyTAzqbLTqnAQxwNJhzRWaViPZCyt7TIJEw0VogX64VJrPctM32T3Ce ir9tbt72+lmsBkdE4WaHMCCTbUPpKLs5FgTiBl9CP8szt4mDRUi0E4VO4ASnAa7dzVd1 ANCnWqqXVHBuDwoiG7DhZOzb2rD8bJ6UCY0jaPprTXC/NK+A/H87SIlM4DmOAfXcBErH Jpa22MqkgHmYMJy2YT1ThzstdhZTdYPHnEy0uLJmbRpGKJMoNQPdI02xhs4TYv2jZaJY s4wA== X-Gm-Message-State: AOJu0YxaILq70jmHo59MwV2Oi2GYY3JpVmQ6LB6fqYB+seIQBQwybRz0 0dmJO6CPwD1Xcz56qxxa3jtCfCxKt4MbiSp7rHbytvkMfG7izxF3cx/sRzNuUxAvrnV9v2Bui9Y aKO19bc98SLqFCySVtGyIPIwp1vHRnTCsz2O4fUfSPn9h X-Gm-Gg: ASbGncvXr9+kmnDwl94BzhHrkfRnstuuhATQMrUyAaAwnoJ/WA9/htSEF+wCrbbmdG1 3WH45Rix3yZ6mVjIssM6YzPttaJsuXHmXnPj3GLlx/xkXReOmQfGNtnXx0mPVEpzJh3Z00zKB+F EWE+ZrqhRGwjghhFUjA1tvmiEoAKJTQYDoVvTgFecKM4+Gg+y9A3CZzM4IjxcOwjjXm/Zeklmed Aiw+h3M7k2ThjxN/hAxgitMBQKYY7YDYpwtDmY8hC3G+PQXrQLKt5g2Z2/OtOqJboo5tZEomZa2 KJqF5pvB8BADHL8RntelSvoUGHkyJtvauKl2Wo5AJbmSKJwsHnI5ooi/b/gPy+sAPfTP2A== X-Google-Smtp-Source: AGHT+IGUz7SbSuwm/JJygekJp5mZsfD5XgPOIDwnEzF0fdWoBqfGk876/vjHrDQuHzMwb6fd2Ohb0NfWuOAi X-Received: by 2002:a05:6602:3414:b0:873:7685:6f3e with SMTP id ca18e2360f4ac-876e4578e58mr408088839f.0.1751686430558; Fri, 04 Jul 2025 20:33:50 -0700 (PDT) Received: from postal.iol.unh.edu (postal.iol.unh.edu. [132.177.123.84]) by smtp-relay.gmail.com with ESMTPS id 8926c6da1cb9f-503b5b78b1bsm124765173.41.2025.07.04.20.33.50 (version=TLS1_2 cipher=ECDHE-ECDSA-AES128-GCM-SHA256 bits=128/128); Fri, 04 Jul 2025 20:33:50 -0700 (PDT) X-Relaying-Domain: iol.unh.edu Date: Fri, 04 Jul 2025 20:33:50 -0700 (PDT) Message-ID: <68689d1e.050a0220.3d7f8.6853SMTPIN_ADDED_MISSING@mx.google.com> Received: from [172.21.0.5] (unknown [172.18.0.240]) by postal.iol.unh.edu (Postfix) with ESMTP id 15E576051830; Fri, 4 Jul 2025 23:33:50 -0400 (EDT) Subject: |SUCCESS| pw155012-155013 [PATCH] [v2,2/2] dts: add generic blocking From: dpdklab@iol.unh.edu To: Test Report Cc: dpdk-test-reports@iol.unh.edu In-Reply-To: <20250704152908.683265-3-luca.vizzarro@arm.com> References: <20250704152908.683265-3-luca.vizzarro@arm.com> Content-Type: text/plain X-BeenThere: test-report@dpdk.org X-Mailman-Version: 2.1.29 Precedence: list List-Id: automatic DPDK test reports List-Unsubscribe: , List-Archive: List-Post: List-Help: List-Subscribe: , Errors-To: test-report-bounces@dpdk.org Test-Label: iol-unit-arm64-testing Test-Status: SUCCESS http://dpdk.org/patch/155013 _Testing PASS_ Submitter: Luca Vizzarro Date: Friday, July 04 2025 15:29:08 DPDK git baseline: Repo:dpdk Branch: master CommitID:31ba785774d258d4c57b68dabdf544e575f3af83 155012-155013 --> testing pass Upstream job id: Generic-Unit-Test-DPDK#352760 Test environment and result as below: +------------------------------+--------------+---------------------------+------------------------------+----------------+ | Environment | lpm_autotest | cryptodev_sw_zuc_autotest | cryptodev_sw_snow3g_autotest | dpdk_unit_test | +==============================+==============+===========================+==============================+================+ | Ubuntu 20.04 | PASS | SKIPPED | SKIPPED | PASS | +------------------------------+--------------+---------------------------+------------------------------+----------------+ | Debian 12 (arm) | SKIPPED | PASS | PASS | SKIPPED | +------------------------------+--------------+---------------------------+------------------------------+----------------+ | CentOS Stream 9 | SKIPPED | SKIPPED | SKIPPED | PASS | +------------------------------+--------------+---------------------------+------------------------------+----------------+ | Debian GNU/Linux 12 | SKIPPED | SKIPPED | SKIPPED | PASS | +------------------------------+--------------+---------------------------+------------------------------+----------------+ | CentOS Stream 10 | SKIPPED | SKIPPED | SKIPPED | PASS | +------------------------------+--------------+---------------------------+------------------------------+----------------+ | Fedora Linux 41 | SKIPPED | SKIPPED | SKIPPED | PASS | +------------------------------+--------------+---------------------------+------------------------------+----------------+ | Fedora Linux 40 | SKIPPED | SKIPPED | SKIPPED | PASS | +------------------------------+--------------+---------------------------+------------------------------+----------------+ | Red Hat Enterprise Linux 9.5 | SKIPPED | SKIPPED | SKIPPED | PASS | +------------------------------+--------------+---------------------------+------------------------------+----------------+ | Ubuntu 24.04 | SKIPPED | SKIPPED | SKIPPED | PASS | +------------------------------+--------------+---------------------------+------------------------------+----------------+ | Ubuntu 22.04 | SKIPPED | SKIPPED | SKIPPED | PASS | +------------------------------+--------------+---------------------------+------------------------------+----------------+ Ubuntu 20.04 Kernel: 5.4 Compiler: gcc gcc (Ubuntu 9.4.0-1ubuntu1~20.04.2) 9.4.0 Debian 12 (arm) Kernel: Depends on container host Compiler: gcc (Debian 12.2.0-14) 12.2.0 CentOS Stream 9 Kernel: 5.4 Compiler: gcc gcc (GCC) 11.5.0 20240719 (Red Hat 11.5.0-7) Debian GNU/Linux 12 Kernel: 5.4 Compiler: gcc gcc (Debian 12.2.0-14+deb12u1) 12.2.0 CentOS Stream 10 Kernel: 5.4 Compiler: gcc gcc (GCC) 14.2.1 20250110 (Red Hat 14.2.1-8) Fedora Linux 41 Kernel: 5.4 Compiler: gcc gcc (GCC) 14.3.1 20250523 (Red Hat 14.3.1-1) Fedora Linux 40 Kernel: 5.4 Compiler: gcc gcc (GCC) 14.2.1 20240912 (Red Hat 14.2.1-3) Red Hat Enterprise Linux 9.5 Kernel: 5.4 Compiler: gcc gcc (GCC) 11.5.0 20240719 (Red Hat 11.5.0-2) Ubuntu 24.04 Kernel: 5.4 Compiler: gcc gcc (Ubuntu 13.3.0-6ubuntu2~24.04) 13.3.0 Ubuntu 22.04 Kernel: 5.4 Compiler: gcc gcc (Ubuntu 11.4.0-1ubuntu1~22.04) 11.4.0 To view detailed results, visit: https://lab.dpdk.org/results/dashboard/patchsets/33595/ UNH-IOL DPDK Community Lab To manage your email subscriptions, visit: https://lab.dpdk.org/results/dashboard/preferences/subscriptions/