From mboxrd@z Thu Jan 1 00:00:00 1970 Return-Path: Received: from mails.dpdk.org (mails.dpdk.org [217.70.189.124]) by inbox.dpdk.org (Postfix) with ESMTP id 5710646AEC for ; Sat, 5 Jul 2025 05:44:33 +0200 (CEST) Received: from mails.dpdk.org (localhost [127.0.0.1]) by mails.dpdk.org (Postfix) with ESMTP id 415FF40287; Sat, 5 Jul 2025 05:44:33 +0200 (CEST) Received: from mail-pl1-f228.google.com (mail-pl1-f228.google.com [209.85.214.228]) by mails.dpdk.org (Postfix) with ESMTP id F173B40287 for ; Sat, 5 Jul 2025 05:44:31 +0200 (CEST) Received: by mail-pl1-f228.google.com with SMTP id d9443c01a7336-234d3261631so10639085ad.1 for ; Fri, 04 Jul 2025 20:44:31 -0700 (PDT) DKIM-Signature: v=1; a=rsa-sha256; c=relaxed/relaxed; d=iol.unh.edu; s=unh-iol; t=1751687071; x=1752291871; darn=dpdk.org; h=references:in-reply-to:cc:to:from:subject:message-id:date:from:to :cc:subject:date:message-id:reply-to; bh=An1EleS2lfu7AV9nlEDdMbw7NSnCS8MesT5TLuuLLEs=; b=WBV12mNBTDIXQrUAh/UUswaGUEAQAlRiCc0CrvWIhis9QFAqxXqqy+MQdOhgaN+sSS O9E4wA3fCDxouv5/gb+IUJykv1ysD5R/32y3Dk5qncMyLZGLjnWDOge4uUZfvwCSsABh nt22oRB6/mSe7xzL+De6OHfT4yLSpXpQEZCWg= X-Google-DKIM-Signature: v=1; a=rsa-sha256; c=relaxed/relaxed; d=1e100.net; s=20230601; t=1751687071; x=1752291871; h=references:in-reply-to:cc:to:from:subject:message-id:date :x-gm-message-state:from:to:cc:subject:date:message-id:reply-to; bh=An1EleS2lfu7AV9nlEDdMbw7NSnCS8MesT5TLuuLLEs=; b=trzb78jH93tU5FHnvTb65SB+vN6RdU0ukzR0CKe+eOFySFHi/Oud+ERfn3RCa14HqO fQ0ka29dSmZr3nIXMZc5yq/5f8SHL68JMk39Z2AQxgZTWhZ9lkNqTXxQWyNhrixEbxVH W3mBVloGVQCfB28ahoO+OrJuRlnpgLuK01kZONFrWEuksWIFcUyNQISalqGLpyUBQRmB 4xjVnnpyQQXJYH4YEiD3vib/p97DHPeWhPdZcI77yAGfPldD3XDbQXAARb6GLqIL+QoO atxzEiVYkCseeB12Utk7oY5TXNz2fjvdogWjISNg0OklIvtzgPmvwkrJrUG+4rPKdkZZ nfkA== X-Gm-Message-State: AOJu0YyCQ8327qTD1YjsEW89N3J6v/WBjNbXf+/8SX2bMXyFILe0CqCI M9gZXKkwDY327L64vMDJt1Fn1gLgUEuyQTT9lfCCaThkLbl0ZD0vv3fxOHx94m6EmODn7ytMfwh jVBSuR+7iYKJ0GlZS/A3mhxC3Xo5WMx+YQ9We9pt3BrJsSbO3AEBdL55QeHkA X-Gm-Gg: ASbGnct0V1yNxEYGxnqru+Z2d+pPjyGmf/JQVYNKjABbOJ4/lWxmijXaQ9P0Dx8g/JS f1EZ+ff54PWMP580XSdeF2emGsEkyuu0eJHvxuqiAMy00+gS2AsO/sb28Exfy/V73XPDhcnWsLf TGEJJAEE/0Y39oXhLT0AXhis96fVn1lAYkflj+sNHFR4Gt+HhZC8wC4/piIM8jdug3NBRHt+CEb O671gRdeWG9IDIyNpmDC84t7b+xTEmLB2bp4g4IdIU6ZL7j5pOaK2VAni/dUEh2lQdBcGG17Gi1 OG1uQNcaOuqLkHftgS9/vNN43BSCIWGeK7WdDHsjKqYlwhk= X-Google-Smtp-Source: AGHT+IF/OpP7KPeNyaoA2d5I7IlnPXP/ZOErjVsRUBAVwdj21H8eLPk5Sl9i0kWG95fUEeGmqOldgFRZ5UDj X-Received: by 2002:a17:903:887:b0:237:ec18:eab9 with SMTP id d9443c01a7336-23c90fcb2b9mr9897475ad.32.1751687070887; Fri, 04 Jul 2025 20:44:30 -0700 (PDT) Received: from postal.iol.unh.edu (postal.iol.unh.edu. [2606:4100:3880:1234::84]) by smtp-relay.gmail.com with ESMTPS id 98e67ed59e1d1-31aaaf7d402sm142344a91.13.2025.07.04.20.44.30 (version=TLS1_2 cipher=ECDHE-ECDSA-AES128-GCM-SHA256 bits=128/128); Fri, 04 Jul 2025 20:44:30 -0700 (PDT) X-Relaying-Domain: iol.unh.edu Date: Fri, 04 Jul 2025 20:44:30 -0700 (PDT) Message-ID: <68689f9e.170a0220.7fddf.8d0fSMTPIN_ADDED_MISSING@mx.google.com> Received: from [172.21.0.5] (unknown [172.18.0.240]) by postal.iol.unh.edu (Postfix) with ESMTP id 17E6C6051830; Fri, 4 Jul 2025 23:44:30 -0400 (EDT) Subject: |SUCCESS| pw155014-155016 [PATCH] [v2,3/3] app/testpmd: improve outp From: dpdklab@iol.unh.edu To: Test Report Cc: dpdk-test-reports@iol.unh.edu In-Reply-To: <20250704183437.25901-4-bruce.richardson@intel.com> References: <20250704183437.25901-4-bruce.richardson@intel.com> Content-Type: text/plain X-BeenThere: test-report@dpdk.org X-Mailman-Version: 2.1.29 Precedence: list List-Id: automatic DPDK test reports List-Unsubscribe: , List-Archive: List-Post: List-Help: List-Subscribe: , Errors-To: test-report-bounces@dpdk.org Test-Label: iol-abi-testing Test-Status: SUCCESS http://dpdk.org/patch/155016 _Testing PASS_ Submitter: Bruce Richardson Date: Friday, July 04 2025 18:34:36 DPDK git baseline: Repo:dpdk Branch: master CommitID:b18c543ec30729ccc7708a6e064a1f9db5d8c11f 155014-155016 --> testing pass Upstream job id: Generic-DPDK-Compile-ABI#133129 Test environment and result as below: +-------------------------------+----------+ | Environment | abi_test | +===============================+==========+ | CentOS Stream 9 | PASS | +-------------------------------+----------+ | CentOS Stream 10 | PASS | +-------------------------------+----------+ | Fedora Linux 40 | PASS | +-------------------------------+----------+ | Debian GNU/Linux 12 | PASS | +-------------------------------+----------+ | Fedora Linux 41 | PASS | +-------------------------------+----------+ | openSUSE Leap 15.6 | PASS | +-------------------------------+----------+ | Red Hat Enterprise Linux 9.5 | PASS | +-------------------------------+----------+ | Ubuntu 22.04 | PASS | +-------------------------------+----------+ | Red Hat Enterprise Linux 8.10 | PASS | +-------------------------------+----------+ | Ubuntu 24.04 | PASS | +-------------------------------+----------+ CentOS Stream 9 Kernel: 5.15 Compiler: gcc gcc (GCC) 11.5.0 20240719 (Red Hat 11.5.0-7) CentOS Stream 10 Kernel: 5.15 Compiler: gcc gcc (GCC) 14.2.1 20250110 (Red Hat 14.2.1-8) Fedora Linux 40 Kernel: 5.15 Compiler: clang gcc (GCC) 14.2.1 20240912 (Red Hat 14.2.1-3) Debian GNU/Linux 12 Kernel: 5.15 Compiler: gcc gcc (Debian 12.2.0-14+deb12u1) 12.2.0 Fedora Linux 41 Kernel: 5.15 Compiler: gcc gcc (GCC) 14.3.1 20250523 (Red Hat 14.3.1-1) openSUSE Leap 15.6 Kernel: 5.15 Compiler: gcc gcc (SUSE Linux) 7.5.0 Red Hat Enterprise Linux 9.5 Kernel: 5.15 Compiler: gcc gcc (GCC) 11.5.0 20240719 (Red Hat 11.5.0-2) Ubuntu 22.04 Kernel: 5.15 Compiler: gcc gcc (Ubuntu 11.4.0-1ubuntu1~22.04) 11.4.0 Red Hat Enterprise Linux 8.10 Kernel: 5.15 Compiler: gcc gcc (GCC) 8.5.0 20210514 (Red Hat 8.5.0-22) Ubuntu 24.04 Kernel: 5.15 Compiler: gcc gcc (Ubuntu 13.3.0-6ubuntu2~24.04) 13.3.0 To view detailed results, visit: https://lab.dpdk.org/results/dashboard/patchsets/33596/ UNH-IOL DPDK Community Lab To manage your email subscriptions, visit: https://lab.dpdk.org/results/dashboard/preferences/subscriptions/