From mboxrd@z Thu Jan 1 00:00:00 1970 Return-Path: Received: from mails.dpdk.org (mails.dpdk.org [217.70.189.124]) by inbox.dpdk.org (Postfix) with ESMTP id E8BDD46AD8 for ; Sat, 5 Jul 2025 06:18:22 +0200 (CEST) Received: from mails.dpdk.org (localhost [127.0.0.1]) by mails.dpdk.org (Postfix) with ESMTP id C9CE840287; Sat, 5 Jul 2025 06:18:22 +0200 (CEST) Received: from mail-il1-f228.google.com (mail-il1-f228.google.com [209.85.166.228]) by mails.dpdk.org (Postfix) with ESMTP id B637D40287 for ; Sat, 5 Jul 2025 06:18:21 +0200 (CEST) Received: by mail-il1-f228.google.com with SMTP id e9e14a558f8ab-3df210930f7so5192825ab.1 for ; Fri, 04 Jul 2025 21:18:21 -0700 (PDT) DKIM-Signature: v=1; a=rsa-sha256; c=relaxed/relaxed; d=iol.unh.edu; s=unh-iol; t=1751689101; x=1752293901; darn=dpdk.org; h=references:in-reply-to:cc:to:from:subject:message-id:date:from:to :cc:subject:date:message-id:reply-to; bh=SNB0t2hsxaHbtQvzLKkWXQT3TNiqIYmwGHXEnEWu/NA=; b=M5dUq/E+j6MnJHPNDwB6wj/xk5TsWxCTUFncaY7bVhjEjaVpR1T955PbPpIoc8Kwg0 lBwGUIKlMA7nnBp/VZsoSZk14zwnnNs1UITpl3u+++xG8RisEGp2nejeIS1UWj1Cmlfw kCZAWwUueK1CK8QcyGN+LMlwIQ25hiYFEZEG4= X-Google-DKIM-Signature: v=1; a=rsa-sha256; c=relaxed/relaxed; d=1e100.net; s=20230601; t=1751689101; x=1752293901; h=references:in-reply-to:cc:to:from:subject:message-id:date :x-gm-message-state:from:to:cc:subject:date:message-id:reply-to; bh=SNB0t2hsxaHbtQvzLKkWXQT3TNiqIYmwGHXEnEWu/NA=; b=knrEMtNevL6jc8239pLZEPCWOp0j7whD9BFstRYAledrr1Vqdlv0QGGzqoGVflWzfZ woz6SxEoAY767q2Jf1WQ0sUUWsFjXeoC++gGwVNklBwXdzt6H/5tT5zaBnYvmClFgqsp enYHnbYhEbPykSVi+Dnd19FcFrRG/hyNe3104xjuEWYSlLcruOA/cPNxZvMO7YC94BFL fUa84fXHezebErFg+WtNiGJ3m7U6h+rLxmUXEuFM4lZu7neMehZqAZsVVsabaxqShZ8J tbe0PCx9eRt+c2k7hh6a022iBdNP4HgBngY1ruQDFOvtqmcpfuj99/jXvUEYVBam9B/i AdoA== X-Gm-Message-State: AOJu0YxLQRRqcuGzHJpGIwzNKdAc3P8p5jgisHxPy+ZRmktPvQ4W68Tj 8E219bqFkcnpRBgYg5ePrcpLBzQCLVSXdrRsKuUE5yUjb3OXgi/YCzBj11YMncGC2iI3WO0bTiq 1HHytUps05tSDkrIFJR1wQfmn/lPcldlNys5vj/EMlO5L X-Gm-Gg: ASbGnctT43MXVLY1GMINVeCIO2+G9n52nnGfFemnr0qiCYTy/Av8yPERfT29Eh8jGqE muaIzzfzyKGaogJeazcti0ePXKbYKKKGGbL/FuxTCBPUj0ZoQYfWv9WbpeiZKK67Q7w7iU4BJhj OSVYKkviwZKLYH+4p7E3yy09yAgdGFpCWgbYP0SRt3dYgiuf+sIKmtCUccDUzTVzbJkx+g/kv9v WHEpidXKVwfjtoBSZJg/wkDM0jFo/EhlTtfmfJCyJIhIY5URlmsxIChxMGuYagWLhOyyMLVhrxC 50uJXaB/oz4UuQilxyOpTZXO3+17ayQstkkZJiZuh5D02PzmVTNBNdibVprShjoqTRTX5A== X-Google-Smtp-Source: AGHT+IE4pfX/F6ofZmrtkslmPajOLqVru4jzg0POM5LVNfq12cB4PmdtYldPwVxEcgHmS/Vd1i3s8B0yss/e X-Received: by 2002:a05:6e02:3c87:b0:3dd:b540:b795 with SMTP id e9e14a558f8ab-3e13478d767mr40420705ab.3.1751689101018; Fri, 04 Jul 2025 21:18:21 -0700 (PDT) Received: from postal.iol.unh.edu (postal.iol.unh.edu. [132.177.123.84]) by smtp-relay.gmail.com with ESMTPS id e9e14a558f8ab-3e0f9b5eef3sm2161685ab.18.2025.07.04.21.18.20 (version=TLS1_2 cipher=ECDHE-ECDSA-AES128-GCM-SHA256 bits=128/128); Fri, 04 Jul 2025 21:18:21 -0700 (PDT) X-Relaying-Domain: iol.unh.edu Date: Fri, 04 Jul 2025 21:18:21 -0700 (PDT) Message-ID: <6868a78d.050a0220.1969e4.b6f2SMTPIN_ADDED_MISSING@mx.google.com> Received: from [172.21.0.5] (unknown [172.18.0.240]) by postal.iol.unh.edu (Postfix) with ESMTP id 7CA3D6050A61; Sat, 5 Jul 2025 00:18:20 -0400 (EDT) Subject: |SUCCESS| pw155012-155013 [PATCH] [v2,2/2] dts: add generic blocking From: dpdklab@iol.unh.edu To: Test Report Cc: dpdk-test-reports@iol.unh.edu In-Reply-To: <20250704152908.683265-3-luca.vizzarro@arm.com> References: <20250704152908.683265-3-luca.vizzarro@arm.com> Content-Type: text/plain X-BeenThere: test-report@dpdk.org X-Mailman-Version: 2.1.29 Precedence: list List-Id: automatic DPDK test reports List-Unsubscribe: , List-Archive: List-Post: List-Help: List-Subscribe: , Errors-To: test-report-bounces@dpdk.org Test-Label: iol-abi-testing Test-Status: SUCCESS http://dpdk.org/patch/155013 _Testing PASS_ Submitter: Luca Vizzarro Date: Friday, July 04 2025 15:29:08 DPDK git baseline: Repo:dpdk Branch: master CommitID:31ba785774d258d4c57b68dabdf544e575f3af83 155012-155013 --> testing pass Upstream job id: Generic-DPDK-Compile-ABI#133134 Test environment and result as below: +-------------------------------+----------+ | Environment | abi_test | +===============================+==========+ | CentOS Stream 10 | PASS | +-------------------------------+----------+ | CentOS Stream 9 | PASS | +-------------------------------+----------+ | Fedora Linux 40 | PASS | +-------------------------------+----------+ | Fedora Linux 41 | PASS | +-------------------------------+----------+ | Debian GNU/Linux 12 | PASS | +-------------------------------+----------+ | openSUSE Leap 15.6 | PASS | +-------------------------------+----------+ | Red Hat Enterprise Linux 8.10 | PASS | +-------------------------------+----------+ | Red Hat Enterprise Linux 9.5 | PASS | +-------------------------------+----------+ | Ubuntu 22.04 | PASS | +-------------------------------+----------+ | Ubuntu 24.04 | PASS | +-------------------------------+----------+ CentOS Stream 10 Kernel: 5.15 Compiler: gcc gcc (GCC) 14.2.1 20250110 (Red Hat 14.2.1-8) CentOS Stream 9 Kernel: 5.15 Compiler: gcc gcc (GCC) 11.5.0 20240719 (Red Hat 11.5.0-7) Fedora Linux 40 Kernel: 5.15 Compiler: clang gcc (GCC) 14.2.1 20240912 (Red Hat 14.2.1-3) Fedora Linux 41 Kernel: 5.15 Compiler: clang gcc (GCC) 14.3.1 20250523 (Red Hat 14.3.1-1) Debian GNU/Linux 12 Kernel: 5.15 Compiler: gcc gcc (Debian 12.2.0-14+deb12u1) 12.2.0 openSUSE Leap 15.6 Kernel: 5.15 Compiler: gcc gcc (SUSE Linux) 7.5.0 Red Hat Enterprise Linux 8.10 Kernel: 5.15 Compiler: gcc gcc (GCC) 8.5.0 20210514 (Red Hat 8.5.0-22) Red Hat Enterprise Linux 9.5 Kernel: 5.15 Compiler: gcc gcc (GCC) 11.5.0 20240719 (Red Hat 11.5.0-2) Ubuntu 22.04 Kernel: 5.15 Compiler: gcc gcc (Ubuntu 11.4.0-1ubuntu1~22.04) 11.4.0 Ubuntu 24.04 Kernel: 5.15 Compiler: gcc gcc (Ubuntu 13.3.0-6ubuntu2~24.04) 13.3.0 To view detailed results, visit: https://lab.dpdk.org/results/dashboard/patchsets/33595/ UNH-IOL DPDK Community Lab To manage your email subscriptions, visit: https://lab.dpdk.org/results/dashboard/preferences/subscriptions/