From mboxrd@z Thu Jan 1 00:00:00 1970 Return-Path: Received: from mails.dpdk.org (mails.dpdk.org [217.70.189.124]) by inbox.dpdk.org (Postfix) with ESMTP id 02D1546AF2 for ; Sat, 5 Jul 2025 06:19:11 +0200 (CEST) Received: from mails.dpdk.org (localhost [127.0.0.1]) by mails.dpdk.org (Postfix) with ESMTP id ED19340287; Sat, 5 Jul 2025 06:19:10 +0200 (CEST) Received: from mail-pl1-f225.google.com (mail-pl1-f225.google.com [209.85.214.225]) by mails.dpdk.org (Postfix) with ESMTP id B0A9040287 for ; Sat, 5 Jul 2025 06:19:09 +0200 (CEST) Received: by mail-pl1-f225.google.com with SMTP id d9443c01a7336-234b9dfb842so12925755ad.1 for ; Fri, 04 Jul 2025 21:19:09 -0700 (PDT) DKIM-Signature: v=1; a=rsa-sha256; c=relaxed/relaxed; d=iol.unh.edu; s=unh-iol; t=1751689149; x=1752293949; darn=dpdk.org; h=references:in-reply-to:cc:to:from:subject:message-id:date:from:to :cc:subject:date:message-id:reply-to; bh=wVKL3L/3W9ZZaDtnpG8wIxIhVfj+yqEbK7Lvgd73oPM=; b=X0g/FrahO0RIgrX8la7Iw0OMhxZYPm0RUkXeS3xKXKGA5CX231EWnGGQX+MFcJrwE+ RJL0MGDepGDJJo8sIvrj/59uCFe/tVyCOqxiyIP6ryYF/z4JNlWvb1wDt8694h21jE4l 035G2i0oxrYwuuEzlxFMryYOcMcBOsjZcF+cQ= X-Google-DKIM-Signature: v=1; a=rsa-sha256; c=relaxed/relaxed; d=1e100.net; s=20230601; t=1751689149; x=1752293949; h=references:in-reply-to:cc:to:from:subject:message-id:date :x-gm-message-state:from:to:cc:subject:date:message-id:reply-to; bh=wVKL3L/3W9ZZaDtnpG8wIxIhVfj+yqEbK7Lvgd73oPM=; b=nKEcWAfnZghx8dg9pwNnGbp41/unRyGZmzItlYKk7gXFZyUq3suNZuox51vddEYLYe YEaG3I35yJre3DxkyreYOmdGN1QD84z16dLhP5zmeKsO8Zgung+rwLaYoWTnY9dia/TV Ft18SR/GfPJE5X4dI9L+1s+sq6RtT4nzEamLTNbwixprQr5pcopx0m0CcouoPdekXuxK uZzib3DorEFIVdLS90sRienIClCXe5bORetpI9C9lJIRDyfz8xo2mwpdyROQjdAxqP8e 31GWryfykrMa5/O258xGNPwPYwV/LaIlHySTGOiCUOJZgKI8IdQIq8ueBiRmSCgk7XXY V7+g== X-Gm-Message-State: AOJu0YxIni27zCo86Ck4zzpmdllfr8xQMzim/Hbnogjivo/Wev1ecVRA l6ZwU3ErTFcsu6zWL0MvC+fGRPL4lOT5216oOBZ5YqJ4bomIPSQmj8mATnhvXVSj1+fALR11d+N 8jG+SnsdPQDHU+W6XnYxsRwAaO0DpAsAE5u9o9OhDFUZbebjcxvSc3poHsayY X-Gm-Gg: ASbGncs1jJiqDtBTCrA5stH2YYDueVeMDtCgDfI9Wv7QgBRJtym4DsLQeR0moTAbsS2 AorCbPU45jKzDaR59R8FgZK5OK8VJ6kdgDYuK8TDhAPzckPZiGkf4jSk9P8KDn2IEIYsOB8zdR9 tH1C3iZFWcXytwKtP00kvBCPwK3cyeeh554uGd6ZWd20/GFRlh8+bPh44uzo8dXCYwkne2fsdZR r8RL7EK6JuMU697B1cSwvsdoLqt6ZSrTfeTJCnHIFFkiDs0DaRkUt77gF4zFx0qEbml71fq9+AB xaHt6mui+7CTaPIbxlx3d03SIcVz3IiLtn8V98ZRbmcGJiw= X-Google-Smtp-Source: AGHT+IHxp0nwQgC8+iv61N3BfjpywvUF7ukoGgPkR9289J6bU2asgunDNDllkJAaRztuea6IgRHJpaZgm3HQ X-Received: by 2002:a17:903:2352:b0:234:9375:e081 with SMTP id d9443c01a7336-23c875acba5mr59161975ad.42.1751689148828; Fri, 04 Jul 2025 21:19:08 -0700 (PDT) Received: from postal.iol.unh.edu (postal.iol.unh.edu. [2606:4100:3880:1234::84]) by smtp-relay.gmail.com with ESMTPS id d9443c01a7336-23c842d10efsm1526005ad.31.2025.07.04.21.19.08 (version=TLS1_2 cipher=ECDHE-ECDSA-AES128-GCM-SHA256 bits=128/128); Fri, 04 Jul 2025 21:19:08 -0700 (PDT) X-Relaying-Domain: iol.unh.edu Date: Fri, 04 Jul 2025 21:19:08 -0700 (PDT) Message-ID: <6868a7bc.170a0220.34cb1e.82c4SMTPIN_ADDED_MISSING@mx.google.com> Received: from [172.21.0.5] (unknown [172.18.0.240]) by postal.iol.unh.edu (Postfix) with ESMTP id 4F8FA6050A61; Sat, 5 Jul 2025 00:19:08 -0400 (EDT) Subject: |SUCCESS| pw155012-155013 [PATCH] [v2,2/2] dts: add generic blocking From: dpdklab@iol.unh.edu To: Test Report Cc: dpdk-test-reports@iol.unh.edu In-Reply-To: <20250704152908.683265-3-luca.vizzarro@arm.com> References: <20250704152908.683265-3-luca.vizzarro@arm.com> Content-Type: text/plain X-BeenThere: test-report@dpdk.org X-Mailman-Version: 2.1.29 Precedence: list List-Id: automatic DPDK test reports List-Unsubscribe: , List-Archive: List-Post: List-Help: List-Subscribe: , Errors-To: test-report-bounces@dpdk.org Test-Label: iol-abi-testing Test-Status: SUCCESS http://dpdk.org/patch/155013 _Testing PASS_ Submitter: Luca Vizzarro Date: Friday, July 04 2025 15:29:08 DPDK git baseline: Repo:dpdk Branch: master CommitID:31ba785774d258d4c57b68dabdf544e575f3af83 155012-155013 --> testing pass Upstream job id: Generic-DPDK-Compile-ABI#133138 Test environment and result as below: +-------------------------------+----------+ | Environment | abi_test | +===============================+==========+ | CentOS Stream 10 | PASS | +-------------------------------+----------+ | CentOS Stream 9 | PASS | +-------------------------------+----------+ | Fedora Linux 40 | PASS | +-------------------------------+----------+ | Fedora Linux 41 | PASS | +-------------------------------+----------+ | Debian GNU/Linux 12 | PASS | +-------------------------------+----------+ | openSUSE Leap 15.6 | PASS | +-------------------------------+----------+ | Red Hat Enterprise Linux 8.10 | PASS | +-------------------------------+----------+ | Red Hat Enterprise Linux 9.5 | PASS | +-------------------------------+----------+ | Ubuntu 22.04 | PASS | +-------------------------------+----------+ | Ubuntu 24.04 | PASS | +-------------------------------+----------+ CentOS Stream 10 Kernel: 5.15 Compiler: gcc gcc (GCC) 14.2.1 20250110 (Red Hat 14.2.1-8) CentOS Stream 9 Kernel: 5.15 Compiler: gcc gcc (GCC) 11.5.0 20240719 (Red Hat 11.5.0-7) Fedora Linux 40 Kernel: 5.15 Compiler: clang gcc (GCC) 14.2.1 20240912 (Red Hat 14.2.1-3) Fedora Linux 41 Kernel: 5.15 Compiler: clang gcc (GCC) 14.3.1 20250523 (Red Hat 14.3.1-1) Debian GNU/Linux 12 Kernel: 5.15 Compiler: gcc gcc (Debian 12.2.0-14+deb12u1) 12.2.0 openSUSE Leap 15.6 Kernel: 5.15 Compiler: gcc gcc (SUSE Linux) 7.5.0 Red Hat Enterprise Linux 8.10 Kernel: 5.15 Compiler: gcc gcc (GCC) 8.5.0 20210514 (Red Hat 8.5.0-22) Red Hat Enterprise Linux 9.5 Kernel: 5.15 Compiler: gcc gcc (GCC) 11.5.0 20240719 (Red Hat 11.5.0-2) Ubuntu 22.04 Kernel: 5.15 Compiler: gcc gcc (Ubuntu 11.4.0-1ubuntu1~22.04) 11.4.0 Ubuntu 24.04 Kernel: 5.15 Compiler: gcc gcc (Ubuntu 13.3.0-6ubuntu2~24.04) 13.3.0 To view detailed results, visit: https://lab.dpdk.org/results/dashboard/patchsets/33595/ UNH-IOL DPDK Community Lab To manage your email subscriptions, visit: https://lab.dpdk.org/results/dashboard/preferences/subscriptions/