From mboxrd@z Thu Jan 1 00:00:00 1970 Return-Path: Received: from mails.dpdk.org (mails.dpdk.org [217.70.189.124]) by inbox.dpdk.org (Postfix) with ESMTP id 1327E46AF2 for ; Sat, 5 Jul 2025 06:19:35 +0200 (CEST) Received: from mails.dpdk.org (localhost [127.0.0.1]) by mails.dpdk.org (Postfix) with ESMTP id 0D92D40287; Sat, 5 Jul 2025 06:19:35 +0200 (CEST) Received: from mail-oo1-f97.google.com (mail-oo1-f97.google.com [209.85.161.97]) by mails.dpdk.org (Postfix) with ESMTP id DA35440287 for ; Sat, 5 Jul 2025 06:19:33 +0200 (CEST) Received: by mail-oo1-f97.google.com with SMTP id 006d021491bc7-6120049f09fso895212eaf.2 for ; Fri, 04 Jul 2025 21:19:33 -0700 (PDT) DKIM-Signature: v=1; a=rsa-sha256; c=relaxed/relaxed; d=iol.unh.edu; s=unh-iol; t=1751689173; x=1752293973; darn=dpdk.org; h=references:in-reply-to:cc:to:from:subject:message-id:date:from:to :cc:subject:date:message-id:reply-to; bh=AppbFQTURwjALMirHeVYJsU4cVJC2DOJ4DAU3vjb3jQ=; b=cQo77NV+X8+wpdGtaWmyPsmAI0hz1D1ejQ4p6sstH6RwcyizQ9dhWj7p/8ahqtrv7d dikaqOE4nyeyLnOcmmwA4jMLOnjwxyf8P2fXnxofFthGmH1xI4r1A9HeW/+Ln2fYqf2m 2qGowNR+6t4SO/IeP9HF0OPvo/XTgflLiAvDA= X-Google-DKIM-Signature: v=1; a=rsa-sha256; c=relaxed/relaxed; d=1e100.net; s=20230601; t=1751689173; x=1752293973; h=references:in-reply-to:cc:to:from:subject:message-id:date :x-gm-message-state:from:to:cc:subject:date:message-id:reply-to; bh=AppbFQTURwjALMirHeVYJsU4cVJC2DOJ4DAU3vjb3jQ=; b=XBo2bIcojBaiaKoe4WLvUhWY2JBbXrb8x0A7sX6heHb3WWf7I7LAyq/Y1bZdmIbtbz N8phO5El1MJYV4jDvQD5JHQUVd/HhbemYbLD9nIDlKGCSsTQQvuK0igCj8eKy4zAGqXk 2fKqk41K8QEu03Le9Fa7IY0B+n3LluWbiyrKZaWC7Ei9b+/Nn/m6Szw0MM0ark0cLZI8 5Q4Fzxl1p85xaEzKoEdinPhVv0RvFJ/MMznWb2ic2pqSVO2fx7XQcGd/JoKR1ZHNyxEx IxpofZjCYNXnnVpL2/fdzGbnmeZ+JQUZYqWxNT0OuYHFCE9ciGXoT1I3k0yDyz2PTMyp R4Jw== X-Gm-Message-State: AOJu0YzqXRiQxKJ8f1GvgqlcLpu9mTspQAALSNt2d/jEr7glwYfWb3X+ phVhL8U85lkTlkDcd9pBAaUpedYGv/Yb9WPfPjfdDF7lP8Q5ERR6btVOCqbOzF+yCYmydgXqPBM jXLLIcnABh0KaxvFbxRoNSKrHAdGaE8pF3lBzT1jdOyW+ X-Gm-Gg: ASbGnct2m/Y4N6FhcPTmR5VXjOv7gycftAKgoybWP1vXTVrbipMWL4KYdBgxKgBqTi7 hYUdrLpO9EMZF98SukBD6Cdx+TYR4OgueaBPshUC1EAn3VXRuVcfVbMXz02ROJKjtpVEpdpQOIf cMmu12lzEFSl80HHTkHe2+gxego6i6GejRS4sGjkHgZ3qebtxdU6/dAjaYXdQPW9aScGUxaHsPn w4PLAIvfNW44Bbqta5Xu9F/Pi9ls+V4rgCq1k0M7AM/9teFm2O+M7VJsvjIbDzD3DlsXb4bViDn kCvVN2+LC57i7YJ9tuyxCeUZTBpyk7QMMvRCVD/bg87s/EPVtGku7OwbL+zuA7V12NeELw== X-Google-Smtp-Source: AGHT+IF+tdObuTJeF3tz3EbuRjtBmIBb6rV3tXHNwlBpH/6FufSQn8QStLjzs0fjbszBotkQeRTHg3PzOaEb X-Received: by 2002:a05:6870:c350:b0:2bc:883f:3dc8 with SMTP id 586e51a60fabf-2f796d6034cmr3353528fac.34.1751689173012; Fri, 04 Jul 2025 21:19:33 -0700 (PDT) Received: from postal.iol.unh.edu (postal.iol.unh.edu. [132.177.123.84]) by smtp-relay.gmail.com with ESMTPS id 586e51a60fabf-2f78fea9862sm193837fac.17.2025.07.04.21.19.32 (version=TLS1_2 cipher=ECDHE-ECDSA-AES128-GCM-SHA256 bits=128/128); Fri, 04 Jul 2025 21:19:33 -0700 (PDT) X-Relaying-Domain: iol.unh.edu Date: Fri, 04 Jul 2025 21:19:33 -0700 (PDT) Message-ID: <6868a7d5.050a0220.119bb5.a542SMTPIN_ADDED_MISSING@mx.google.com> Received: from [172.21.0.7] (unknown [172.18.0.240]) by postal.iol.unh.edu (Postfix) with ESMTP id 7D3F46050A61; Sat, 5 Jul 2025 00:19:32 -0400 (EDT) Subject: |SUCCESS| pw155012-155013 [PATCH] [v2,2/2] dts: add generic blocking From: dpdklab@iol.unh.edu To: Test Report Cc: dpdk-test-reports@iol.unh.edu In-Reply-To: <20250704152908.683265-3-luca.vizzarro@arm.com> References: <20250704152908.683265-3-luca.vizzarro@arm.com> Content-Type: text/plain X-BeenThere: test-report@dpdk.org X-Mailman-Version: 2.1.29 Precedence: list List-Id: automatic DPDK test reports List-Unsubscribe: , List-Archive: List-Post: List-Help: List-Subscribe: , Errors-To: test-report-bounces@dpdk.org Test-Label: iol-abi-testing Test-Status: SUCCESS http://dpdk.org/patch/155013 _Testing PASS_ Submitter: Luca Vizzarro Date: Friday, July 04 2025 15:29:08 DPDK git baseline: Repo:dpdk Branch: master CommitID:31ba785774d258d4c57b68dabdf544e575f3af83 155012-155013 --> testing pass Upstream job id: Generic-DPDK-Compile-ABI#133140 Test environment and result as below: +-------------------------------+----------+ | Environment | abi_test | +===============================+==========+ | CentOS Stream 10 | PASS | +-------------------------------+----------+ | CentOS Stream 9 | PASS | +-------------------------------+----------+ | Fedora Linux 40 | PASS | +-------------------------------+----------+ | Fedora Linux 41 | PASS | +-------------------------------+----------+ | Debian GNU/Linux 12 | PASS | +-------------------------------+----------+ | openSUSE Leap 15.6 | PASS | +-------------------------------+----------+ | Red Hat Enterprise Linux 8.10 | PASS | +-------------------------------+----------+ | Red Hat Enterprise Linux 9.5 | PASS | +-------------------------------+----------+ | Ubuntu 22.04 | PASS | +-------------------------------+----------+ | Ubuntu 24.04 | PASS | +-------------------------------+----------+ CentOS Stream 10 Kernel: 5.15 Compiler: gcc gcc (GCC) 14.2.1 20250110 (Red Hat 14.2.1-8) CentOS Stream 9 Kernel: 5.15 Compiler: gcc gcc (GCC) 11.5.0 20240719 (Red Hat 11.5.0-7) Fedora Linux 40 Kernel: 5.15 Compiler: clang gcc (GCC) 14.2.1 20240912 (Red Hat 14.2.1-3) Fedora Linux 41 Kernel: 5.15 Compiler: clang gcc (GCC) 14.3.1 20250523 (Red Hat 14.3.1-1) Debian GNU/Linux 12 Kernel: 5.15 Compiler: gcc gcc (Debian 12.2.0-14+deb12u1) 12.2.0 openSUSE Leap 15.6 Kernel: 5.15 Compiler: gcc gcc (SUSE Linux) 7.5.0 Red Hat Enterprise Linux 8.10 Kernel: 5.15 Compiler: gcc gcc (GCC) 8.5.0 20210514 (Red Hat 8.5.0-22) Red Hat Enterprise Linux 9.5 Kernel: 5.15 Compiler: gcc gcc (GCC) 11.5.0 20240719 (Red Hat 11.5.0-2) Ubuntu 22.04 Kernel: 5.15 Compiler: gcc gcc (Ubuntu 11.4.0-1ubuntu1~22.04) 11.4.0 Ubuntu 24.04 Kernel: 5.15 Compiler: gcc gcc (Ubuntu 13.3.0-6ubuntu2~24.04) 13.3.0 To view detailed results, visit: https://lab.dpdk.org/results/dashboard/patchsets/33595/ UNH-IOL DPDK Community Lab To manage your email subscriptions, visit: https://lab.dpdk.org/results/dashboard/preferences/subscriptions/