From mboxrd@z Thu Jan 1 00:00:00 1970 Return-Path: Received: from mails.dpdk.org (mails.dpdk.org [217.70.189.124]) by inbox.dpdk.org (Postfix) with ESMTP id 20B9F46AF2 for ; Sat, 5 Jul 2025 06:19:49 +0200 (CEST) Received: from mails.dpdk.org (localhost [127.0.0.1]) by mails.dpdk.org (Postfix) with ESMTP id 1B7B740287; Sat, 5 Jul 2025 06:19:49 +0200 (CEST) Received: from mail-yw1-f228.google.com (mail-yw1-f228.google.com [209.85.128.228]) by mails.dpdk.org (Postfix) with ESMTP id 5D13640287 for ; Sat, 5 Jul 2025 06:19:47 +0200 (CEST) Received: by mail-yw1-f228.google.com with SMTP id 00721157ae682-70e767ce72eso13432847b3.1 for ; Fri, 04 Jul 2025 21:19:47 -0700 (PDT) DKIM-Signature: v=1; a=rsa-sha256; c=relaxed/relaxed; d=iol.unh.edu; s=unh-iol; t=1751689186; x=1752293986; darn=dpdk.org; h=references:in-reply-to:cc:to:from:subject:message-id:date:from:to :cc:subject:date:message-id:reply-to; bh=KOHENYmKn8lwkoyQ9j7bK2LeDCriMaB2PH3gYe9NTmM=; b=QUAB+fSd5o2LRfwCkLJVrgqXZFmunlrQ+KEt5XLjFm9pfN72Upg7fvmf7k2hG2f3/f Lhmk+zOcmOVew4QBcAaUN2uLpXUwTOK/trFOBFxfbC5QQsbIqz0TLzwcdTWTgiKPrcnq Wutwzt3BmfPAnSZsKxPJmPXagBwIt4FbzU2eg= X-Google-DKIM-Signature: v=1; a=rsa-sha256; c=relaxed/relaxed; d=1e100.net; s=20230601; t=1751689186; x=1752293986; h=references:in-reply-to:cc:to:from:subject:message-id:date :x-gm-message-state:from:to:cc:subject:date:message-id:reply-to; bh=KOHENYmKn8lwkoyQ9j7bK2LeDCriMaB2PH3gYe9NTmM=; b=vCXqOFUXSMq44+KPWviISC8m/cqp+h4tNRVzCyaAATXMAhgVXeBy9mkJ/S8UNP7ykT hxcG0Vum+xEh5ScCCjbIj+zvhQQEL2nE1qvb44mmJeZpaZ+XKcNrTI1+qjYbbmUHh64a XVm6UZFgm24vfEHdN0HD81+aHEJYf16EHaxGA1OMdWBGFW+azEBmAcICu2NItitC9U/1 lF7iObUWaeLq+NSgKpq6tzJs+fIBCuFkv5aojFgVqnMj1B8JfihZ9cRVm/jch4G0Ba1w naPRXNDJNjgcsYdK4iOAzj4uCKRUVMW6LEyd4pY87tgzPYb98dzxttl2HLzAB2lVGizx URFw== X-Gm-Message-State: AOJu0YyZlSStP6IO0p0pm8L0H4gF4xX/XcTPrZZPbTnRLKwOXjrWAIUd W6+O60YSBq7dmm7iitP/LK4PqH7HObqE1A2K5xdVFJGr7ArX7eapP+ZL4a1YqKbtS5jA52bvApU zwUTGqsIGVdmjelSUx5pFQD+k2xxCt/47ew5eEsHL8/Ae X-Gm-Gg: ASbGnctTdmKBjnKODgu13xusdpvZZc9NqTd+1vg25KbeFRtaJv9iEpZQX3n+oCvr0IJ /F+haXBKt8h0WTYoaFlipIXHyGKOOzoDSwRSGtwYLi4wtTrRDG6nPVT2rcA9KTmT54YS0HyaB7j rv/2Sb3rpHoqFbLunGFgDSEDDAcDA3ICFHtR/a/rqeYewZzXrYxlKJsQ0YOhyQYT7QqmJCEfX5y GNXgnHtrfX48ETKTXSbZb6T9M8ZXXgHtJrhqQ8yReOyETEv+iL6PF1bzY3yFgHkDVcIdvpAXgVC qTQVnO/iF5irPAdmJZM+KRXV9PkWB3qeC57DBHGzTCN1GmRTXOIpWQ3RAVpdZucHhxkpEw== X-Google-Smtp-Source: AGHT+IHJjktI74r9qLerywkfwDFf/J3YZfrB0Q+fT8H/wLp+lKUPjtCiOJG4UF57fGKLBysN9sUgRnNWoN7M X-Received: by 2002:a05:690c:2504:b0:712:c55c:4e49 with SMTP id 00721157ae682-71668e58c2emr64210717b3.34.1751689186685; Fri, 04 Jul 2025 21:19:46 -0700 (PDT) Received: from postal.iol.unh.edu (postal.iol.unh.edu. [132.177.123.84]) by smtp-relay.gmail.com with ESMTPS id 00721157ae682-716659d5800sm1054197b3.28.2025.07.04.21.19.46 (version=TLS1_2 cipher=ECDHE-ECDSA-AES128-GCM-SHA256 bits=128/128); Fri, 04 Jul 2025 21:19:46 -0700 (PDT) X-Relaying-Domain: iol.unh.edu Date: Fri, 04 Jul 2025 21:19:46 -0700 (PDT) Message-ID: <6868a7e2.050a0220.1ad590.6a83SMTPIN_ADDED_MISSING@mx.google.com> Received: from [172.21.0.8] (unknown [172.18.0.240]) by postal.iol.unh.edu (Postfix) with ESMTP id 59E0D6050A61; Sat, 5 Jul 2025 00:19:46 -0400 (EDT) Subject: |SUCCESS| pw155012-155013 [PATCH] [v2,2/2] dts: add generic blocking From: dpdklab@iol.unh.edu To: Test Report Cc: dpdk-test-reports@iol.unh.edu In-Reply-To: <20250704152908.683265-3-luca.vizzarro@arm.com> References: <20250704152908.683265-3-luca.vizzarro@arm.com> Content-Type: text/plain X-BeenThere: test-report@dpdk.org X-Mailman-Version: 2.1.29 Precedence: list List-Id: automatic DPDK test reports List-Unsubscribe: , List-Archive: List-Post: List-Help: List-Subscribe: , Errors-To: test-report-bounces@dpdk.org Test-Label: iol-abi-testing Test-Status: SUCCESS http://dpdk.org/patch/155013 _Testing PASS_ Submitter: Luca Vizzarro Date: Friday, July 04 2025 15:29:08 DPDK git baseline: Repo:dpdk Branch: master CommitID:31ba785774d258d4c57b68dabdf544e575f3af83 155012-155013 --> testing pass Upstream job id: Generic-DPDK-Compile-ABI#133135 Test environment and result as below: +-------------------------------+----------+ | Environment | abi_test | +===============================+==========+ | CentOS Stream 10 | PASS | +-------------------------------+----------+ | CentOS Stream 9 | PASS | +-------------------------------+----------+ | Fedora Linux 40 | PASS | +-------------------------------+----------+ | Fedora Linux 41 | PASS | +-------------------------------+----------+ | Debian GNU/Linux 12 | PASS | +-------------------------------+----------+ | openSUSE Leap 15.6 | PASS | +-------------------------------+----------+ | Red Hat Enterprise Linux 8.10 | PASS | +-------------------------------+----------+ | Red Hat Enterprise Linux 9.5 | PASS | +-------------------------------+----------+ | Ubuntu 22.04 | PASS | +-------------------------------+----------+ | Ubuntu 24.04 | PASS | +-------------------------------+----------+ CentOS Stream 10 Kernel: 5.15 Compiler: gcc gcc (GCC) 14.2.1 20250110 (Red Hat 14.2.1-8) CentOS Stream 9 Kernel: 5.15 Compiler: gcc gcc (GCC) 11.5.0 20240719 (Red Hat 11.5.0-7) Fedora Linux 40 Kernel: 5.15 Compiler: clang gcc (GCC) 14.2.1 20240912 (Red Hat 14.2.1-3) Fedora Linux 41 Kernel: 5.15 Compiler: clang gcc (GCC) 14.3.1 20250523 (Red Hat 14.3.1-1) Debian GNU/Linux 12 Kernel: 5.15 Compiler: gcc gcc (Debian 12.2.0-14+deb12u1) 12.2.0 openSUSE Leap 15.6 Kernel: 5.15 Compiler: gcc gcc (SUSE Linux) 7.5.0 Red Hat Enterprise Linux 8.10 Kernel: 5.15 Compiler: gcc gcc (GCC) 8.5.0 20210514 (Red Hat 8.5.0-22) Red Hat Enterprise Linux 9.5 Kernel: 5.15 Compiler: gcc gcc (GCC) 11.5.0 20240719 (Red Hat 11.5.0-2) Ubuntu 22.04 Kernel: 5.15 Compiler: gcc gcc (Ubuntu 11.4.0-1ubuntu1~22.04) 11.4.0 Ubuntu 24.04 Kernel: 5.15 Compiler: gcc gcc (Ubuntu 13.3.0-6ubuntu2~24.04) 13.3.0 To view detailed results, visit: https://lab.dpdk.org/results/dashboard/patchsets/33595/ UNH-IOL DPDK Community Lab To manage your email subscriptions, visit: https://lab.dpdk.org/results/dashboard/preferences/subscriptions/