From mboxrd@z Thu Jan 1 00:00:00 1970 Return-Path: Received: from mails.dpdk.org (mails.dpdk.org [217.70.189.124]) by inbox.dpdk.org (Postfix) with ESMTP id 2C9B646AF2 for ; Sat, 5 Jul 2025 06:19:58 +0200 (CEST) Received: from mails.dpdk.org (localhost [127.0.0.1]) by mails.dpdk.org (Postfix) with ESMTP id 26FAA40287; Sat, 5 Jul 2025 06:19:58 +0200 (CEST) Received: from mail-oa1-f100.google.com (mail-oa1-f100.google.com [209.85.160.100]) by mails.dpdk.org (Postfix) with ESMTP id 9769840287 for ; Sat, 5 Jul 2025 06:19:56 +0200 (CEST) Received: by mail-oa1-f100.google.com with SMTP id 586e51a60fabf-2efa219b5bbso457096fac.0 for ; Fri, 04 Jul 2025 21:19:56 -0700 (PDT) DKIM-Signature: v=1; a=rsa-sha256; c=relaxed/relaxed; d=iol.unh.edu; s=unh-iol; t=1751689196; x=1752293996; darn=dpdk.org; h=references:in-reply-to:cc:to:from:subject:message-id:date:from:to :cc:subject:date:message-id:reply-to; bh=d50fd/DeN9D6Y5xn9EvkyYsgqXFEw1gD5BKKQ7FEM9c=; b=DPpAUVSaA89RpXtU5XGKntEoFn8RKdDyySzQqO9tJG/8zDE/5mTf4KCjiguWKxXjqL zm+0FjT2sWOB3XvePY9JtU1V68lDw1LjXavfyB1OtMliLf877ltE81OqaiNJlFpTc+i5 xcfrv7tF/MH+wHHu3175vsj0yKlbBbBtgVY1o= X-Google-DKIM-Signature: v=1; a=rsa-sha256; c=relaxed/relaxed; d=1e100.net; s=20230601; t=1751689196; x=1752293996; h=references:in-reply-to:cc:to:from:subject:message-id:date :x-gm-message-state:from:to:cc:subject:date:message-id:reply-to; bh=d50fd/DeN9D6Y5xn9EvkyYsgqXFEw1gD5BKKQ7FEM9c=; b=DkzuaAE60O4nmZOg4SZ9Bt3wNL930ET2jwSoIsO6wmneYNfVJ7mimHDN+PQHN2ST3D y4kYokrjKPxQfQu6vqmeR+cUIyxPuYf7Rzt3mJacUggRpNclZxMeoSddB9Awb8m2C+NX UhVepkrT6686TnOV79c6xsB1hoHNMm3FgP5bLB5blZFMx3D6Fk+aanEWbLhJO9U7d4Mo 77ERzdQZYNJqxI5TAabhIfR/z3+evtajVsgn5okdNAtWYUxIdhPZYfUj+ejpUT46jfww aEU8PMY4ht+gWHyaoeyV1ixqV1vALO21EqIUVfeio33HPW5oeSvqiRolDZXUZyCZGPqY riRA== X-Gm-Message-State: AOJu0YwTentxiWjHP+aeM5PfBQ7GEPQ7RNH9WZ2TsPNkhafcO55N55iu LUEwmKD4Rm8QDBAiLzJLsreaaYbtiP+0yPu/bn78KCxKabXtYC2P9Ne/DrMQ8snzz3hGuLOI+1o E5rlrFKHUVw8lu/Zly2ErhG3Od5mpCOei6rGco8KhG43DNKhgnM7rmM69BCS1 X-Gm-Gg: ASbGncs4zT7fep/e3U8CiE1MLXtKrHZC5YfF7zFOegDNa0aAypUxJnnDnu8Pd7bauG7 2Cmf4Jv0N9Vc+70OZZ8mITwvNcKQofVTYvSfzlcGQEskPZP/bV4/5/Wcjub3XixAeokDP/xIP9x jBxm/IaypxkMMYI/9+y/Gkx+3XKYzV/c1My8+KmyTF/cLRhPcwxPTGXIWsdzxPF0rd2Vxn9LdYM +AK5rTCtzBaOd4TqCm0sH8EEO3IUBmojJVffMjJcPx9Kfm+gW50BXvHtcfm7ErLR/TpkgeUdhT+ QU0W3nuV+L2tfd8AK4UqZlKtYA+7bf5ymQrc9vgy3LL39d0= X-Google-Smtp-Source: AGHT+IF20p5lBfAmqU8T0N7gQQhe90XVYvjpAVA/xPuuCw30gzjMZCVCmnXRewbXIDAR5AjM1ZMjez9WWn+1 X-Received: by 2002:a05:6871:546:b0:2b7:7abf:df6b with SMTP id 586e51a60fabf-2f792006ba3mr4378341fac.26.1751689195824; Fri, 04 Jul 2025 21:19:55 -0700 (PDT) Received: from postal.iol.unh.edu (postal.iol.unh.edu. [2606:4100:3880:1234::84]) by smtp-relay.gmail.com with ESMTPS id 586e51a60fabf-2f7900505fasm212066fac.20.2025.07.04.21.19.55 (version=TLS1_2 cipher=ECDHE-ECDSA-AES128-GCM-SHA256 bits=128/128); Fri, 04 Jul 2025 21:19:55 -0700 (PDT) X-Relaying-Domain: iol.unh.edu Date: Fri, 04 Jul 2025 21:19:55 -0700 (PDT) Message-ID: <6868a7eb.050a0220.31df67.c7acSMTPIN_ADDED_MISSING@mx.google.com> Received: from [172.21.0.10] (unknown [172.18.0.240]) by postal.iol.unh.edu (Postfix) with ESMTP id 52E496050A61; Sat, 5 Jul 2025 00:19:55 -0400 (EDT) Subject: |SUCCESS| pw155012-155013 [PATCH] [v2,2/2] dts: add generic blocking From: dpdklab@iol.unh.edu To: Test Report Cc: dpdk-test-reports@iol.unh.edu In-Reply-To: <20250704152908.683265-3-luca.vizzarro@arm.com> References: <20250704152908.683265-3-luca.vizzarro@arm.com> Content-Type: text/plain X-BeenThere: test-report@dpdk.org X-Mailman-Version: 2.1.29 Precedence: list List-Id: automatic DPDK test reports List-Unsubscribe: , List-Archive: List-Post: List-Help: List-Subscribe: , Errors-To: test-report-bounces@dpdk.org Test-Label: iol-abi-testing Test-Status: SUCCESS http://dpdk.org/patch/155013 _Testing PASS_ Submitter: Luca Vizzarro Date: Friday, July 04 2025 15:29:08 DPDK git baseline: Repo:dpdk Branch: master CommitID:31ba785774d258d4c57b68dabdf544e575f3af83 155012-155013 --> testing pass Upstream job id: Generic-DPDK-Compile-ABI#133139 Test environment and result as below: +-------------------------------+----------+ | Environment | abi_test | +===============================+==========+ | CentOS Stream 10 | PASS | +-------------------------------+----------+ | CentOS Stream 9 | PASS | +-------------------------------+----------+ | Fedora Linux 40 | PASS | +-------------------------------+----------+ | Fedora Linux 41 | PASS | +-------------------------------+----------+ | Debian GNU/Linux 12 | PASS | +-------------------------------+----------+ | openSUSE Leap 15.6 | PASS | +-------------------------------+----------+ | Red Hat Enterprise Linux 8.10 | PASS | +-------------------------------+----------+ | Red Hat Enterprise Linux 9.5 | PASS | +-------------------------------+----------+ | Ubuntu 22.04 | PASS | +-------------------------------+----------+ | Ubuntu 24.04 | PASS | +-------------------------------+----------+ CentOS Stream 10 Kernel: 5.15 Compiler: gcc gcc (GCC) 14.2.1 20250110 (Red Hat 14.2.1-8) CentOS Stream 9 Kernel: 5.15 Compiler: gcc gcc (GCC) 11.5.0 20240719 (Red Hat 11.5.0-7) Fedora Linux 40 Kernel: 5.15 Compiler: clang gcc (GCC) 14.2.1 20240912 (Red Hat 14.2.1-3) Fedora Linux 41 Kernel: 5.15 Compiler: clang gcc (GCC) 14.3.1 20250523 (Red Hat 14.3.1-1) Debian GNU/Linux 12 Kernel: 5.15 Compiler: gcc gcc (Debian 12.2.0-14+deb12u1) 12.2.0 openSUSE Leap 15.6 Kernel: 5.15 Compiler: gcc gcc (SUSE Linux) 7.5.0 Red Hat Enterprise Linux 8.10 Kernel: 5.15 Compiler: gcc gcc (GCC) 8.5.0 20210514 (Red Hat 8.5.0-22) Red Hat Enterprise Linux 9.5 Kernel: 5.15 Compiler: gcc gcc (GCC) 11.5.0 20240719 (Red Hat 11.5.0-2) Ubuntu 22.04 Kernel: 5.15 Compiler: gcc gcc (Ubuntu 11.4.0-1ubuntu1~22.04) 11.4.0 Ubuntu 24.04 Kernel: 5.15 Compiler: gcc gcc (Ubuntu 13.3.0-6ubuntu2~24.04) 13.3.0 To view detailed results, visit: https://lab.dpdk.org/results/dashboard/patchsets/33595/ UNH-IOL DPDK Community Lab To manage your email subscriptions, visit: https://lab.dpdk.org/results/dashboard/preferences/subscriptions/