From mboxrd@z Thu Jan 1 00:00:00 1970 Return-Path: Received: from mails.dpdk.org (mails.dpdk.org [217.70.189.124]) by inbox.dpdk.org (Postfix) with ESMTP id 67ADF46AF2 for ; Sat, 5 Jul 2025 06:21:16 +0200 (CEST) Received: from mails.dpdk.org (localhost [127.0.0.1]) by mails.dpdk.org (Postfix) with ESMTP id 5C66840287; Sat, 5 Jul 2025 06:21:16 +0200 (CEST) Received: from mail-pg1-f225.google.com (mail-pg1-f225.google.com [209.85.215.225]) by mails.dpdk.org (Postfix) with ESMTP id 9E18140287 for ; Sat, 5 Jul 2025 06:21:14 +0200 (CEST) Received: by mail-pg1-f225.google.com with SMTP id 41be03b00d2f7-b34ab678931so1022249a12.0 for ; Fri, 04 Jul 2025 21:21:14 -0700 (PDT) DKIM-Signature: v=1; a=rsa-sha256; c=relaxed/relaxed; d=iol.unh.edu; s=unh-iol; t=1751689274; x=1752294074; darn=dpdk.org; h=references:in-reply-to:cc:to:from:subject:message-id:date:from:to :cc:subject:date:message-id:reply-to; bh=RV5bY3eNM601gpM0YsWv6Nhwpt36MeV+WdKs18oBpbY=; b=ffJqRgqBXCj2mWtFlupXD+lQ2yUddNFqBkV+mkeEjMUrwTmgLowcwkcuxZ4qjEJ9X3 i0Kf3FYhxndy8c0DiJiomHfxX+WGwyYD2uMZ6WUUS3ImkjJHd02Y4vqD3uqm5sxRG6Zu CrKn2tur+h9ucVWkoI9hsIImug/D5qOL8H6b0= X-Google-DKIM-Signature: v=1; a=rsa-sha256; c=relaxed/relaxed; d=1e100.net; s=20230601; t=1751689274; x=1752294074; h=references:in-reply-to:cc:to:from:subject:message-id:date :x-gm-message-state:from:to:cc:subject:date:message-id:reply-to; bh=RV5bY3eNM601gpM0YsWv6Nhwpt36MeV+WdKs18oBpbY=; b=f4g8AOCjA901XDPDocMl04qa1mqCSLeSB5pr/Ht9OpclpinHXtca11mc9SAQBFyx/U +ynpuGcTyoRWG8to++ldLgb9RnscmQQRINSvuj3ZIJaq0YR/rS8Ts7Ql7Vo7ujFa7N2Y 9oltFmCav2zrCoUkrnxOtAr/4aEj6ukKnahoieyW72JFM9+wZMz+f+CHZ2JT6DeMXm4Q KJM5rUIOjOEBhpRx/i9nnKkpnriEAbXMpuBx1SUHERaCCiOECGDpg4iZOFIWaTlS1NLO TO+r8MB/3cmcyGsh/vOyfe/lp6jdN6r4RFkOHnMh6XL+dBLOoIwma0X8mhUBgsV8J24i Ekhg== X-Gm-Message-State: AOJu0YxAZtLU3sqPm561Zxhbk6Otf+1pyZbp53GKLx7gLmoKPnD2S8Mf 26kimPmmCukxKbAubLEJowXwzsNMGFKvLQhsKKAIBTazb2px5rYqu5Wd4f728Ez1C0X0uDkvsq4 Rk6eldNZ4rCvqcIPL+rKpPXs5rtl2K9cStJNZ9zUi76Kq X-Gm-Gg: ASbGncv174MGNhJ/8GL2JbnX2oG0ULsMbYIgWAa/qYgFwc43uFSVlJ5+cBHHlwW1JsR 6eF9WH2qfrzKqL0iA/uqiWoOXL8/039SWoXA4lkbrDFHleR/OmcoJ40PtHgZ1epZqZtsbiBjBz1 TnYOfyA2H6ioT4kBHB7UFDJRkylnvVCt0hoapkFmCuSaEwKeY30A2uXxRY3GvqFiaugnvHXVxbr SpnUoNciFx26N8+SSVet6T352y1zexHOw0cejxauAea4erPx05PV509wwPMfwlX9ygoGXMGWpml X4r20v0ffMQ2Db6147D49EdBj+N1CwJ4vL3ofOCZX/1kpbH59TEAJ7yFPD9G0ye9At6NcQ== X-Google-Smtp-Source: AGHT+IGHf0qksRljM/G9yUpqAunskkKGJ4a03pRkR/ZfLSSzkGg2HxAuIAFpS5sk+GQUEzogx+TCoE0Qcpr2 X-Received: by 2002:a17:902:d48f:b0:235:91a:31 with SMTP id d9443c01a7336-23c90f36f9cmr13289815ad.8.1751689273732; Fri, 04 Jul 2025 21:21:13 -0700 (PDT) Received: from postal.iol.unh.edu (postal.iol.unh.edu. [132.177.123.84]) by smtp-relay.gmail.com with ESMTPS id d9443c01a7336-23c844e0a16sm1575145ad.67.2025.07.04.21.21.13 (version=TLS1_2 cipher=ECDHE-ECDSA-AES128-GCM-SHA256 bits=128/128); Fri, 04 Jul 2025 21:21:13 -0700 (PDT) X-Relaying-Domain: iol.unh.edu Date: Fri, 04 Jul 2025 21:21:13 -0700 (PDT) Message-ID: <6868a839.170a0220.33c407.87aaSMTPIN_ADDED_MISSING@mx.google.com> Received: from [172.21.0.5] (unknown [172.18.0.240]) by postal.iol.unh.edu (Postfix) with ESMTP id EAB536051830; Sat, 5 Jul 2025 00:21:12 -0400 (EDT) Subject: |WARNING| pw154921-154923 [PATCH] [v2,5/5] riscv: override machine_a From: dpdklab@iol.unh.edu To: Test Report Cc: dpdk-test-reports@iol.unh.edu In-Reply-To: References: Content-Type: text/plain X-BeenThere: test-report@dpdk.org X-Mailman-Version: 2.1.29 Precedence: list List-Id: automatic DPDK test reports List-Unsubscribe: , List-Archive: List-Post: List-Help: List-Subscribe: , Errors-To: test-report-bounces@dpdk.org Test-Label: iol-compile-amd64-testing Test-Status: WARNING http://dpdk.org/patch/154923 _Testing issues_ Submitter: None Date: Tuesday, July 01 2025 18:20:33 DPDK git baseline: Repo:dpdk Branch: master CommitID:70c2297528e7c7789af452f78de1932e9a20c8a2 154921-154923 --> testing issues Upstream job id: Generic-DPDK-Compile-Meson#405492 Test environment and result as below: +-------------------------------+--------------------+-------------------+-------------------------+----------------------+-------------------+------------------+ | Environment | dpdk_meson_compile | dpdk_msvc_compile | dpdk_llvm_clang_compile | dpdk_mingw64_compile | dpdk_compile_spdk | dpdk_compile_ovs | +===============================+====================+===================+=========================+======================+===================+==================+ | Ubuntu 20.04 | PEND | SKIPPED | SKIPPED | SKIPPED | SKIPPED | SKIPPED | +-------------------------------+--------------------+-------------------+-------------------------+----------------------+-------------------+------------------+ | CentOS Stream 9 | PASS | SKIPPED | SKIPPED | SKIPPED | PASS | SKIPPED | +-------------------------------+--------------------+-------------------+-------------------------+----------------------+-------------------+------------------+ | CentOS Stream 10 | PASS | SKIPPED | SKIPPED | SKIPPED | SKIPPED | SKIPPED | +-------------------------------+--------------------+-------------------+-------------------------+----------------------+-------------------+------------------+ | Debian GNU/Linux 12 | PASS | SKIPPED | SKIPPED | SKIPPED | PASS | SKIPPED | +-------------------------------+--------------------+-------------------+-------------------------+----------------------+-------------------+------------------+ | Fedora Linux 40 | PEND | SKIPPED | SKIPPED | SKIPPED | PEND | SKIPPED | +-------------------------------+--------------------+-------------------+-------------------------+----------------------+-------------------+------------------+ | Fedora Linux 41 | PEND | SKIPPED | SKIPPED | SKIPPED | PEND | PEND | +-------------------------------+--------------------+-------------------+-------------------------+----------------------+-------------------+------------------+ | openSUSE Leap 15.6 | PASS | SKIPPED | SKIPPED | SKIPPED | SKIPPED | SKIPPED | +-------------------------------+--------------------+-------------------+-------------------------+----------------------+-------------------+------------------+ | Red Hat Enterprise Linux 8.10 | PASS | SKIPPED | SKIPPED | SKIPPED | SKIPPED | SKIPPED | +-------------------------------+--------------------+-------------------+-------------------------+----------------------+-------------------+------------------+ | Red Hat Enterprise Linux 9.5 | PEND | SKIPPED | SKIPPED | SKIPPED | SKIPPED | SKIPPED | +-------------------------------+--------------------+-------------------+-------------------------+----------------------+-------------------+------------------+ | Ubuntu 22.04 | PEND | SKIPPED | SKIPPED | SKIPPED | PEND | SKIPPED | +-------------------------------+--------------------+-------------------+-------------------------+----------------------+-------------------+------------------+ | Ubuntu 24.04 | PEND | SKIPPED | SKIPPED | SKIPPED | PASS | PASS | +-------------------------------+--------------------+-------------------+-------------------------+----------------------+-------------------+------------------+ | Alpine Linux 3.22.0 | PEND | SKIPPED | SKIPPED | SKIPPED | SKIPPED | SKIPPED | +-------------------------------+--------------------+-------------------+-------------------------+----------------------+-------------------+------------------+ | Windows Server 2022 | SKIPPED | PASS | PASS | PASS | SKIPPED | SKIPPED | +-------------------------------+--------------------+-------------------+-------------------------+----------------------+-------------------+------------------+ Ubuntu 20.04 Kernel: 4.19 Compiler: gcc gcc (Ubuntu 9.4.0-1ubuntu1~20.04.2) 9.4.0 CentOS Stream 9 Kernel: 5.15 Compiler: gcc gcc (GCC) 11.5.0 20240719 (Red Hat 11.5.0-7) CentOS Stream 10 Kernel: 5.15 Compiler: gcc gcc (GCC) 14.2.1 20250110 (Red Hat 14.2.1-8) Debian GNU/Linux 12 Kernel: 5.15 Compiler: gcc gcc (Debian 12.2.0-14+deb12u1) 12.2.0 Fedora Linux 40 Kernel: 5.15 Compiler: clang gcc (GCC) 14.2.1 20240912 (Red Hat 14.2.1-3) Fedora Linux 41 Kernel: 5.15 Compiler: clang gcc (GCC) 14.3.1 20250523 (Red Hat 14.3.1-1) openSUSE Leap 15.6 Kernel: 5.15 Compiler: gcc gcc (SUSE Linux) 7.5.0 Red Hat Enterprise Linux 8.10 Kernel: 5.15 Compiler: gcc gcc (GCC) 8.5.0 20210514 (Red Hat 8.5.0-22) Red Hat Enterprise Linux 9.5 Kernel: 5.15 Compiler: gcc gcc (GCC) 11.5.0 20240719 (Red Hat 11.5.0-2) Ubuntu 22.04 Kernel: 5.15 Compiler: gcc gcc (Ubuntu 11.4.0-1ubuntu1~22.04) 11.4.0 Ubuntu 24.04 Kernel: 5.15 Compiler: gcc gcc (Ubuntu 13.3.0-6ubuntu2~24.04) 13.3.0 Alpine Linux 3.22.0 Kernel: 5.15 Compiler: gcc gcc (Alpine 14.2.0) 14.2.0 Windows Server 2022 Kernel: 10.0.20348.2031 Compiler: clang 15.0.7, gcc 14.1.0 (MinGW), and MSVC VS 19.39.33521 To view detailed results, visit: https://lab.dpdk.org/results/dashboard/patchsets/33559/ UNH-IOL DPDK Community Lab To manage your email subscriptions, visit: https://lab.dpdk.org/results/dashboard/preferences/subscriptions/