From mboxrd@z Thu Jan 1 00:00:00 1970 Return-Path: Received: from mails.dpdk.org (mails.dpdk.org [217.70.189.124]) by inbox.dpdk.org (Postfix) with ESMTP id 7BD6346AF2 for ; Sat, 5 Jul 2025 06:21:26 +0200 (CEST) Received: from mails.dpdk.org (localhost [127.0.0.1]) by mails.dpdk.org (Postfix) with ESMTP id 73C5040287; Sat, 5 Jul 2025 06:21:26 +0200 (CEST) Received: from mail-io1-f98.google.com (mail-io1-f98.google.com [209.85.166.98]) by mails.dpdk.org (Postfix) with ESMTP id A9ECA40287 for ; Sat, 5 Jul 2025 06:21:25 +0200 (CEST) Received: by mail-io1-f98.google.com with SMTP id ca18e2360f4ac-86d01686196so41429139f.1 for ; Fri, 04 Jul 2025 21:21:25 -0700 (PDT) DKIM-Signature: v=1; a=rsa-sha256; c=relaxed/relaxed; d=iol.unh.edu; s=unh-iol; t=1751689285; x=1752294085; darn=dpdk.org; h=references:in-reply-to:cc:to:from:subject:message-id:date:from:to :cc:subject:date:message-id:reply-to; bh=vYsMh/twAEm77vjrOObT65gZsDFk8OAXvXdAH7PG0nY=; b=TRcsOQPfoGBb6KFn0z9oaEjjx+hdfWzwEomD0CGCQIuEy9zKPc0mZ0zNoWVLIq9Y3D R0wZDvTYthCYK7Ogvu/6RqTseikDJsBkf4aJqhgSGR2eVbD8D1uEOMUat2ZzrgjN9gI8 N1oIlXTU7km+rblTxqArHe8HVziW2h3LQpBF8= X-Google-DKIM-Signature: v=1; a=rsa-sha256; c=relaxed/relaxed; d=1e100.net; s=20230601; t=1751689285; x=1752294085; h=references:in-reply-to:cc:to:from:subject:message-id:date :x-gm-message-state:from:to:cc:subject:date:message-id:reply-to; bh=vYsMh/twAEm77vjrOObT65gZsDFk8OAXvXdAH7PG0nY=; b=GmiWZsMvJsLA+VcahFTu2MYX0d9YsuOZq4Nda4xwbVjjeBYc7fQezZ4HLR1iDslmZA Z6TY90Y+Wfxwaxw1lw9vnjtAbRxdYDrXtmrMw/n9bx7Hm9z8jI9HeGO6BAOpsTmptmbH yx+Nr02t2BD6dGwSHqo7e2tEQO2jrD2d62j/GXhMlcalial5LcPPVN8dYefOQ3TuZk48 6SjJJypSRjDyTmp27gzKzDJRkucNq244UlYmbdlFe4ONLXUV7hpLKMnxtr+6B1O2/nzZ KKwAeMCLRQZ4YgNFMTGwR+XJmgPKfiTfYdtlx4sjpWfVtlWUSW6k/wIa0uiIXBOl3n67 p+HQ== X-Gm-Message-State: AOJu0Yx7qn6NA7AyPy0TdAQtMDns+IwA3zFWwm8t3ampjvs8BCt5I9gx M6/D0GZOWo9Iu161N58yudE9S/h5Gug7xBZL7+9wEfRd/O67C2NqWPUm8SPSBBtNGFWHELjkIw0 42fcWJ81onVjvQk0QtDXqycG+MvGNi3RV7kMZQDyAkX+KtJDMND54nGL3xIjU X-Gm-Gg: ASbGncvNaaKj1c+IrjxxGvx+gCCH8UMUXB0Lez1npXJsYNDcTTys59XShpkWqs/i9PC lLx3l8ogb0rSmlt1/1lAPYtP+R/4HDPqq4gHSdF0XlAdwOVKXDoyM5FlnJccezDa/ALAMAbLdSk z9yAwVSR3D8x9ecMepMEGb2HwAXCRI/8K8GUh22jnpLkHTLb4yjYjrXmhrm/4mr7SsI7wAIQxiP mdYSOPpsZhvCvjZmQTXRjxMa7llVJCSOqLlqnLcEKtl7f+NPrSuWULhlvbYqCvQaG1GI1lOz6Yk KT2/gBU7SeeDcn9Y87xaOmxj7SSx/dVYG2jywJXxn/tJfhs= X-Google-Smtp-Source: AGHT+IHh8JSBKwfvL4aHtwDQ9aYdRgZCuoTsrcgTG3JKVmS0q8uARQ5CLkMVEjZJypEapu2iIcOIQTQOhrFe X-Received: by 2002:a05:6602:2cc4:b0:86c:ee8b:c088 with SMTP id ca18e2360f4ac-8792a4fb416mr86480139f.11.1751689284960; Fri, 04 Jul 2025 21:21:24 -0700 (PDT) Received: from postal.iol.unh.edu (postal.iol.unh.edu. [2606:4100:3880:1234::84]) by smtp-relay.gmail.com with ESMTPS id ca18e2360f4ac-876e079d8e1sm13653039f.5.2025.07.04.21.21.24 (version=TLS1_2 cipher=ECDHE-ECDSA-AES128-GCM-SHA256 bits=128/128); Fri, 04 Jul 2025 21:21:24 -0700 (PDT) X-Relaying-Domain: iol.unh.edu Date: Fri, 04 Jul 2025 21:21:24 -0700 (PDT) Message-ID: <6868a844.050a0220.38c30a.738dSMTPIN_ADDED_MISSING@mx.google.com> Received: from [172.21.0.8] (unknown [172.18.0.240]) by postal.iol.unh.edu (Postfix) with ESMTP id 790A66051830; Sat, 5 Jul 2025 00:21:24 -0400 (EDT) Subject: |WARNING| pw154921-154923 [PATCH] [v2,5/5] riscv: override machine_a From: dpdklab@iol.unh.edu To: Test Report Cc: dpdk-test-reports@iol.unh.edu In-Reply-To: References: Content-Type: text/plain X-BeenThere: test-report@dpdk.org X-Mailman-Version: 2.1.29 Precedence: list List-Id: automatic DPDK test reports List-Unsubscribe: , List-Archive: List-Post: List-Help: List-Subscribe: , Errors-To: test-report-bounces@dpdk.org Test-Label: iol-compile-amd64-testing Test-Status: WARNING http://dpdk.org/patch/154923 _Testing issues_ Submitter: None Date: Tuesday, July 01 2025 18:20:33 DPDK git baseline: Repo:dpdk Branch: master CommitID:70c2297528e7c7789af452f78de1932e9a20c8a2 154921-154923 --> testing issues Upstream job id: Generic-DPDK-Compile-Meson#405497 Test environment and result as below: +-------------------------------+--------------------+-------------------+-------------------------+----------------------+-------------------+------------------+ | Environment | dpdk_meson_compile | dpdk_msvc_compile | dpdk_llvm_clang_compile | dpdk_mingw64_compile | dpdk_compile_spdk | dpdk_compile_ovs | +===============================+====================+===================+=========================+======================+===================+==================+ | Ubuntu 20.04 | PEND | SKIPPED | SKIPPED | SKIPPED | SKIPPED | SKIPPED | +-------------------------------+--------------------+-------------------+-------------------------+----------------------+-------------------+------------------+ | CentOS Stream 9 | PASS | SKIPPED | SKIPPED | SKIPPED | PASS | SKIPPED | +-------------------------------+--------------------+-------------------+-------------------------+----------------------+-------------------+------------------+ | CentOS Stream 10 | PASS | SKIPPED | SKIPPED | SKIPPED | SKIPPED | SKIPPED | +-------------------------------+--------------------+-------------------+-------------------------+----------------------+-------------------+------------------+ | Debian GNU/Linux 12 | PASS | SKIPPED | SKIPPED | SKIPPED | PASS | SKIPPED | +-------------------------------+--------------------+-------------------+-------------------------+----------------------+-------------------+------------------+ | Fedora Linux 40 | PEND | SKIPPED | SKIPPED | SKIPPED | PEND | SKIPPED | +-------------------------------+--------------------+-------------------+-------------------------+----------------------+-------------------+------------------+ | Fedora Linux 41 | PEND | SKIPPED | SKIPPED | SKIPPED | PEND | PEND | +-------------------------------+--------------------+-------------------+-------------------------+----------------------+-------------------+------------------+ | openSUSE Leap 15.6 | PASS | SKIPPED | SKIPPED | SKIPPED | SKIPPED | SKIPPED | +-------------------------------+--------------------+-------------------+-------------------------+----------------------+-------------------+------------------+ | Red Hat Enterprise Linux 8.10 | PASS | SKIPPED | SKIPPED | SKIPPED | SKIPPED | SKIPPED | +-------------------------------+--------------------+-------------------+-------------------------+----------------------+-------------------+------------------+ | Red Hat Enterprise Linux 9.5 | PEND | SKIPPED | SKIPPED | SKIPPED | SKIPPED | SKIPPED | +-------------------------------+--------------------+-------------------+-------------------------+----------------------+-------------------+------------------+ | Ubuntu 22.04 | PEND | SKIPPED | SKIPPED | SKIPPED | PEND | SKIPPED | +-------------------------------+--------------------+-------------------+-------------------------+----------------------+-------------------+------------------+ | Ubuntu 24.04 | PEND | SKIPPED | SKIPPED | SKIPPED | PASS | PASS | +-------------------------------+--------------------+-------------------+-------------------------+----------------------+-------------------+------------------+ | Alpine Linux 3.22.0 | PEND | SKIPPED | SKIPPED | SKIPPED | SKIPPED | SKIPPED | +-------------------------------+--------------------+-------------------+-------------------------+----------------------+-------------------+------------------+ | Windows Server 2022 | SKIPPED | PASS | PASS | PASS | SKIPPED | SKIPPED | +-------------------------------+--------------------+-------------------+-------------------------+----------------------+-------------------+------------------+ Ubuntu 20.04 Kernel: 4.19 Compiler: gcc gcc (Ubuntu 9.4.0-1ubuntu1~20.04.2) 9.4.0 CentOS Stream 9 Kernel: 5.15 Compiler: gcc gcc (GCC) 11.5.0 20240719 (Red Hat 11.5.0-7) CentOS Stream 10 Kernel: 5.15 Compiler: gcc gcc (GCC) 14.2.1 20250110 (Red Hat 14.2.1-8) Debian GNU/Linux 12 Kernel: 5.15 Compiler: gcc gcc (Debian 12.2.0-14+deb12u1) 12.2.0 Fedora Linux 40 Kernel: 5.15 Compiler: clang gcc (GCC) 14.2.1 20240912 (Red Hat 14.2.1-3) Fedora Linux 41 Kernel: 5.15 Compiler: clang gcc (GCC) 14.3.1 20250523 (Red Hat 14.3.1-1) openSUSE Leap 15.6 Kernel: 5.15 Compiler: gcc gcc (SUSE Linux) 7.5.0 Red Hat Enterprise Linux 8.10 Kernel: 5.15 Compiler: gcc gcc (GCC) 8.5.0 20210514 (Red Hat 8.5.0-22) Red Hat Enterprise Linux 9.5 Kernel: 5.15 Compiler: gcc gcc (GCC) 11.5.0 20240719 (Red Hat 11.5.0-2) Ubuntu 22.04 Kernel: 5.15 Compiler: gcc gcc (Ubuntu 11.4.0-1ubuntu1~22.04) 11.4.0 Ubuntu 24.04 Kernel: 5.15 Compiler: gcc gcc (Ubuntu 13.3.0-6ubuntu2~24.04) 13.3.0 Alpine Linux 3.22.0 Kernel: 5.15 Compiler: gcc gcc (Alpine 14.2.0) 14.2.0 Windows Server 2022 Kernel: 10.0.20348.2031 Compiler: clang 15.0.7, gcc 14.1.0 (MinGW), and MSVC VS 19.39.33521 To view detailed results, visit: https://lab.dpdk.org/results/dashboard/patchsets/33559/ UNH-IOL DPDK Community Lab To manage your email subscriptions, visit: https://lab.dpdk.org/results/dashboard/preferences/subscriptions/