From mboxrd@z Thu Jan 1 00:00:00 1970 Return-Path: Received: from mails.dpdk.org (mails.dpdk.org [217.70.189.124]) by inbox.dpdk.org (Postfix) with ESMTP id 93DB846AF2 for ; Sat, 5 Jul 2025 06:21:43 +0200 (CEST) Received: from mails.dpdk.org (localhost [127.0.0.1]) by mails.dpdk.org (Postfix) with ESMTP id 8AB9340287; Sat, 5 Jul 2025 06:21:43 +0200 (CEST) Received: from mail-pg1-f226.google.com (mail-pg1-f226.google.com [209.85.215.226]) by mails.dpdk.org (Postfix) with ESMTP id 0593E40287 for ; Sat, 5 Jul 2025 06:21:43 +0200 (CEST) Received: by mail-pg1-f226.google.com with SMTP id 41be03b00d2f7-b34a78bb6e7so1036220a12.3 for ; Fri, 04 Jul 2025 21:21:42 -0700 (PDT) DKIM-Signature: v=1; a=rsa-sha256; c=relaxed/relaxed; d=iol.unh.edu; s=unh-iol; t=1751689302; x=1752294102; darn=dpdk.org; h=references:in-reply-to:cc:to:from:subject:message-id:date:from:to :cc:subject:date:message-id:reply-to; bh=TEs4+Tl97PNJDxWvrjXY37i8c5QEiAbM8osqtndzqp0=; b=C1hBWpjB3ak0Aq8W0shK3qqXQLZFHUiknsqeDnl4yObPgPzJNTl+WuGSSwU0Yq9Zbd 8SivTG1kWT1mVF61UOtMMTDv8P5n5E5Kb1cyKEySLrkhbP9ZBdWdA86Az6OJzJ55tNUu Mh+Bg7eJu8qvkIECQshXBoW+uEeKfvAg9eOUo= X-Google-DKIM-Signature: v=1; a=rsa-sha256; c=relaxed/relaxed; d=1e100.net; s=20230601; t=1751689302; x=1752294102; h=references:in-reply-to:cc:to:from:subject:message-id:date :x-gm-message-state:from:to:cc:subject:date:message-id:reply-to; bh=TEs4+Tl97PNJDxWvrjXY37i8c5QEiAbM8osqtndzqp0=; b=iDdvKlmBe5njULiHPrPm9PBabaTFqjd0WzQcQ0ClZed24IX8CiQl4+/MK2h05N+ttS Dw5F9H73VviJpAw121iS+eZdTZCIc5e9/hiMWyukDywXNNRPjMlerhbIxgk2qBqTFylH 5vChIfGXM7a1ergtlHBTQKJYfnTzOykItqsIGGGtVz8FvmhXBZQTTtRqPlwQKuVlAeN4 kDwd4z9nU30MBnKK+3c8B0i64G42gw9MGy+ca2WzKk9OT0HrED6GG5H0Uy+EhngAI4kK cD7cmYiUJkc40vnQoN1s6/BpYKYUV/eaLLQsZTDMEoj3wqUTtG9jwFNb2Mzcnu0DmRbh XNfA== X-Gm-Message-State: AOJu0Yw5ui6BqB+ZL4eN/Nqengrrr7pE72abKf6XSW+YPtwRaZap5ejC A2ePRNto7hBn1kuD5vCPcAQ0eJyaypn928mYtx1tUqBq6v19pjDlmnDMa7X3H+mDhBvpjJH9o6I daEDoMQBLGo5pIDJyE9/SeMfLPYKcnUwvDgcIKMdiRw9V X-Gm-Gg: ASbGnctMoyjiTiH808HCASw7WXRBoLO5Mm0HIELdIe/U/oSzWWYhWmD0AZHjWM0iQCo uYsNJukyw7I+0SNEDHndSX8fx1dnjqgNf6Vb/qdax2GI1MhDdf1pLwfn4daOuONxFDjnb/U2Dd/ DgkzTNKQGmzDP2ltIZqx4y6BYOtfkHBnmGO1QAw1nCC+TltLFrW5+Yil0FZ4kQthHP47bEDbm8L oHTRN91WRxzyeixdayCqxbsUZXkox9lTUU1jv/WLxt10EnRy+rRUkpZhaa6ZzXusoggGG2PI36p ztBXPRuhjMhYYfBru0DpiL2GUeNm22i0b0lITU8ULf2f1cpk0tWYntAAxrOwOLbHU6D1nQ== X-Google-Smtp-Source: AGHT+IFwftxKlp9sDkfHJDQeswTihzSa1FrGdTv7bwC2fhDAVaZBzyrA9vVNRMv72m97PMvJwm9AwdSBU8oY X-Received: by 2002:a17:90b:3d4c:b0:315:fefe:bebf with SMTP id 98e67ed59e1d1-31aac44bb7amr7136269a91.13.1751689302118; Fri, 04 Jul 2025 21:21:42 -0700 (PDT) Received: from postal.iol.unh.edu (postal.iol.unh.edu. [132.177.123.84]) by smtp-relay.gmail.com with ESMTPS id 98e67ed59e1d1-31a9cc64696sm253891a91.5.2025.07.04.21.21.41 (version=TLS1_2 cipher=ECDHE-ECDSA-AES128-GCM-SHA256 bits=128/128); Fri, 04 Jul 2025 21:21:42 -0700 (PDT) X-Relaying-Domain: iol.unh.edu Date: Fri, 04 Jul 2025 21:21:42 -0700 (PDT) Message-ID: <6868a856.170a0220.16d436.e59fSMTPIN_ADDED_MISSING@mx.google.com> Received: from [172.21.0.6] (unknown [172.18.0.240]) by postal.iol.unh.edu (Postfix) with ESMTP id 4A5296051830; Sat, 5 Jul 2025 00:21:41 -0400 (EDT) Subject: |WARNING| pw154921-154923 [PATCH] [v2,5/5] riscv: override machine_a From: dpdklab@iol.unh.edu To: Test Report Cc: dpdk-test-reports@iol.unh.edu In-Reply-To: References: Content-Type: text/plain X-BeenThere: test-report@dpdk.org X-Mailman-Version: 2.1.29 Precedence: list List-Id: automatic DPDK test reports List-Unsubscribe: , List-Archive: List-Post: List-Help: List-Subscribe: , Errors-To: test-report-bounces@dpdk.org Test-Label: iol-compile-amd64-testing Test-Status: WARNING http://dpdk.org/patch/154923 _Testing issues_ Submitter: None Date: Tuesday, July 01 2025 18:20:33 DPDK git baseline: Repo:dpdk Branch: master CommitID:70c2297528e7c7789af452f78de1932e9a20c8a2 154921-154923 --> testing issues Upstream job id: Generic-DPDK-Compile-Meson#405488 Test environment and result as below: +-------------------------------+--------------------+-------------------+-------------------------+----------------------+-------------------+------------------+ | Environment | dpdk_meson_compile | dpdk_msvc_compile | dpdk_llvm_clang_compile | dpdk_mingw64_compile | dpdk_compile_spdk | dpdk_compile_ovs | +===============================+====================+===================+=========================+======================+===================+==================+ | Ubuntu 20.04 | PEND | SKIPPED | SKIPPED | SKIPPED | SKIPPED | SKIPPED | +-------------------------------+--------------------+-------------------+-------------------------+----------------------+-------------------+------------------+ | CentOS Stream 9 | PASS | SKIPPED | SKIPPED | SKIPPED | PASS | SKIPPED | +-------------------------------+--------------------+-------------------+-------------------------+----------------------+-------------------+------------------+ | CentOS Stream 10 | PASS | SKIPPED | SKIPPED | SKIPPED | SKIPPED | SKIPPED | +-------------------------------+--------------------+-------------------+-------------------------+----------------------+-------------------+------------------+ | Debian GNU/Linux 12 | PASS | SKIPPED | SKIPPED | SKIPPED | PASS | SKIPPED | +-------------------------------+--------------------+-------------------+-------------------------+----------------------+-------------------+------------------+ | Fedora Linux 40 | PEND | SKIPPED | SKIPPED | SKIPPED | PEND | SKIPPED | +-------------------------------+--------------------+-------------------+-------------------------+----------------------+-------------------+------------------+ | Fedora Linux 41 | PEND | SKIPPED | SKIPPED | SKIPPED | PEND | PEND | +-------------------------------+--------------------+-------------------+-------------------------+----------------------+-------------------+------------------+ | openSUSE Leap 15.6 | PASS | SKIPPED | SKIPPED | SKIPPED | SKIPPED | SKIPPED | +-------------------------------+--------------------+-------------------+-------------------------+----------------------+-------------------+------------------+ | Red Hat Enterprise Linux 8.10 | PASS | SKIPPED | SKIPPED | SKIPPED | SKIPPED | SKIPPED | +-------------------------------+--------------------+-------------------+-------------------------+----------------------+-------------------+------------------+ | Red Hat Enterprise Linux 9.5 | PEND | SKIPPED | SKIPPED | SKIPPED | SKIPPED | SKIPPED | +-------------------------------+--------------------+-------------------+-------------------------+----------------------+-------------------+------------------+ | Ubuntu 22.04 | PEND | SKIPPED | SKIPPED | SKIPPED | PEND | SKIPPED | +-------------------------------+--------------------+-------------------+-------------------------+----------------------+-------------------+------------------+ | Ubuntu 24.04 | PEND | SKIPPED | SKIPPED | SKIPPED | PASS | PASS | +-------------------------------+--------------------+-------------------+-------------------------+----------------------+-------------------+------------------+ | Alpine Linux 3.22.0 | PEND | SKIPPED | SKIPPED | SKIPPED | SKIPPED | SKIPPED | +-------------------------------+--------------------+-------------------+-------------------------+----------------------+-------------------+------------------+ | Windows Server 2022 | SKIPPED | PASS | PASS | PASS | SKIPPED | SKIPPED | +-------------------------------+--------------------+-------------------+-------------------------+----------------------+-------------------+------------------+ Ubuntu 20.04 Kernel: 4.19 Compiler: gcc gcc (Ubuntu 9.4.0-1ubuntu1~20.04.2) 9.4.0 CentOS Stream 9 Kernel: 5.15 Compiler: gcc gcc (GCC) 11.5.0 20240719 (Red Hat 11.5.0-7) CentOS Stream 10 Kernel: 5.15 Compiler: gcc gcc (GCC) 14.2.1 20250110 (Red Hat 14.2.1-8) Debian GNU/Linux 12 Kernel: 5.15 Compiler: gcc gcc (Debian 12.2.0-14+deb12u1) 12.2.0 Fedora Linux 40 Kernel: 5.15 Compiler: clang gcc (GCC) 14.2.1 20240912 (Red Hat 14.2.1-3) Fedora Linux 41 Kernel: 5.15 Compiler: clang gcc (GCC) 14.3.1 20250523 (Red Hat 14.3.1-1) openSUSE Leap 15.6 Kernel: 5.15 Compiler: gcc gcc (SUSE Linux) 7.5.0 Red Hat Enterprise Linux 8.10 Kernel: 5.15 Compiler: gcc gcc (GCC) 8.5.0 20210514 (Red Hat 8.5.0-22) Red Hat Enterprise Linux 9.5 Kernel: 5.15 Compiler: gcc gcc (GCC) 11.5.0 20240719 (Red Hat 11.5.0-2) Ubuntu 22.04 Kernel: 5.15 Compiler: gcc gcc (Ubuntu 11.4.0-1ubuntu1~22.04) 11.4.0 Ubuntu 24.04 Kernel: 5.15 Compiler: gcc gcc (Ubuntu 13.3.0-6ubuntu2~24.04) 13.3.0 Alpine Linux 3.22.0 Kernel: 5.15 Compiler: gcc gcc (Alpine 14.2.0) 14.2.0 Windows Server 2022 Kernel: 10.0.20348.2031 Compiler: clang 15.0.7, gcc 14.1.0 (MinGW), and MSVC VS 19.39.33521 To view detailed results, visit: https://lab.dpdk.org/results/dashboard/patchsets/33559/ UNH-IOL DPDK Community Lab To manage your email subscriptions, visit: https://lab.dpdk.org/results/dashboard/preferences/subscriptions/