From mboxrd@z Thu Jan 1 00:00:00 1970 Return-Path: Received: from mails.dpdk.org (mails.dpdk.org [217.70.189.124]) by inbox.dpdk.org (Postfix) with ESMTP id BC0B846AF2 for ; Sat, 5 Jul 2025 06:22:24 +0200 (CEST) Received: from mails.dpdk.org (localhost [127.0.0.1]) by mails.dpdk.org (Postfix) with ESMTP id B55B140287; Sat, 5 Jul 2025 06:22:24 +0200 (CEST) Received: from mail-yb1-f228.google.com (mail-yb1-f228.google.com [209.85.219.228]) by mails.dpdk.org (Postfix) with ESMTP id C17EB40287 for ; Sat, 5 Jul 2025 06:22:23 +0200 (CEST) Received: by mail-yb1-f228.google.com with SMTP id 3f1490d57ef6-e897c8ca777so1382555276.2 for ; Fri, 04 Jul 2025 21:22:23 -0700 (PDT) DKIM-Signature: v=1; a=rsa-sha256; c=relaxed/relaxed; d=iol.unh.edu; s=unh-iol; t=1751689343; x=1752294143; darn=dpdk.org; h=references:in-reply-to:cc:to:from:subject:message-id:date:from:to :cc:subject:date:message-id:reply-to; bh=eo+wFsH4p775jOS+tNpqKjunvzw7oB1qz+MV6KWFCBY=; b=erGm6gjPJJm4MYHhkw7B9fz5xWaaaNUq95Be2Y+x16Qi3W9tqMY5wEC0ciZraQdf1Z DqqzX4tKdLxNlNTBj4qcaZQUdRk/7YWgQZmyAVZlWTdBjJ29CtpKuHI8gqZVhrvskSxO hE4W0b6zecm/Gw9CE0l+huSQ+6dAhW8gSOMSM= X-Google-DKIM-Signature: v=1; a=rsa-sha256; c=relaxed/relaxed; d=1e100.net; s=20230601; t=1751689343; x=1752294143; h=references:in-reply-to:cc:to:from:subject:message-id:date :x-gm-message-state:from:to:cc:subject:date:message-id:reply-to; bh=eo+wFsH4p775jOS+tNpqKjunvzw7oB1qz+MV6KWFCBY=; b=KNsJrD2sqh9SrKehUh/AZFRbFSH0Jbd9UVhwjMAH/7951FVvrgR4prEOs0/z6UXu62 9q+YKnxlnldbVwHStlIwm8yYH147G52PYpeTp/E+FkTgzchPj1z5xGh7jH4rut7+IIqT aiWZDCDRM7XHNsUhEA9lfU0vaB7jd8wyiT0OBRRxwMvnMnRrUfKWBkVinCEYtUlgCLrl ZiTK5CXrb0gnkJkDlzHv9bMLYkIN4T5euVSevID0y9/RWyKOTONfuPJmi5IddBlEkqZu 7514T09T8PsuXUKgOZrR9kgPDyExO6/0Nfw2MH98lu48gyu9oOYUhgViE5E0cLeKzLhQ MJBQ== X-Gm-Message-State: AOJu0Yxl7Dy/8X1quLjf4l0DEzqalaXiMVBy1JA7ManBZqULAbG8W9kw AxuTSw/IHsknFdQdIuHALw5logdrKkEm9oxelDa6w85ngUEkGCZGb7B/p8HW7F+ghVT7cI+Hpyu Dm15EOhlP9p2kYy8+ux56EexeDlxYu1YX+RUBj3662FLW X-Gm-Gg: ASbGncsDWeAOepCFT6e8FdllarDUirx/pMwpGiuUrUypJ51clMD7zUraKR0nL51WHKC hPI9bfYTslN/+xZhuR3RteTBRJbzZdjqZEBCO5k4aStVakMVI2p7Y9aJc1qfGO8PSv1ruGqMWKL U2WV5qhieez+CcVWiAkJyRTdnuvd1D0wUO4MuLJNJy1DDOVuQGmCOtOMpmjsGwfDsIyae6vlnRj 8TgpRw2xzWBHrvOD/G4PigTfDrE5OQNZi9/xllm0JaKky+TrXqXk9bD5DMdUZpaAvVKrvvVEg/3 Hx0YKVIKqDg6jN5v3eBWA1srIUNm9Mdfvg+EcTzlziawumQ8AFC4RzsV0M3oUuMZw9Y4pw== X-Google-Smtp-Source: AGHT+IHh8ROtLw5iFb2gmMMFsMWNzYDztUtjvxYcDa4omJobXgKj/vBs8HrcYoAe4/+1vuSVGM85SNQvWTJY X-Received: by 2002:a05:690c:368a:b0:6f9:7920:e813 with SMTP id 00721157ae682-7176c9e816bmr11866557b3.4.1751689343122; Fri, 04 Jul 2025 21:22:23 -0700 (PDT) Received: from postal.iol.unh.edu (postal.iol.unh.edu. [132.177.123.84]) by smtp-relay.gmail.com with ESMTPS id 00721157ae682-716659b5febsm1116367b3.2.2025.07.04.21.22.23 (version=TLS1_2 cipher=ECDHE-ECDSA-AES128-GCM-SHA256 bits=128/128); Fri, 04 Jul 2025 21:22:23 -0700 (PDT) X-Relaying-Domain: iol.unh.edu Date: Fri, 04 Jul 2025 21:22:23 -0700 (PDT) Message-ID: <6868a87f.050a0220.311706.5deeSMTPIN_ADDED_MISSING@mx.google.com> Received: from [172.21.0.7] (unknown [172.18.0.240]) by postal.iol.unh.edu (Postfix) with ESMTP id BDF446051830; Sat, 5 Jul 2025 00:22:22 -0400 (EDT) Subject: |WARNING| pw154921-154923 [PATCH] [v2,5/5] riscv: override machine_a From: dpdklab@iol.unh.edu To: Test Report Cc: dpdk-test-reports@iol.unh.edu In-Reply-To: References: Content-Type: text/plain X-BeenThere: test-report@dpdk.org X-Mailman-Version: 2.1.29 Precedence: list List-Id: automatic DPDK test reports List-Unsubscribe: , List-Archive: List-Post: List-Help: List-Subscribe: , Errors-To: test-report-bounces@dpdk.org Test-Label: iol-compile-amd64-testing Test-Status: WARNING http://dpdk.org/patch/154923 _Testing issues_ Submitter: None Date: Tuesday, July 01 2025 18:20:33 DPDK git baseline: Repo:dpdk Branch: master CommitID:70c2297528e7c7789af452f78de1932e9a20c8a2 154921-154923 --> testing issues Upstream job id: Generic-DPDK-Compile-Meson#405493 Test environment and result as below: +-------------------------------+--------------------+-------------------+-------------------------+----------------------+-------------------+------------------+ | Environment | dpdk_meson_compile | dpdk_msvc_compile | dpdk_llvm_clang_compile | dpdk_mingw64_compile | dpdk_compile_spdk | dpdk_compile_ovs | +===============================+====================+===================+=========================+======================+===================+==================+ | Ubuntu 20.04 | PEND | SKIPPED | SKIPPED | SKIPPED | SKIPPED | SKIPPED | +-------------------------------+--------------------+-------------------+-------------------------+----------------------+-------------------+------------------+ | CentOS Stream 9 | PASS | SKIPPED | SKIPPED | SKIPPED | PASS | SKIPPED | +-------------------------------+--------------------+-------------------+-------------------------+----------------------+-------------------+------------------+ | CentOS Stream 10 | PASS | SKIPPED | SKIPPED | SKIPPED | SKIPPED | SKIPPED | +-------------------------------+--------------------+-------------------+-------------------------+----------------------+-------------------+------------------+ | Debian GNU/Linux 12 | PASS | SKIPPED | SKIPPED | SKIPPED | PASS | SKIPPED | +-------------------------------+--------------------+-------------------+-------------------------+----------------------+-------------------+------------------+ | Fedora Linux 40 | PEND | SKIPPED | SKIPPED | SKIPPED | PEND | SKIPPED | +-------------------------------+--------------------+-------------------+-------------------------+----------------------+-------------------+------------------+ | Fedora Linux 41 | PEND | SKIPPED | SKIPPED | SKIPPED | PEND | PEND | +-------------------------------+--------------------+-------------------+-------------------------+----------------------+-------------------+------------------+ | openSUSE Leap 15.6 | PASS | SKIPPED | SKIPPED | SKIPPED | SKIPPED | SKIPPED | +-------------------------------+--------------------+-------------------+-------------------------+----------------------+-------------------+------------------+ | Red Hat Enterprise Linux 8.10 | PASS | SKIPPED | SKIPPED | SKIPPED | SKIPPED | SKIPPED | +-------------------------------+--------------------+-------------------+-------------------------+----------------------+-------------------+------------------+ | Red Hat Enterprise Linux 9.5 | PEND | SKIPPED | SKIPPED | SKIPPED | SKIPPED | SKIPPED | +-------------------------------+--------------------+-------------------+-------------------------+----------------------+-------------------+------------------+ | Ubuntu 22.04 | PEND | SKIPPED | SKIPPED | SKIPPED | PEND | SKIPPED | +-------------------------------+--------------------+-------------------+-------------------------+----------------------+-------------------+------------------+ | Ubuntu 24.04 | PEND | SKIPPED | SKIPPED | SKIPPED | PASS | PASS | +-------------------------------+--------------------+-------------------+-------------------------+----------------------+-------------------+------------------+ | Alpine Linux 3.22.0 | PEND | SKIPPED | SKIPPED | SKIPPED | SKIPPED | SKIPPED | +-------------------------------+--------------------+-------------------+-------------------------+----------------------+-------------------+------------------+ | Windows Server 2022 | SKIPPED | PASS | PASS | PASS | SKIPPED | SKIPPED | +-------------------------------+--------------------+-------------------+-------------------------+----------------------+-------------------+------------------+ Ubuntu 20.04 Kernel: 4.19 Compiler: gcc gcc (Ubuntu 9.4.0-1ubuntu1~20.04.2) 9.4.0 CentOS Stream 9 Kernel: 5.15 Compiler: gcc gcc (GCC) 11.5.0 20240719 (Red Hat 11.5.0-7) CentOS Stream 10 Kernel: 5.15 Compiler: gcc gcc (GCC) 14.2.1 20250110 (Red Hat 14.2.1-8) Debian GNU/Linux 12 Kernel: 5.15 Compiler: gcc gcc (Debian 12.2.0-14+deb12u1) 12.2.0 Fedora Linux 40 Kernel: 5.15 Compiler: clang gcc (GCC) 14.2.1 20240912 (Red Hat 14.2.1-3) Fedora Linux 41 Kernel: 5.15 Compiler: clang gcc (GCC) 14.3.1 20250523 (Red Hat 14.3.1-1) openSUSE Leap 15.6 Kernel: 5.15 Compiler: gcc gcc (SUSE Linux) 7.5.0 Red Hat Enterprise Linux 8.10 Kernel: 5.15 Compiler: gcc gcc (GCC) 8.5.0 20210514 (Red Hat 8.5.0-22) Red Hat Enterprise Linux 9.5 Kernel: 5.15 Compiler: gcc gcc (GCC) 11.5.0 20240719 (Red Hat 11.5.0-2) Ubuntu 22.04 Kernel: 5.15 Compiler: gcc gcc (Ubuntu 11.4.0-1ubuntu1~22.04) 11.4.0 Ubuntu 24.04 Kernel: 5.15 Compiler: gcc gcc (Ubuntu 13.3.0-6ubuntu2~24.04) 13.3.0 Alpine Linux 3.22.0 Kernel: 5.15 Compiler: gcc gcc (Alpine 14.2.0) 14.2.0 Windows Server 2022 Kernel: 10.0.20348.2031 Compiler: clang 15.0.7, gcc 14.1.0 (MinGW), and MSVC VS 19.39.33521 To view detailed results, visit: https://lab.dpdk.org/results/dashboard/patchsets/33559/ UNH-IOL DPDK Community Lab To manage your email subscriptions, visit: https://lab.dpdk.org/results/dashboard/preferences/subscriptions/