From mboxrd@z Thu Jan 1 00:00:00 1970 Return-Path: Received: from mails.dpdk.org (mails.dpdk.org [217.70.189.124]) by inbox.dpdk.org (Postfix) with ESMTP id 4476746AF2 for ; Sat, 5 Jul 2025 06:26:49 +0200 (CEST) Received: from mails.dpdk.org (localhost [127.0.0.1]) by mails.dpdk.org (Postfix) with ESMTP id 1C15240287; Sat, 5 Jul 2025 06:26:49 +0200 (CEST) Received: from mail-il1-f226.google.com (mail-il1-f226.google.com [209.85.166.226]) by mails.dpdk.org (Postfix) with ESMTP id 8ED2040287 for ; Sat, 5 Jul 2025 06:26:48 +0200 (CEST) Received: by mail-il1-f226.google.com with SMTP id e9e14a558f8ab-3ddda0a8ba2so15317605ab.0 for ; Fri, 04 Jul 2025 21:26:48 -0700 (PDT) DKIM-Signature: v=1; a=rsa-sha256; c=relaxed/relaxed; d=iol.unh.edu; s=unh-iol; t=1751689608; x=1752294408; darn=dpdk.org; h=references:in-reply-to:cc:to:from:subject:message-id:date:from:to :cc:subject:date:message-id:reply-to; bh=hRosvVI5jHQCRGY3i22+RDKv25ZGQkcVpKrUnq+dJZI=; b=B8MLnAE3yoBEnRHDfGHfwNKOw/D2SwEgIEqYoIHMzVAwHo4WGPU0QgoCNqt26nC7rA H1bl/nJBhBVlql25kQXoZTilHaE1TVkOzEnVAdTAa6Oaz8VCXUiZ70SFSLLu/E+JjLLj /6IgOcJZO7HjS64d0mlQFEexCz1kaN+XVRo48= X-Google-DKIM-Signature: v=1; a=rsa-sha256; c=relaxed/relaxed; d=1e100.net; s=20230601; t=1751689608; x=1752294408; h=references:in-reply-to:cc:to:from:subject:message-id:date :x-gm-message-state:from:to:cc:subject:date:message-id:reply-to; bh=hRosvVI5jHQCRGY3i22+RDKv25ZGQkcVpKrUnq+dJZI=; b=Cn58iAtIB3HK5nDRUcTWPnZZoQaxk0hNoL4qk3M6dX2fJJNd3K4w4mUsTTSqnujsHT ZDARK2BX83mfy3p/MpaeqNMeFjqO/ctgssVla0n0HCpvoco/ni9NZdikwxBGxcOENbES przmlxqGiyyCNfOp8vhH0wDTAyCQkWUSeM/xOSvk4YcsJbkJ8XouTmKgFQ8fhWqvFjPY 6OM3pqQ5qKBqHwyds3j3g0JZ5uy9xEkZ4MzKACDEUNcCLdtgdd9t70NQOiu7CxlaEsI/ m7SJa61fVp/5hYrViiv3ZTXobCsXmTDn2X3EvzxAhQv+4WhZXwdv0JQHzKsvX2l6+G0q Be/w== X-Gm-Message-State: AOJu0Yye1c6G1T3fm/6dp2ub8jd7BeKNN24gozU2W++q+512OTyq8BRQ mRXgdf4HZnqZm0+T5ylr0J1OjsLJ5VTBKhiVzv8gGg3Gbz9KVbP1maSXhHxRUBbtJO4wq7YY6Su Z5DBd7KMFmLlfyZbXJbutkmWZyeevLkKUA9b3qqLo+O+OQRwvObwU00Zlg+jO X-Gm-Gg: ASbGnctMpNXqfIourk6us4dJv/kOJaedEqdaXxfXMqq+4eg8KXtRRvaxQMeVbdOzXy/ KcW2BnxowCHbpYYIcn6OrPBc4pF6+j00ZZKDw6GTbRC+ReSK8dMbOt3UH1vuNwCcwW+1GCarSY0 rgS1J03dx9/t2+2PKT88j8OWKYD/tVu8UF0sb5ilXXhmK+9ZWLwRhCfdn9v+IRHRjh1NHD7SGiU sTxTrjbVQOOwiY8HyNaSZUlkYzrb7vmMqiFo9UfIO55xJ52Mj7sEZK2AdyrRsbG3dx9GXlspNsp oKrQGzfN0m9DeUt10ji0ZoygSeV47tv/wAToOOb32i7WOfY= X-Google-Smtp-Source: AGHT+IF41yrm2mIa7nzJnR5TsaHjKj8N5/0YhNtHWOdqJL+GwxxL5BvrJAOcqAXHu9aXfTBPaHLXThLa+9Bh X-Received: by 2002:a05:6e02:308c:b0:3dd:cdf2:fea4 with SMTP id e9e14a558f8ab-3e13eefb676mr10016655ab.14.1751689607868; Fri, 04 Jul 2025 21:26:47 -0700 (PDT) Received: from postal.iol.unh.edu (postal.iol.unh.edu. [2606:4100:3880:1234::84]) by smtp-relay.gmail.com with ESMTPS id e9e14a558f8ab-3e0f9b75195sm2244245ab.27.2025.07.04.21.26.47 (version=TLS1_2 cipher=ECDHE-ECDSA-AES128-GCM-SHA256 bits=128/128); Fri, 04 Jul 2025 21:26:47 -0700 (PDT) X-Relaying-Domain: iol.unh.edu Date: Fri, 04 Jul 2025 21:26:47 -0700 (PDT) Message-ID: <6868a987.050a0220.3ada21.bf4dSMTPIN_ADDED_MISSING@mx.google.com> Received: from [172.21.0.6] (unknown [172.18.0.240]) by postal.iol.unh.edu (Postfix) with ESMTP id 5DC6D6051830; Sat, 5 Jul 2025 00:26:47 -0400 (EDT) Subject: |SUCCESS| pw155012-155013 [PATCH] [v2,2/2] dts: add generic blocking From: dpdklab@iol.unh.edu To: Test Report Cc: dpdk-test-reports@iol.unh.edu In-Reply-To: <20250704152908.683265-3-luca.vizzarro@arm.com> References: <20250704152908.683265-3-luca.vizzarro@arm.com> Content-Type: text/plain X-BeenThere: test-report@dpdk.org X-Mailman-Version: 2.1.29 Precedence: list List-Id: automatic DPDK test reports List-Unsubscribe: , List-Archive: List-Post: List-Help: List-Subscribe: , Errors-To: test-report-bounces@dpdk.org Test-Label: iol-unit-arm64-testing Test-Status: SUCCESS http://dpdk.org/patch/155013 _Testing PASS_ Submitter: Luca Vizzarro Date: Friday, July 04 2025 15:29:08 DPDK git baseline: Repo:dpdk Branch: master CommitID:31ba785774d258d4c57b68dabdf544e575f3af83 155012-155013 --> testing pass Upstream job id: Generic-Unit-Test-DPDK#352783 Test environment and result as below: +------------------------------+----------------+--------------+---------------------------+------------------------------+ | Environment | dpdk_unit_test | lpm_autotest | cryptodev_sw_zuc_autotest | cryptodev_sw_snow3g_autotest | +==============================+================+==============+===========================+==============================+ | CentOS Stream 9 | PASS | SKIPPED | SKIPPED | SKIPPED | +------------------------------+----------------+--------------+---------------------------+------------------------------+ | Ubuntu 24.04 | PASS | SKIPPED | SKIPPED | SKIPPED | +------------------------------+----------------+--------------+---------------------------+------------------------------+ | Ubuntu 20.04 | PASS | PASS | SKIPPED | SKIPPED | +------------------------------+----------------+--------------+---------------------------+------------------------------+ | CentOS Stream 10 | PASS | SKIPPED | SKIPPED | SKIPPED | +------------------------------+----------------+--------------+---------------------------+------------------------------+ | Fedora Linux 40 | PASS | SKIPPED | SKIPPED | SKIPPED | +------------------------------+----------------+--------------+---------------------------+------------------------------+ | Fedora Linux 41 | PASS | SKIPPED | SKIPPED | SKIPPED | +------------------------------+----------------+--------------+---------------------------+------------------------------+ | Red Hat Enterprise Linux 9.5 | PASS | SKIPPED | SKIPPED | SKIPPED | +------------------------------+----------------+--------------+---------------------------+------------------------------+ | Debian GNU/Linux 12 | PASS | SKIPPED | SKIPPED | SKIPPED | +------------------------------+----------------+--------------+---------------------------+------------------------------+ | Ubuntu 22.04 | PASS | SKIPPED | SKIPPED | SKIPPED | +------------------------------+----------------+--------------+---------------------------+------------------------------+ | Debian 12 (arm) | SKIPPED | SKIPPED | PASS | PASS | +------------------------------+----------------+--------------+---------------------------+------------------------------+ CentOS Stream 9 Kernel: 5.4 Compiler: gcc gcc (GCC) 11.5.0 20240719 (Red Hat 11.5.0-7) Ubuntu 24.04 Kernel: 5.4 Compiler: gcc gcc (Ubuntu 13.3.0-6ubuntu2~24.04) 13.3.0 Ubuntu 20.04 Kernel: 5.4 Compiler: gcc gcc (Ubuntu 9.4.0-1ubuntu1~20.04.2) 9.4.0 CentOS Stream 10 Kernel: 5.4 Compiler: gcc gcc (GCC) 14.2.1 20250110 (Red Hat 14.2.1-8) Fedora Linux 40 Kernel: 5.4 Compiler: clang gcc (GCC) 14.2.1 20240912 (Red Hat 14.2.1-3) Fedora Linux 41 Kernel: 5.4 Compiler: clang gcc (GCC) 14.3.1 20250523 (Red Hat 14.3.1-1) Red Hat Enterprise Linux 9.5 Kernel: 5.4 Compiler: gcc gcc (GCC) 11.5.0 20240719 (Red Hat 11.5.0-2) Debian GNU/Linux 12 Kernel: 5.4 Compiler: gcc gcc (Debian 12.2.0-14+deb12u1) 12.2.0 Ubuntu 22.04 Kernel: 5.4 Compiler: gcc gcc (Ubuntu 11.4.0-1ubuntu1~22.04) 11.4.0 Debian 12 (arm) Kernel: Depends on container host Compiler: gcc (Debian 12.2.0-14) 12.2.0 To view detailed results, visit: https://lab.dpdk.org/results/dashboard/patchsets/33595/ UNH-IOL DPDK Community Lab To manage your email subscriptions, visit: https://lab.dpdk.org/results/dashboard/preferences/subscriptions/