From mboxrd@z Thu Jan 1 00:00:00 1970 Return-Path: Received: from mails.dpdk.org (mails.dpdk.org [217.70.189.124]) by inbox.dpdk.org (Postfix) with ESMTP id AA42946AED for ; Sat, 5 Jul 2025 07:06:29 +0200 (CEST) Received: from mails.dpdk.org (localhost [127.0.0.1]) by mails.dpdk.org (Postfix) with ESMTP id 7E4AF40287; Sat, 5 Jul 2025 07:06:29 +0200 (CEST) Received: from mail-il1-f225.google.com (mail-il1-f225.google.com [209.85.166.225]) by mails.dpdk.org (Postfix) with ESMTP id D4F2C40287 for ; Sat, 5 Jul 2025 07:06:27 +0200 (CEST) Received: by mail-il1-f225.google.com with SMTP id e9e14a558f8ab-3df4bdadca5so5796555ab.1 for ; Fri, 04 Jul 2025 22:06:27 -0700 (PDT) DKIM-Signature: v=1; a=rsa-sha256; c=relaxed/relaxed; d=iol.unh.edu; s=unh-iol; t=1751691987; x=1752296787; darn=dpdk.org; h=references:in-reply-to:cc:to:from:subject:message-id:date:from:to :cc:subject:date:message-id:reply-to; bh=0Rk2adjZwiqiD4LJj7xqUlVmRE3o2/S9JJ2ebrt/wzc=; b=CUHR/uajQLRDMhVMIXWtv2IgSLcEilkqKWbJWb0o/PWQSuDb4jtTyvkCPaopErPUya cEs2ixgq15bINVvMymyIXETYEWyn7JYhYFZx+w+2JArdvo/lkyeygQ5eAQUqcFFewSdo STDoNv8iczyTadN9fAmwI631bmNVUrSn2HNA0= X-Google-DKIM-Signature: v=1; a=rsa-sha256; c=relaxed/relaxed; d=1e100.net; s=20230601; t=1751691987; x=1752296787; h=references:in-reply-to:cc:to:from:subject:message-id:date :x-gm-message-state:from:to:cc:subject:date:message-id:reply-to; bh=0Rk2adjZwiqiD4LJj7xqUlVmRE3o2/S9JJ2ebrt/wzc=; b=a2q3H2EA3C00DzuQNkSpmELERKAn4gGc0gjM3Kq+Y1f7wciW0bR16mGkhjYDE0ih2o wAYuTXsjByOMId936IYKSVXD8/R0M0KRlPdEI07Fdk4m7CfDlSI2VmsP0ersCmeJIP5v 43nyVONwJbZz++2+cmm3cspihnS1tdMj1GbAXiwi7b8oC/eJyoP4yqqNSHmjJjV08RdC YzYlAC9lBX2bJ9/DAAymE107mMhZTry8c5/7R4g1Rca1t173AK+78VUwTLJ5s/N1Qtsk psSXW/+7nMTii/VXlDKb0C7f9rR+YKwyxxmPWUtkp2QnvPqiT5F6cN8d+m4BacoveDrU T7uQ== X-Gm-Message-State: AOJu0YxHk/9SKVYxw/JH/pPY/tjRB90FwKECSU1RSJJyYc9NeH2cWk53 oh9iL/0/g1aXAoS3cbmu7ihcKxV4t89/pcHGR6M5EYJOqi06pThdYEQCBOcLOfbGwo22hEKYouv 8V2e+PeCBDF+mc24Y4gIRSlmmfHoJArOJd4g2UV2l71CY X-Gm-Gg: ASbGncvN/0+y1hJK6MHs8TAnvMphZTRq8mkhChlw6jkeeB1tQxXbWf3L8J4vpG6M1CH kGSYS8D9W4UV+OX9NziO83Sc9JHaoyMFpppQKFqSFwgDCThUAJgT2zsNV0Zj8lya5V5WMjkWTYd 2gk3PdAc+vkEECY0XKB3fBL1gGnKANFwVy+FhPj0DrD6gX/vc3Y2pKI/TPAlfjkAcw6z7lr+d8N tDCrhtz5xT00G5sfixK/QfG6bWNbktbxyN7OKjIJSJmdvRkr88YJocsIgGnPjKsPQw2rrv8irAX ArdSe7oGQLPIbIKwMxSbnDVe5aUami9sGANdtIKyb/Rua5GD1CnZgaAobk8Tb504Lw5+Ww== X-Google-Smtp-Source: AGHT+IGIJLWw2ExEqH0gSZ0JcuA3Uz78ECDUxjdkAQAyGS7XVLg7F7lpCZDFYtRTPTbZyRXZIshKicYTARi0 X-Received: by 2002:a92:cd8b:0:b0:3d9:6cb6:fa52 with SMTP id e9e14a558f8ab-3e13eefa3c0mr11765245ab.12.1751691987156; Fri, 04 Jul 2025 22:06:27 -0700 (PDT) Received: from postal.iol.unh.edu (postal.iol.unh.edu. [132.177.123.84]) by smtp-relay.gmail.com with ESMTPS id e9e14a558f8ab-3e0f3434956sm2356555ab.5.2025.07.04.22.06.27 (version=TLS1_2 cipher=ECDHE-ECDSA-AES128-GCM-SHA256 bits=128/128); Fri, 04 Jul 2025 22:06:27 -0700 (PDT) X-Relaying-Domain: iol.unh.edu Date: Fri, 04 Jul 2025 22:06:27 -0700 (PDT) Message-ID: <6868b2d3.050a0220.29fd5e.cd6cSMTPIN_ADDED_MISSING@mx.google.com> Received: from [172.21.0.8] (unknown [172.18.0.240]) by postal.iol.unh.edu (Postfix) with ESMTP id 9C5CC6051830; Sat, 5 Jul 2025 01:06:26 -0400 (EDT) Subject: |SUCCESS| pw155010 [PATCH] net/bonding: avoid RSS reta update in flo From: dpdklab@iol.unh.edu To: Test Report Cc: dpdk-test-reports@iol.unh.edu In-Reply-To: <20250704135031.5306-1-madhuker.mythri@oracle.com> References: <20250704135031.5306-1-madhuker.mythri@oracle.com> Content-Type: text/plain X-BeenThere: test-report@dpdk.org X-Mailman-Version: 2.1.29 Precedence: list List-Id: automatic DPDK test reports List-Unsubscribe: , List-Archive: List-Post: List-Help: List-Subscribe: , Errors-To: test-report-bounces@dpdk.org Test-Label: iol-unit-arm64-testing Test-Status: SUCCESS http://dpdk.org/patch/155010 _Testing PASS_ Submitter: Madhuker Mythri Date: Friday, July 04 2025 13:50:31 DPDK git baseline: Repo:dpdk Branch: master CommitID:b18c543ec30729ccc7708a6e064a1f9db5d8c11f 155010 --> testing pass Upstream job id: Generic-Unit-Test-DPDK#352809 Test environment and result as below: +------------------------------+----------------+---------------------------+------------------------------+--------------+ | Environment | dpdk_unit_test | cryptodev_sw_zuc_autotest | cryptodev_sw_snow3g_autotest | lpm_autotest | +==============================+================+===========================+==============================+==============+ | Fedora Linux 40 | PASS | SKIPPED | SKIPPED | SKIPPED | +------------------------------+----------------+---------------------------+------------------------------+--------------+ | CentOS Stream 10 | PASS | SKIPPED | SKIPPED | SKIPPED | +------------------------------+----------------+---------------------------+------------------------------+--------------+ | Debian GNU/Linux 12 | PASS | SKIPPED | SKIPPED | SKIPPED | +------------------------------+----------------+---------------------------+------------------------------+--------------+ | CentOS Stream 9 | PASS | SKIPPED | SKIPPED | SKIPPED | +------------------------------+----------------+---------------------------+------------------------------+--------------+ | Fedora Linux 41 | PASS | SKIPPED | SKIPPED | SKIPPED | +------------------------------+----------------+---------------------------+------------------------------+--------------+ | Ubuntu 20.04 | PASS | SKIPPED | SKIPPED | PASS | +------------------------------+----------------+---------------------------+------------------------------+--------------+ | Red Hat Enterprise Linux 9.5 | PASS | SKIPPED | SKIPPED | SKIPPED | +------------------------------+----------------+---------------------------+------------------------------+--------------+ | Ubuntu 22.04 | PASS | SKIPPED | SKIPPED | SKIPPED | +------------------------------+----------------+---------------------------+------------------------------+--------------+ | Ubuntu 24.04 | PASS | SKIPPED | SKIPPED | SKIPPED | +------------------------------+----------------+---------------------------+------------------------------+--------------+ | Debian 12 (arm) | SKIPPED | PASS | PASS | SKIPPED | +------------------------------+----------------+---------------------------+------------------------------+--------------+ Fedora Linux 40 Kernel: 5.4 Compiler: gcc gcc (GCC) 14.2.1 20240912 (Red Hat 14.2.1-3) CentOS Stream 10 Kernel: 5.4 Compiler: gcc gcc (GCC) 14.2.1 20250110 (Red Hat 14.2.1-8) Debian GNU/Linux 12 Kernel: 5.4 Compiler: gcc gcc (Debian 12.2.0-14+deb12u1) 12.2.0 CentOS Stream 9 Kernel: 5.4 Compiler: gcc gcc (GCC) 11.5.0 20240719 (Red Hat 11.5.0-7) Fedora Linux 41 Kernel: 5.4 Compiler: gcc gcc (GCC) 14.3.1 20250523 (Red Hat 14.3.1-1) Ubuntu 20.04 Kernel: 5.4 Compiler: gcc gcc (Ubuntu 9.4.0-1ubuntu1~20.04.2) 9.4.0 Red Hat Enterprise Linux 9.5 Kernel: 5.4 Compiler: gcc gcc (GCC) 11.5.0 20240719 (Red Hat 11.5.0-2) Ubuntu 22.04 Kernel: 5.4 Compiler: gcc gcc (Ubuntu 11.4.0-1ubuntu1~22.04) 11.4.0 Ubuntu 24.04 Kernel: 5.4 Compiler: gcc gcc (Ubuntu 13.3.0-6ubuntu2~24.04) 13.3.0 Debian 12 (arm) Kernel: Depends on container host Compiler: gcc (Debian 12.2.0-14) 12.2.0 To view detailed results, visit: https://lab.dpdk.org/results/dashboard/patchsets/33593/ UNH-IOL DPDK Community Lab To manage your email subscriptions, visit: https://lab.dpdk.org/results/dashboard/preferences/subscriptions/