From mboxrd@z Thu Jan 1 00:00:00 1970 Return-Path: Received: from mails.dpdk.org (mails.dpdk.org [217.70.189.124]) by inbox.dpdk.org (Postfix) with ESMTP id 39C4146AF2 for ; Sat, 5 Jul 2025 07:12:53 +0200 (CEST) Received: from mails.dpdk.org (localhost [127.0.0.1]) by mails.dpdk.org (Postfix) with ESMTP id 18A2C40287; Sat, 5 Jul 2025 07:12:53 +0200 (CEST) Received: from mail-pl1-f226.google.com (mail-pl1-f226.google.com [209.85.214.226]) by mails.dpdk.org (Postfix) with ESMTP id A987240287 for ; Sat, 5 Jul 2025 07:12:51 +0200 (CEST) Received: by mail-pl1-f226.google.com with SMTP id d9443c01a7336-235d6de331fso19674445ad.3 for ; Fri, 04 Jul 2025 22:12:51 -0700 (PDT) DKIM-Signature: v=1; a=rsa-sha256; c=relaxed/relaxed; d=iol.unh.edu; s=unh-iol; t=1751692371; x=1752297171; darn=dpdk.org; h=references:in-reply-to:cc:to:from:subject:message-id:date:from:to :cc:subject:date:message-id:reply-to; bh=ft9EI562C/VVxQpQZM5QbFNujZFo/AfqkGul3wmHJDQ=; b=a8UW+4yKFwfuFOhaAOi4maVQEQ8HCfIbbARo+6RzE80ecFHVxhkhBO4ifHlkSlAeB8 lFCdqsNRUrNnPTQXQ8CPWjJ9J5OpZkK7mNKMvZq+PVA4nZEb1qL4YENPkwRj4h9XMnOr 2Gs3T6uuzIO+GFk9DLZaAzTfarA7SXBlfxd7k= X-Google-DKIM-Signature: v=1; a=rsa-sha256; c=relaxed/relaxed; d=1e100.net; s=20230601; t=1751692371; x=1752297171; h=references:in-reply-to:cc:to:from:subject:message-id:date :x-gm-message-state:from:to:cc:subject:date:message-id:reply-to; bh=ft9EI562C/VVxQpQZM5QbFNujZFo/AfqkGul3wmHJDQ=; b=O0YIeVlQC0LwO53GyiG8XmpbghYJYupM029IJsqDOPchYXVL4pmS50AEj39aT6TAWg fncSSvFnGIjoJNMXyHE3YsbNkMBhqx4+PyJXCthkPmYnVhrHPFTztNfMO7ndtSl/gPWa 0SRtt4GXrQRCr7EXfe3tx62T7RvQBeei6LeWsRAR/c3bfVwv6I0QUFz47Yy1eZomvzUb IRO74MAtXjM0sm35h9N3L3UripiA4CDpoYLl9iSZZRlUc9olGXZA+mT9DZ3FaL3U5e/H mP4IyjR6vLlLTfh5gZ1emq+aW2hcBOjs59GK74uJh/anDlSf27G4CZmk7pkgTxq8Idja /Osg== X-Gm-Message-State: AOJu0Ywr5/2fEpwnLCFfioixPLE+kCbJLr4/TYxH/oQXbNsAlNKdIGhu hqdxV9Iz68AakzXgLDn0UllG8sYCXYMwQUqr2W6iziwM3W0DnM4ik9C2aQepGvZo1JG7ixoTEcr CGmolM5ZF6NQ4P1LNZL9070uo6CxKzxBlSH3TvawektPq X-Gm-Gg: ASbGncuKCgkowMdOLNARpikwi11NPVnBjOo7XOPwXeg4KFoEz9xBUU//i6v6QA9twzH 9k80qfX/SxmTCOCJFwi/FiYbfQdkzxVIA7ZWIom8Wg6F67TFGuPDU09Acd4sOqFjIicvekodHOQ jXI138cQtclv3HmcH6JRe5RmQN/UX76kqILzsWBnLslCW1F0qTGCv90MqLCh18tjGZemFtBneE3 1LH8vYOZQ8C3rT9NtUCG1owACTyhL1QdehkzX+udQjIRGJ6sHPAnzmc9iSmoTXzWBCXYfuEpyOi FYTAxcQNIffZycaxHD1ii04Us2wyb2Z9vx9dq/T/gGQlozmAyLMtTeqxO58yqBGA2keTAw== X-Google-Smtp-Source: AGHT+IEXKo0Yms66oL1YzxqBmOSFE0wrnB/ekKe8o2woFJ+OP/XlDkQJXJG/0p1ydh66x2oGgZaRApE2Cer0 X-Received: by 2002:a17:902:ec86:b0:235:15f3:ef16 with SMTP id d9443c01a7336-23c85deb2demr76048545ad.13.1751692370640; Fri, 04 Jul 2025 22:12:50 -0700 (PDT) Received: from postal.iol.unh.edu (postal.iol.unh.edu. [132.177.123.84]) by smtp-relay.gmail.com with ESMTPS id d9443c01a7336-23c842b5d3csm1533105ad.23.2025.07.04.22.12.50 (version=TLS1_2 cipher=ECDHE-ECDSA-AES128-GCM-SHA256 bits=128/128); Fri, 04 Jul 2025 22:12:50 -0700 (PDT) X-Relaying-Domain: iol.unh.edu Date: Fri, 04 Jul 2025 22:12:50 -0700 (PDT) Message-ID: <6868b452.170a0220.235b3f.854eSMTPIN_ADDED_MISSING@mx.google.com> Received: from [172.21.0.8] (unknown [172.18.0.240]) by postal.iol.unh.edu (Postfix) with ESMTP id CC2C76051830; Sat, 5 Jul 2025 01:12:49 -0400 (EDT) Subject: |WARNING| pw154988-154994 [PATCH] [v8,8/8] bus/dpaa: optimize qman e From: dpdklab@iol.unh.edu To: Test Report Cc: dpdk-test-reports@iol.unh.edu In-Reply-To: <20250703053743.3710482-9-vanshika.shukla@nxp.com> References: <20250703053743.3710482-9-vanshika.shukla@nxp.com> Content-Type: text/plain X-BeenThere: test-report@dpdk.org X-Mailman-Version: 2.1.29 Precedence: list List-Id: automatic DPDK test reports List-Unsubscribe: , List-Archive: List-Post: List-Help: List-Subscribe: , Errors-To: test-report-bounces@dpdk.org Test-Label: iol-compile-amd64-testing Test-Status: WARNING http://dpdk.org/patch/154994 _Testing issues_ Submitter: Vanshika Shukla Date: Thursday, July 03 2025 05:37:43 DPDK git baseline: Repo:dpdk Branch: master CommitID:b18c543ec30729ccc7708a6e064a1f9db5d8c11f 154988-154994 --> testing issues Upstream job id: Generic-DPDK-Compile-Meson#405520 Test environment and result as below: +-------------------------------+--------------------+-------------------+-------------------------+----------------------+-------------------+------------------+ | Environment | dpdk_meson_compile | dpdk_msvc_compile | dpdk_llvm_clang_compile | dpdk_mingw64_compile | dpdk_compile_spdk | dpdk_compile_ovs | +===============================+====================+===================+=========================+======================+===================+==================+ | Ubuntu 20.04 | PASS | SKIPPED | SKIPPED | SKIPPED | SKIPPED | SKIPPED | +-------------------------------+--------------------+-------------------+-------------------------+----------------------+-------------------+------------------+ | CentOS Stream 9 | PEND | SKIPPED | SKIPPED | SKIPPED | PEND | SKIPPED | +-------------------------------+--------------------+-------------------+-------------------------+----------------------+-------------------+------------------+ | CentOS Stream 10 | PASS | SKIPPED | SKIPPED | SKIPPED | SKIPPED | SKIPPED | +-------------------------------+--------------------+-------------------+-------------------------+----------------------+-------------------+------------------+ | Debian GNU/Linux 12 | PEND | SKIPPED | SKIPPED | SKIPPED | PEND | SKIPPED | +-------------------------------+--------------------+-------------------+-------------------------+----------------------+-------------------+------------------+ | Fedora Linux 40 | PASS | SKIPPED | SKIPPED | SKIPPED | PASS | SKIPPED | +-------------------------------+--------------------+-------------------+-------------------------+----------------------+-------------------+------------------+ | openSUSE Leap 15.6 | PASS | SKIPPED | SKIPPED | SKIPPED | SKIPPED | SKIPPED | +-------------------------------+--------------------+-------------------+-------------------------+----------------------+-------------------+------------------+ | Red Hat Enterprise Linux 8.10 | PASS | SKIPPED | SKIPPED | SKIPPED | SKIPPED | SKIPPED | +-------------------------------+--------------------+-------------------+-------------------------+----------------------+-------------------+------------------+ | Red Hat Enterprise Linux 9.5 | PASS | SKIPPED | SKIPPED | SKIPPED | SKIPPED | SKIPPED | +-------------------------------+--------------------+-------------------+-------------------------+----------------------+-------------------+------------------+ | Ubuntu 22.04 | PEND | SKIPPED | SKIPPED | SKIPPED | PEND | SKIPPED | +-------------------------------+--------------------+-------------------+-------------------------+----------------------+-------------------+------------------+ | Ubuntu 24.04 | PEND | SKIPPED | SKIPPED | SKIPPED | PASS | PASS | +-------------------------------+--------------------+-------------------+-------------------------+----------------------+-------------------+------------------+ | Fedora Linux 41 | PEND | SKIPPED | SKIPPED | SKIPPED | PEND | PEND | +-------------------------------+--------------------+-------------------+-------------------------+----------------------+-------------------+------------------+ | Alpine Linux 3.22.0 | PEND | SKIPPED | SKIPPED | SKIPPED | SKIPPED | SKIPPED | +-------------------------------+--------------------+-------------------+-------------------------+----------------------+-------------------+------------------+ | Windows Server 2022 | SKIPPED | PASS | PASS | PASS | SKIPPED | SKIPPED | +-------------------------------+--------------------+-------------------+-------------------------+----------------------+-------------------+------------------+ Ubuntu 20.04 Kernel: 4.19 Compiler: gcc gcc (Ubuntu 9.4.0-1ubuntu1~20.04.2) 9.4.0 CentOS Stream 9 Kernel: 5.15 Compiler: gcc gcc (GCC) 11.5.0 20240719 (Red Hat 11.5.0-7) CentOS Stream 10 Kernel: 5.15 Compiler: gcc gcc (GCC) 14.2.1 20250110 (Red Hat 14.2.1-8) Debian GNU/Linux 12 Kernel: 5.15 Compiler: gcc gcc (Debian 12.2.0-14+deb12u1) 12.2.0 Fedora Linux 40 Kernel: 5.15 Compiler: clang gcc (GCC) 14.2.1 20240912 (Red Hat 14.2.1-3) openSUSE Leap 15.6 Kernel: 5.15 Compiler: gcc gcc (SUSE Linux) 7.5.0 Red Hat Enterprise Linux 8.10 Kernel: 5.15 Compiler: gcc gcc (GCC) 8.5.0 20210514 (Red Hat 8.5.0-22) Red Hat Enterprise Linux 9.5 Kernel: 5.15 Compiler: gcc gcc (GCC) 11.5.0 20240719 (Red Hat 11.5.0-2) Ubuntu 22.04 Kernel: 5.15 Compiler: gcc gcc (Ubuntu 11.4.0-1ubuntu1~22.04) 11.4.0 Ubuntu 24.04 Kernel: 5.15 Compiler: gcc gcc (Ubuntu 13.3.0-6ubuntu2~24.04) 13.3.0 Fedora Linux 41 Kernel: 5.15 Compiler: gcc gcc (GCC) 14.3.1 20250523 (Red Hat 14.3.1-1) Alpine Linux 3.22.0 Kernel: 5.15 Compiler: gcc gcc (Alpine 14.2.0) 14.2.0 Windows Server 2022 Kernel: 10.0.20348.2031 Compiler: clang 15.0.7, gcc 14.1.0 (MinGW), and MSVC VS 19.39.33521 To view detailed results, visit: https://lab.dpdk.org/results/dashboard/patchsets/33577/ UNH-IOL DPDK Community Lab To manage your email subscriptions, visit: https://lab.dpdk.org/results/dashboard/preferences/subscriptions/