From mboxrd@z Thu Jan 1 00:00:00 1970 Return-Path: Received: from mails.dpdk.org (mails.dpdk.org [217.70.189.124]) by inbox.dpdk.org (Postfix) with ESMTP id EF17846AF2 for ; Sat, 5 Jul 2025 07:21:28 +0200 (CEST) Received: from mails.dpdk.org (localhost [127.0.0.1]) by mails.dpdk.org (Postfix) with ESMTP id C5F6E40287; Sat, 5 Jul 2025 07:21:28 +0200 (CEST) Received: from mail-io1-f99.google.com (mail-io1-f99.google.com [209.85.166.99]) by mails.dpdk.org (Postfix) with ESMTP id 84EB040287 for ; Sat, 5 Jul 2025 07:21:27 +0200 (CEST) Received: by mail-io1-f99.google.com with SMTP id ca18e2360f4ac-8733548c627so46365839f.3 for ; Fri, 04 Jul 2025 22:21:27 -0700 (PDT) DKIM-Signature: v=1; a=rsa-sha256; c=relaxed/relaxed; d=iol.unh.edu; s=unh-iol; t=1751692887; x=1752297687; darn=dpdk.org; h=references:in-reply-to:cc:to:from:subject:message-id:date:from:to :cc:subject:date:message-id:reply-to; bh=WM7Fxg2bGm1aU5YIsdZbA/pq7vO5w7LviUjT+XavqnA=; b=jKAuGaxP4S2gAZD2LuG+27KkyE9BxtD001m+W2+nn9dCyy8+tc8CFdxueGqiPg4wt5 xDcKy0VSKTrwYPukuHb9Vv3CiykSeDDQCfo5icXbRlVxktznx1iXvyhvGPuAMSgNX6FN HJgJQsdQ47aVXfjwKirIXPR1uTR/GufVS+Y7c= X-Google-DKIM-Signature: v=1; a=rsa-sha256; c=relaxed/relaxed; d=1e100.net; s=20230601; t=1751692887; x=1752297687; h=references:in-reply-to:cc:to:from:subject:message-id:date :x-gm-message-state:from:to:cc:subject:date:message-id:reply-to; bh=WM7Fxg2bGm1aU5YIsdZbA/pq7vO5w7LviUjT+XavqnA=; b=vt/nalkPfqxaDcj0e5aPJl0lGcMFaec0NB61CXGecj83NhS5UlPZ4aYauWSVn5Y7na RhJTijwQsp4Kz5CX5qmg1ynMK9ANh25Fz4jQwvz/oKRR3Us9W+FEUJxFRGvD5Sys8uBB 76ECMBozLHvdRgvT15oZGXk/xGw7MCtifRe3wiJeOX2Ppgxz6JYPC1GdsF28jkVkI0PI qWkWlf6V8C3B/kYIEm5KYjuixRbymDkGuKSb2zERdYmelDX0d5KLaNUAItVXRw/E5WGO psiqUb64FZSRiIjzRBBtRdjFU4jJpe3jCvhWSKllACU77eJEkWqcyvaWvfvs/p3DfgpM gelw== X-Gm-Message-State: AOJu0Yzh8K2ERsa06PuKsSEzLUbrckwubIWR26Y82DeEgE/dxfricqIb em6HNWMVD2Fc/DjsuEUD258RcnBr1Ih9YAaPVkOr2eIwspSDMQ+/qDE/BwrzJ9/NIm/25wq2z3D POfUq/O+ihHC1ydNPchJ5yDFzM302O90i644us+HuhSca X-Gm-Gg: ASbGnctYjo1dXaGGdDsqeb2usj+gLSwkmfKHWHSGBnsL6eQAiM0TSJXgIqi/WqkJ02c BwabsF0TsCI1kfj4twi8EkiQY4IZLD6nsHad7O04uVY5URsRzozaPhSpS+GAJz5dgb7y8NLDYYJ DLnMh9EVyEtAeQa5Sn4pFWd+QXcEUZEjisAcm1y/VKbHKKbiHIsqHcatkN/y254SpEWqAFAXqQ4 KnG3IL8c4KFcLNgpLVlKOcdNWCYZd0ncmLnwDD7SifWH9KK+hz33t2vsusMrbOBvYOZrDo+zm5/ ntuPNXb3kjhcol5V+rWsDSkW5rXzW0EvF2kgv+N/nAWZe5mkCg9tNq6XZ+J7WD55tBS9YQ== X-Google-Smtp-Source: AGHT+IEyxnsaq2Yqd1QBNsm5x1i9UirooB628PXzYtZGFwF0dkew+0pC9TYoJKo0jMsBkrvKcdLzpXsBTouX X-Received: by 2002:a05:6e02:2206:b0:3dd:d33a:741a with SMTP id e9e14a558f8ab-3e13ef0d2f4mr12347825ab.18.1751692886745; Fri, 04 Jul 2025 22:21:26 -0700 (PDT) Received: from postal.iol.unh.edu (postal.iol.unh.edu. [132.177.123.84]) by smtp-relay.gmail.com with ESMTPS id 8926c6da1cb9f-503b59bdbfdsm117130173.5.2025.07.04.22.21.26 (version=TLS1_2 cipher=ECDHE-ECDSA-AES128-GCM-SHA256 bits=128/128); Fri, 04 Jul 2025 22:21:26 -0700 (PDT) X-Relaying-Domain: iol.unh.edu Date: Fri, 04 Jul 2025 22:21:26 -0700 (PDT) Message-ID: <6868b656.050a0220.84b1c.630cSMTPIN_ADDED_MISSING@mx.google.com> Received: from [172.21.0.12] (unknown [172.18.0.240]) by postal.iol.unh.edu (Postfix) with ESMTP id 432396051830; Sat, 5 Jul 2025 01:21:26 -0400 (EDT) Subject: |SUCCESS| pw154988-154994 [PATCH] [v8,8/8] bus/dpaa: optimize qman e From: dpdklab@iol.unh.edu To: Test Report Cc: dpdk-test-reports@iol.unh.edu In-Reply-To: <20250703053743.3710482-9-vanshika.shukla@nxp.com> References: <20250703053743.3710482-9-vanshika.shukla@nxp.com> Content-Type: text/plain X-BeenThere: test-report@dpdk.org X-Mailman-Version: 2.1.29 Precedence: list List-Id: automatic DPDK test reports List-Unsubscribe: , List-Archive: List-Post: List-Help: List-Subscribe: , Errors-To: test-report-bounces@dpdk.org Test-Label: iol-compile-arm64-testing Test-Status: SUCCESS http://dpdk.org/patch/154994 _Testing PASS_ Submitter: Vanshika Shukla Date: Thursday, July 03 2025 05:37:43 DPDK git baseline: Repo:dpdk Branch: master CommitID:b18c543ec30729ccc7708a6e064a1f9db5d8c11f 154988-154994 --> testing pass Upstream job id: Generic-DPDK-Compile-Meson#405514 Test environment and result as below: +------------------------------+--------------------+ | Environment | dpdk_meson_compile | +==============================+====================+ | Red Hat Enterprise Linux 9.5 | PASS | +------------------------------+--------------------+ | Ubuntu 20.04 | PASS | +------------------------------+--------------------+ | Debian GNU/Linux 12 | PASS | +------------------------------+--------------------+ | Fedora Linux 40 | PASS | +------------------------------+--------------------+ | Fedora Linux 41 | PASS | +------------------------------+--------------------+ | Ubuntu 22.04 | PASS | +------------------------------+--------------------+ | Ubuntu 24.04 | PASS | +------------------------------+--------------------+ | CentOS Stream 9 | PASS | +------------------------------+--------------------+ | CentOS Stream 10 | PASS | +------------------------------+--------------------+ Red Hat Enterprise Linux 9.5 Kernel: 5.4 Compiler: gcc gcc (GCC) 11.5.0 20240719 (Red Hat 11.5.0-2) Ubuntu 20.04 Kernel: 5.15 Compiler: aarch64-linux-gnu-gcc gcc (Ubuntu 9.4.0-1ubuntu1~20.04.2) 9.4.0 Debian GNU/Linux 12 Kernel: 5.4 Compiler: gcc gcc (Debian 12.2.0-14+deb12u1) 12.2.0 Fedora Linux 40 Kernel: 5.4 Compiler: gcc gcc (GCC) 14.2.1 20240912 (Red Hat 14.2.1-3) Fedora Linux 41 Kernel: 5.4 Compiler: gcc gcc (GCC) 14.3.1 20250523 (Red Hat 14.3.1-1) Ubuntu 22.04 Kernel: 5.4 Compiler: gcc gcc (Ubuntu 11.4.0-1ubuntu1~22.04) 11.4.0 Ubuntu 24.04 Kernel: 5.4 Compiler: gcc gcc (Ubuntu 13.3.0-6ubuntu2~24.04) 13.3.0 CentOS Stream 9 Kernel: 5.4 Compiler: gcc gcc (GCC) 11.5.0 20240719 (Red Hat 11.5.0-7) CentOS Stream 10 Kernel: 5.4 Compiler: gcc gcc (GCC) 14.2.1 20250110 (Red Hat 14.2.1-8) To view detailed results, visit: https://lab.dpdk.org/results/dashboard/patchsets/33577/ UNH-IOL DPDK Community Lab To manage your email subscriptions, visit: https://lab.dpdk.org/results/dashboard/preferences/subscriptions/