From mboxrd@z Thu Jan 1 00:00:00 1970 Return-Path: Received: from mails.dpdk.org (mails.dpdk.org [217.70.189.124]) by inbox.dpdk.org (Postfix) with ESMTP id E3F5146AF2 for ; Sat, 5 Jul 2025 07:21:38 +0200 (CEST) Received: from mails.dpdk.org (localhost [127.0.0.1]) by mails.dpdk.org (Postfix) with ESMTP id DB8C540287; Sat, 5 Jul 2025 07:21:38 +0200 (CEST) Received: from mail-pl1-f225.google.com (mail-pl1-f225.google.com [209.85.214.225]) by mails.dpdk.org (Postfix) with ESMTP id 5D70E40287 for ; Sat, 5 Jul 2025 07:21:37 +0200 (CEST) Received: by mail-pl1-f225.google.com with SMTP id d9443c01a7336-234fcadde3eso22044115ad.0 for ; Fri, 04 Jul 2025 22:21:37 -0700 (PDT) DKIM-Signature: v=1; a=rsa-sha256; c=relaxed/relaxed; d=iol.unh.edu; s=unh-iol; t=1751692896; x=1752297696; darn=dpdk.org; h=references:in-reply-to:cc:to:from:subject:message-id:date:from:to :cc:subject:date:message-id:reply-to; bh=UJqOAP2Lq4uoop2VJ3GW1HFcuUyKbHtOIaP6fN1hLHU=; b=VLmj9y42l2puk2WguTr0GP5TUCeFwJf59GR1Saz1IeLIU+nllpkP11yfv1gU3+b3w0 0m8+y4BgljSMLsuuSOkgCDdV2zxHaoiHt6VZvG3hHFv66fq9j9uxd9jjwUSW255KQJeS UoPHkS58M1A4vKrO4BFNnAt4piJL7Sd7yIdmI= X-Google-DKIM-Signature: v=1; a=rsa-sha256; c=relaxed/relaxed; d=1e100.net; s=20230601; t=1751692896; x=1752297696; h=references:in-reply-to:cc:to:from:subject:message-id:date :x-gm-message-state:from:to:cc:subject:date:message-id:reply-to; bh=UJqOAP2Lq4uoop2VJ3GW1HFcuUyKbHtOIaP6fN1hLHU=; b=w5OB+CS0a10vVY+cryLp+0o1q6WQPrm7SCtqGUQX5BOb5nTr/Yfh1IviFw91tNwSeg gO6uzFVpuCw3iOJwyPSMFUhhh5oAMDAQqI0SUOxOwIr6zWTjAVo0Y2BkKjKZmbnYKsr1 W1nu2/fmUKr5SJaQvuCFwar1k6UyI6WkmU0AK3PcfJgBeUxfNaY8uJOXtfyYQklTLlr1 ZSa/MRk9Bdg7XB7irx8z3kzz1+lh8as6lyeAH5p4qswcpjac+M2CF21E+vq+jjGDIrQX Ax3qcL3J7KKyP0FY04agKJq+meQyDiodh3VZrKf21AIrEOXhE9zC1q3bRApzMZ9czOj7 hNBQ== X-Gm-Message-State: AOJu0YynfLxGSCF1XgIwMP49M7oiLpIG24O69tuqE23uHwDKelQV6R0+ f2vqM35yEJjv8krLbqCtz2ffodwR9WMK3e3Cpmo9XFkweJf4kIXbm7PJL+gvCATmIB20bPzt7n3 Kp7Qij9kWy+HNUWGiD7Hkm9meTdGPIB2QRIjy7u/yd+oz X-Gm-Gg: ASbGncsmFUZiQ9TPQYZ/O4bmpdqjxZ99QrN8CBCZexMytzqCbURWl2o0tzv0qX0Mg4q fyUUw65iHgN6HNHkzfxOzvE7rVzugl5zVIxO+w4l0y91NkCzvRDY9rO5YQ4FNACFzHcB9d4Y8rK 0gJYJbZor5IQsYLBNQYHcEcSkGrWBFyBwiBcMd+WaNOkawq8FNAjfRmlL5lueSR3S+O5dVCuIzZ 3qgyoupz+TiLrFrHCduvvgiQDxTKxxeXzscb4n4KRt3JHekgbqiDodsTniv0jrQ19lMIS7Hr1Eg ue0RDovkVsrEcPEZa8giq1P0ie6tevBGsq5mTtOQRC4FNQmoc7EmnsPuzZtFCHt+toK0Kg== X-Google-Smtp-Source: AGHT+IEAhhy8QSM0LMGB6UweJYdgEb4/D8qaVkZcTcIYAk1sIW6Bmje6Cfp/JqhRIL4XaQFc8Z3BEKevwjA7 X-Received: by 2002:a17:903:41c1:b0:235:c781:c305 with SMTP id d9443c01a7336-23c8755c92amr72687395ad.24.1751692896498; Fri, 04 Jul 2025 22:21:36 -0700 (PDT) Received: from postal.iol.unh.edu (postal.iol.unh.edu. [132.177.123.84]) by smtp-relay.gmail.com with ESMTPS id d9443c01a7336-23c84508bbesm1644485ad.95.2025.07.04.22.21.36 (version=TLS1_2 cipher=ECDHE-ECDSA-AES128-GCM-SHA256 bits=128/128); Fri, 04 Jul 2025 22:21:36 -0700 (PDT) X-Relaying-Domain: iol.unh.edu Date: Fri, 04 Jul 2025 22:21:36 -0700 (PDT) Message-ID: <6868b660.170a0220.1b6e31.8e9dSMTPIN_ADDED_MISSING@mx.google.com> Received: from [172.21.0.11] (unknown [172.18.0.240]) by postal.iol.unh.edu (Postfix) with ESMTP id A82426051830; Sat, 5 Jul 2025 01:21:35 -0400 (EDT) Subject: |WARNING| pw154997 [PATCH] net: support VLAN stacking packet type pa From: dpdklab@iol.unh.edu To: Test Report Cc: dpdk-test-reports@iol.unh.edu In-Reply-To: <20250703093027.1259459-1-huangdengdui@huawei.com> References: <20250703093027.1259459-1-huangdengdui@huawei.com> Content-Type: text/plain X-BeenThere: test-report@dpdk.org X-Mailman-Version: 2.1.29 Precedence: list List-Id: automatic DPDK test reports List-Unsubscribe: , List-Archive: List-Post: List-Help: List-Subscribe: , Errors-To: test-report-bounces@dpdk.org Test-Label: iol-compile-amd64-testing Test-Status: WARNING http://dpdk.org/patch/154997 _Testing issues_ Submitter: Dengdui Huang Date: Thursday, July 03 2025 09:30:27 DPDK git baseline: Repo:dpdk Branch: master CommitID:70c2297528e7c7789af452f78de1932e9a20c8a2 154997 --> testing issues Upstream job id: Generic-DPDK-Compile-Meson#405543 Test environment and result as below: +-------------------------------+--------------------+-------------------+-------------------------+-------------------+------------------+----------------------+ | Environment | dpdk_meson_compile | dpdk_msvc_compile | dpdk_llvm_clang_compile | dpdk_compile_spdk | dpdk_compile_ovs | dpdk_mingw64_compile | +===============================+====================+===================+=========================+===================+==================+======================+ | Ubuntu 20.04 | PASS | SKIPPED | SKIPPED | SKIPPED | SKIPPED | SKIPPED | +-------------------------------+--------------------+-------------------+-------------------------+-------------------+------------------+----------------------+ | CentOS Stream 9 | PASS | SKIPPED | SKIPPED | PASS | SKIPPED | SKIPPED | +-------------------------------+--------------------+-------------------+-------------------------+-------------------+------------------+----------------------+ | Debian GNU/Linux 12 | PASS | SKIPPED | SKIPPED | PASS | SKIPPED | SKIPPED | +-------------------------------+--------------------+-------------------+-------------------------+-------------------+------------------+----------------------+ | Fedora Linux 40 | PASS | SKIPPED | SKIPPED | PASS | SKIPPED | SKIPPED | +-------------------------------+--------------------+-------------------+-------------------------+-------------------+------------------+----------------------+ | Fedora Linux 41 | PASS | SKIPPED | SKIPPED | PASS | PASS | SKIPPED | +-------------------------------+--------------------+-------------------+-------------------------+-------------------+------------------+----------------------+ | openSUSE Leap 15.6 | PASS | SKIPPED | SKIPPED | SKIPPED | SKIPPED | SKIPPED | +-------------------------------+--------------------+-------------------+-------------------------+-------------------+------------------+----------------------+ | Red Hat Enterprise Linux 8.10 | PASS | SKIPPED | SKIPPED | SKIPPED | SKIPPED | SKIPPED | +-------------------------------+--------------------+-------------------+-------------------------+-------------------+------------------+----------------------+ | Red Hat Enterprise Linux 9.5 | PASS | SKIPPED | SKIPPED | SKIPPED | SKIPPED | SKIPPED | +-------------------------------+--------------------+-------------------+-------------------------+-------------------+------------------+----------------------+ | Ubuntu 22.04 | PASS | SKIPPED | SKIPPED | PASS | SKIPPED | SKIPPED | +-------------------------------+--------------------+-------------------+-------------------------+-------------------+------------------+----------------------+ | Ubuntu 24.04 | PASS | SKIPPED | SKIPPED | PASS | PASS | SKIPPED | +-------------------------------+--------------------+-------------------+-------------------------+-------------------+------------------+----------------------+ | Alpine Linux 3.22.0 | PASS | SKIPPED | SKIPPED | SKIPPED | SKIPPED | SKIPPED | +-------------------------------+--------------------+-------------------+-------------------------+-------------------+------------------+----------------------+ | CentOS Stream 10 | PASS | SKIPPED | SKIPPED | SKIPPED | SKIPPED | SKIPPED | +-------------------------------+--------------------+-------------------+-------------------------+-------------------+------------------+----------------------+ | Windows Server 2022 | SKIPPED | PASS | PASS | SKIPPED | SKIPPED | PASS | +-------------------------------+--------------------+-------------------+-------------------------+-------------------+------------------+----------------------+ Ubuntu 20.04 Kernel: 4.19 Compiler: gcc gcc (Ubuntu 9.4.0-1ubuntu1~20.04.2) 9.4.0 CentOS Stream 9 Kernel: 5.15 Compiler: gcc gcc (GCC) 11.5.0 20240719 (Red Hat 11.5.0-7) Debian GNU/Linux 12 Kernel: 5.15 Compiler: gcc gcc (Debian 12.2.0-14+deb12u1) 12.2.0 Fedora Linux 40 Kernel: 5.15 Compiler: clang gcc (GCC) 14.2.1 20240912 (Red Hat 14.2.1-3) Fedora Linux 41 Kernel: 5.15 Compiler: clang gcc (GCC) 14.3.1 20250523 (Red Hat 14.3.1-1) openSUSE Leap 15.6 Kernel: 5.15 Compiler: gcc gcc (SUSE Linux) 7.5.0 Red Hat Enterprise Linux 8.10 Kernel: 5.15 Compiler: gcc gcc (GCC) 8.5.0 20210514 (Red Hat 8.5.0-22) Red Hat Enterprise Linux 9.5 Kernel: 5.15 Compiler: gcc gcc (GCC) 11.5.0 20240719 (Red Hat 11.5.0-2) Ubuntu 22.04 Kernel: 5.15 Compiler: gcc gcc (Ubuntu 11.4.0-1ubuntu1~22.04) 11.4.0 Ubuntu 24.04 Kernel: 5.15 Compiler: gcc gcc (Ubuntu 13.3.0-6ubuntu2~24.04) 13.3.0 Alpine Linux 3.22.0 Kernel: 5.15 Compiler: gcc gcc (Alpine 14.2.0) 14.2.0 CentOS Stream 10 Kernel: 5.15 Compiler: gcc gcc (GCC) 14.2.1 20250110 (Red Hat 14.2.1-8) Windows Server 2022 Kernel: 10.0.20348.2031 Compiler: clang 15.0.7, gcc 14.1.0 (MinGW), and MSVC VS 19.39.33521 To view detailed results, visit: https://lab.dpdk.org/results/dashboard/patchsets/33580/ UNH-IOL DPDK Community Lab To manage your email subscriptions, visit: https://lab.dpdk.org/results/dashboard/preferences/subscriptions/