From mboxrd@z Thu Jan 1 00:00:00 1970 Return-Path: Received: from mails.dpdk.org (mails.dpdk.org [217.70.189.124]) by inbox.dpdk.org (Postfix) with ESMTP id F2A1546AF2 for ; Sat, 5 Jul 2025 07:21:48 +0200 (CEST) Received: from mails.dpdk.org (localhost [127.0.0.1]) by mails.dpdk.org (Postfix) with ESMTP id EDE8740287; Sat, 5 Jul 2025 07:21:48 +0200 (CEST) Received: from mail-pf1-f227.google.com (mail-pf1-f227.google.com [209.85.210.227]) by mails.dpdk.org (Postfix) with ESMTP id 117DD40287 for ; Sat, 5 Jul 2025 07:21:48 +0200 (CEST) Received: by mail-pf1-f227.google.com with SMTP id d2e1a72fcca58-7425bd5a83aso1420087b3a.0 for ; Fri, 04 Jul 2025 22:21:47 -0700 (PDT) DKIM-Signature: v=1; a=rsa-sha256; c=relaxed/relaxed; d=iol.unh.edu; s=unh-iol; t=1751692907; x=1752297707; darn=dpdk.org; h=references:in-reply-to:cc:to:from:subject:message-id:date:from:to :cc:subject:date:message-id:reply-to; bh=JW5S+kdB5ouO43+EonLppDfA4gTvTTusum7ySzIZUto=; b=F/0rkQyA1lqQs72kgQpFR9cRi7qpd8fS5hetGpqzpUqLwVQYJ8IZSL0Ktu8ArEJnnN lhH/suJ34ownq0nHU8xNIUi1L83AjZ62Qs6LRRUpnmmtxslDT0wFel2JbtSRVCAZfIh7 Cs1ej9YqLsOGs10Tn5JkssL94pJVK3rdr6X9s= X-Google-DKIM-Signature: v=1; a=rsa-sha256; c=relaxed/relaxed; d=1e100.net; s=20230601; t=1751692907; x=1752297707; h=references:in-reply-to:cc:to:from:subject:message-id:date :x-gm-message-state:from:to:cc:subject:date:message-id:reply-to; bh=JW5S+kdB5ouO43+EonLppDfA4gTvTTusum7ySzIZUto=; b=jiWuSbysS99XuODsiqibzt9pDa+m44PjYAFps8rjzKiC7BWZqrRrkFNNVD8c8QUXob YvIp9lyyRkutkeWUtSgzaOxSOMZ7xaxcL8z8Ewy7wIn8p09VUflEfZsexoXgMvApID0N HgNH2qx9cuBL/wiwkKpAt6VAGb6Q7Uxbk3/1+6d2DmzibOJ8HTQLkmBXZ2lxFe2CfR1E l3GnbNNDGW5ZHmVoZGIis6kkH5FS0fPmmNZNkpvYN7F5rhZdUyxxXAqvj470Muvrh9gc g17SFqDQrCiAnvldRi5M6v4GYhfjgVthogyt17bXa+T/9C7Syd3GeRP7Bnn++zH+X1c+ zGKg== X-Gm-Message-State: AOJu0Yx7ZQs4fANFPIWy150FE20n+OAVauiN5oG+YIS18UFIWb18VzNv qCD2bMpHCer12nkJLLK6It6QIKMX92VQf8xhGuukeqPus19uDMbRWPSBkoB3mFNcQILN7XrhLPa ORhPVNKmWc3m7LE4bKR83HwosXo6BSdtO0auMzwPgA35RI9DQKxFI5AQ9D8t2 X-Gm-Gg: ASbGncv4VzfaqyIsxGB9bsIkP6+V/vKf9IIhsuRSRbImv/1LUQOp9CwwiHwE02Hpclt Xxx0crYw9JsifotT744eiw8wCsv9bOS4Oszl2WMJKxU5b7Dg9uxVZPzTTklX+mZsVB2jpy4QLQN pqvfJJQZPSDvapiXQsnwmPDS1S/goebguH4FcVHayUIWamvHZpJNkoOLYroeLKlTP8SV+6uPNVi 2bH+ctn/NdFCuMibbD2AcoeHan+aqQN5eO+1ZJprWfDbPVgMNIR0I4rIzOea8Avn3Ms6/qzGFpC 9cehY7UgOnHyOMYqvH5KwhFAQxY2S/N7n24cDhWtC80XLFM= X-Google-Smtp-Source: AGHT+IFqxZhVQle+LHd5q7BNmIznGqH9aN2nzXZe3RuHcDrawBbmUWaiKpMYsZZXiS+BcYbVVeBYfeLewGYJ X-Received: by 2002:a05:6a20:7d8b:b0:220:a63a:7bb1 with SMTP id adf61e73a8af0-2260c04c99fmr6280633637.37.1751692907123; Fri, 04 Jul 2025 22:21:47 -0700 (PDT) Received: from postal.iol.unh.edu (postal.iol.unh.edu. [2606:4100:3880:1234::84]) by smtp-relay.gmail.com with ESMTPS id 41be03b00d2f7-b38ee3fa6fesm170380a12.11.2025.07.04.22.21.47 (version=TLS1_2 cipher=ECDHE-ECDSA-AES128-GCM-SHA256 bits=128/128); Fri, 04 Jul 2025 22:21:47 -0700 (PDT) X-Relaying-Domain: iol.unh.edu Date: Fri, 04 Jul 2025 22:21:47 -0700 (PDT) Message-ID: <6868b66b.630a0220.7180f.9438SMTPIN_ADDED_MISSING@mx.google.com> Received: from [172.21.0.6] (unknown [172.18.0.240]) by postal.iol.unh.edu (Postfix) with ESMTP id 58A146051830; Sat, 5 Jul 2025 01:21:46 -0400 (EDT) Subject: |WARNING| pw154997 [PATCH] net: support VLAN stacking packet type pa From: dpdklab@iol.unh.edu To: Test Report Cc: dpdk-test-reports@iol.unh.edu In-Reply-To: <20250703093027.1259459-1-huangdengdui@huawei.com> References: <20250703093027.1259459-1-huangdengdui@huawei.com> Content-Type: text/plain X-BeenThere: test-report@dpdk.org X-Mailman-Version: 2.1.29 Precedence: list List-Id: automatic DPDK test reports List-Unsubscribe: , List-Archive: List-Post: List-Help: List-Subscribe: , Errors-To: test-report-bounces@dpdk.org Test-Label: iol-compile-amd64-testing Test-Status: WARNING http://dpdk.org/patch/154997 _Testing issues_ Submitter: Dengdui Huang Date: Thursday, July 03 2025 09:30:27 DPDK git baseline: Repo:dpdk Branch: master CommitID:70c2297528e7c7789af452f78de1932e9a20c8a2 154997 --> testing issues Upstream job id: Generic-DPDK-Compile-Meson#405561 Test environment and result as below: +-------------------------------+--------------------+-------------------+-------------------------+-------------------+------------------+----------------------+ | Environment | dpdk_meson_compile | dpdk_msvc_compile | dpdk_llvm_clang_compile | dpdk_compile_spdk | dpdk_compile_ovs | dpdk_mingw64_compile | +===============================+====================+===================+=========================+===================+==================+======================+ | Ubuntu 20.04 | PASS | SKIPPED | SKIPPED | SKIPPED | SKIPPED | SKIPPED | +-------------------------------+--------------------+-------------------+-------------------------+-------------------+------------------+----------------------+ | CentOS Stream 9 | PASS | SKIPPED | SKIPPED | PASS | SKIPPED | SKIPPED | +-------------------------------+--------------------+-------------------+-------------------------+-------------------+------------------+----------------------+ | Debian GNU/Linux 12 | PASS | SKIPPED | SKIPPED | PASS | SKIPPED | SKIPPED | +-------------------------------+--------------------+-------------------+-------------------------+-------------------+------------------+----------------------+ | Fedora Linux 40 | PASS | SKIPPED | SKIPPED | PASS | SKIPPED | SKIPPED | +-------------------------------+--------------------+-------------------+-------------------------+-------------------+------------------+----------------------+ | Fedora Linux 41 | PASS | SKIPPED | SKIPPED | PASS | PASS | SKIPPED | +-------------------------------+--------------------+-------------------+-------------------------+-------------------+------------------+----------------------+ | openSUSE Leap 15.6 | PASS | SKIPPED | SKIPPED | SKIPPED | SKIPPED | SKIPPED | +-------------------------------+--------------------+-------------------+-------------------------+-------------------+------------------+----------------------+ | Red Hat Enterprise Linux 8.10 | PASS | SKIPPED | SKIPPED | SKIPPED | SKIPPED | SKIPPED | +-------------------------------+--------------------+-------------------+-------------------------+-------------------+------------------+----------------------+ | Red Hat Enterprise Linux 9.5 | PASS | SKIPPED | SKIPPED | SKIPPED | SKIPPED | SKIPPED | +-------------------------------+--------------------+-------------------+-------------------------+-------------------+------------------+----------------------+ | Ubuntu 22.04 | PASS | SKIPPED | SKIPPED | PASS | SKIPPED | SKIPPED | +-------------------------------+--------------------+-------------------+-------------------------+-------------------+------------------+----------------------+ | Ubuntu 24.04 | PASS | SKIPPED | SKIPPED | PASS | PASS | SKIPPED | +-------------------------------+--------------------+-------------------+-------------------------+-------------------+------------------+----------------------+ | Alpine Linux 3.22.0 | PASS | SKIPPED | SKIPPED | SKIPPED | SKIPPED | SKIPPED | +-------------------------------+--------------------+-------------------+-------------------------+-------------------+------------------+----------------------+ | CentOS Stream 10 | PASS | SKIPPED | SKIPPED | SKIPPED | SKIPPED | SKIPPED | +-------------------------------+--------------------+-------------------+-------------------------+-------------------+------------------+----------------------+ | Windows Server 2022 | SKIPPED | PASS | PASS | SKIPPED | SKIPPED | PASS | +-------------------------------+--------------------+-------------------+-------------------------+-------------------+------------------+----------------------+ Ubuntu 20.04 Kernel: 4.19 Compiler: gcc gcc (Ubuntu 9.4.0-1ubuntu1~20.04.2) 9.4.0 CentOS Stream 9 Kernel: 5.15 Compiler: gcc gcc (GCC) 11.5.0 20240719 (Red Hat 11.5.0-7) Debian GNU/Linux 12 Kernel: 5.15 Compiler: gcc gcc (Debian 12.2.0-14+deb12u1) 12.2.0 Fedora Linux 40 Kernel: 5.15 Compiler: clang gcc (GCC) 14.2.1 20240912 (Red Hat 14.2.1-3) Fedora Linux 41 Kernel: 5.15 Compiler: clang gcc (GCC) 14.3.1 20250523 (Red Hat 14.3.1-1) openSUSE Leap 15.6 Kernel: 5.15 Compiler: gcc gcc (SUSE Linux) 7.5.0 Red Hat Enterprise Linux 8.10 Kernel: 5.15 Compiler: gcc gcc (GCC) 8.5.0 20210514 (Red Hat 8.5.0-22) Red Hat Enterprise Linux 9.5 Kernel: 5.15 Compiler: gcc gcc (GCC) 11.5.0 20240719 (Red Hat 11.5.0-2) Ubuntu 22.04 Kernel: 5.15 Compiler: gcc gcc (Ubuntu 11.4.0-1ubuntu1~22.04) 11.4.0 Ubuntu 24.04 Kernel: 5.15 Compiler: gcc gcc (Ubuntu 13.3.0-6ubuntu2~24.04) 13.3.0 Alpine Linux 3.22.0 Kernel: 5.15 Compiler: gcc gcc (Alpine 14.2.0) 14.2.0 CentOS Stream 10 Kernel: 5.15 Compiler: gcc gcc (GCC) 14.2.1 20250110 (Red Hat 14.2.1-8) Windows Server 2022 Kernel: 10.0.20348.2031 Compiler: clang 15.0.7, gcc 14.1.0 (MinGW), and MSVC VS 19.39.33521 To view detailed results, visit: https://lab.dpdk.org/results/dashboard/patchsets/33580/ UNH-IOL DPDK Community Lab To manage your email subscriptions, visit: https://lab.dpdk.org/results/dashboard/preferences/subscriptions/