From mboxrd@z Thu Jan 1 00:00:00 1970 Return-Path: Received: from mails.dpdk.org (mails.dpdk.org [217.70.189.124]) by inbox.dpdk.org (Postfix) with ESMTP id 18F7C46AF2 for ; Sat, 5 Jul 2025 07:22:00 +0200 (CEST) Received: from mails.dpdk.org (localhost [127.0.0.1]) by mails.dpdk.org (Postfix) with ESMTP id 11A424028C; Sat, 5 Jul 2025 07:22:00 +0200 (CEST) Received: from mail-pl1-f226.google.com (mail-pl1-f226.google.com [209.85.214.226]) by mails.dpdk.org (Postfix) with ESMTP id AA00140287 for ; Sat, 5 Jul 2025 07:21:58 +0200 (CEST) Received: by mail-pl1-f226.google.com with SMTP id d9443c01a7336-2350fc2591dso14005595ad.1 for ; Fri, 04 Jul 2025 22:21:58 -0700 (PDT) DKIM-Signature: v=1; a=rsa-sha256; c=relaxed/relaxed; d=iol.unh.edu; s=unh-iol; t=1751692918; x=1752297718; darn=dpdk.org; h=references:in-reply-to:cc:to:from:subject:message-id:date:from:to :cc:subject:date:message-id:reply-to; bh=SGRBPNZ0GzI9RGLTQ9yH0e+Tdx5Jo2S9HW8i7i0zFd4=; b=e8iaoTXmwykHIY8vS6L1yDu153hc478CNUlsSVz9kmbubR9zp2vfR837W3V13fFcZp 3+/MLCE0Ni+Jsy/i+mg7MAN+xZQAd2g8BC/T3VvYeWDUy3iz80LeNa2Md4MEGXYj6ks2 uF7GIz6LGSjWviuSuLdGaaI+DPtmsX3HKTjYY= X-Google-DKIM-Signature: v=1; a=rsa-sha256; c=relaxed/relaxed; d=1e100.net; s=20230601; t=1751692918; x=1752297718; h=references:in-reply-to:cc:to:from:subject:message-id:date :x-gm-message-state:from:to:cc:subject:date:message-id:reply-to; bh=SGRBPNZ0GzI9RGLTQ9yH0e+Tdx5Jo2S9HW8i7i0zFd4=; b=gQ+s+WckoDiN82iu3JzSQIL903XbS4sNj0f7DgDwZS8TSsMkTRZksMIUwp8OAZ2MfD Pz0/UgN8GLuUVtGx7mlXsM0tD1VnZYnx4GO2SgCx3R6nPQgmaphdS/IdzjOkDDq90DZX YDlDZLaNdAV1kI9dZ0CVRcPvnMDeOBfW3a94KHRGnDiZkKtzJKUDDCy2b0zICUP2gPxz Dx0F+C8oI4vWyA91oc3aEJcgrUu6k6KrV/iwP3aFTzcAac2G0bpYsyl2CBbmuXbeKmFH 6ay/uUOgT45a43aIx/DgmWkCCXAgYgYZ4qJ2vRgkGyKdsjHz2Tfi/w6Qn6G2z9TlFG+h LKpQ== X-Gm-Message-State: AOJu0Yx+uKNtC0iWa/WjXSqbS6gg5+DHVcZKNpFgvFylmxCNYrspYV6U rqPQcXXCl1UegERKGaXqwdDvTrEf7EOS0/fZNESCvTuE2fy+x+THZ+wj46OGdgDEBFSSOg6msYI 38yrALplwocPKoPK4TWo0UOCf9SVQ3+GuNCmOIUWXW9gg X-Gm-Gg: ASbGnctrR/VwI8dRYaLTcnTviucfRcp7mDMl+PbtI8wI5Y2pEhCyMWFRARC2BgAh6pc DvtJnR8OPDY0dGmnDFIrhROHn1RPo6BnAcPKZYVXain7kmuudiIreiUvdqxn3ehEAeA1bwBjkA/ t3Fj2kVJxl25AKGEUxLeU8v9XqG+VQPhP+aYhQI5VfyU5dyvnOQHELh8uEpb9LkjAzQkwcw0WRt 0KU3xlaQ/k9Zr4rm93l1RAyoLdz7QUcn/w7SafC4YCtPFDPGNGnolBktNhKOv2MYCAWzey5/NBc Badnd7+TQ+wDFV2Tq02OxplYWiP/cwzgYS62Uu/V5fd1ZOK3rIquKlaN8tdoCej0q6W4dQ== X-Google-Smtp-Source: AGHT+IHKG2Yw6geRKv44NXeoPUHnz2zANKHrVYE4K1ndf535pzPO5A+W9TiZrbeQCsIvH8QYvfn3pKqnOACo X-Received: by 2002:a17:902:d492:b0:236:71a5:4417 with SMTP id d9443c01a7336-23c84ab2bbdmr83026635ad.5.1751692917924; Fri, 04 Jul 2025 22:21:57 -0700 (PDT) Received: from postal.iol.unh.edu (postal.iol.unh.edu. [132.177.123.84]) by smtp-relay.gmail.com with ESMTPS id d9443c01a7336-23c842b59b9sm1597135ad.7.2025.07.04.22.21.57 (version=TLS1_2 cipher=ECDHE-ECDSA-AES128-GCM-SHA256 bits=128/128); Fri, 04 Jul 2025 22:21:57 -0700 (PDT) X-Relaying-Domain: iol.unh.edu Date: Fri, 04 Jul 2025 22:21:57 -0700 (PDT) Message-ID: <6868b675.170a0220.28c4e6.8997SMTPIN_ADDED_MISSING@mx.google.com> Received: from [172.21.0.5] (unknown [172.18.0.240]) by postal.iol.unh.edu (Postfix) with ESMTP id 106506051830; Sat, 5 Jul 2025 01:21:57 -0400 (EDT) Subject: |WARNING| pw154997 [PATCH] net: support VLAN stacking packet type pa From: dpdklab@iol.unh.edu To: Test Report Cc: dpdk-test-reports@iol.unh.edu In-Reply-To: <20250703093027.1259459-1-huangdengdui@huawei.com> References: <20250703093027.1259459-1-huangdengdui@huawei.com> Content-Type: text/plain X-BeenThere: test-report@dpdk.org X-Mailman-Version: 2.1.29 Precedence: list List-Id: automatic DPDK test reports List-Unsubscribe: , List-Archive: List-Post: List-Help: List-Subscribe: , Errors-To: test-report-bounces@dpdk.org Test-Label: iol-compile-amd64-testing Test-Status: WARNING http://dpdk.org/patch/154997 _Testing issues_ Submitter: Dengdui Huang Date: Thursday, July 03 2025 09:30:27 DPDK git baseline: Repo:dpdk Branch: master CommitID:70c2297528e7c7789af452f78de1932e9a20c8a2 154997 --> testing issues Upstream job id: Generic-DPDK-Compile-Meson#405554 Test environment and result as below: +-------------------------------+--------------------+-------------------+-------------------------+-------------------+------------------+----------------------+ | Environment | dpdk_meson_compile | dpdk_msvc_compile | dpdk_llvm_clang_compile | dpdk_compile_spdk | dpdk_compile_ovs | dpdk_mingw64_compile | +===============================+====================+===================+=========================+===================+==================+======================+ | Ubuntu 20.04 | PASS | SKIPPED | SKIPPED | SKIPPED | SKIPPED | SKIPPED | +-------------------------------+--------------------+-------------------+-------------------------+-------------------+------------------+----------------------+ | CentOS Stream 9 | PASS | SKIPPED | SKIPPED | PASS | SKIPPED | SKIPPED | +-------------------------------+--------------------+-------------------+-------------------------+-------------------+------------------+----------------------+ | Debian GNU/Linux 12 | PASS | SKIPPED | SKIPPED | PASS | SKIPPED | SKIPPED | +-------------------------------+--------------------+-------------------+-------------------------+-------------------+------------------+----------------------+ | Fedora Linux 40 | PASS | SKIPPED | SKIPPED | PASS | SKIPPED | SKIPPED | +-------------------------------+--------------------+-------------------+-------------------------+-------------------+------------------+----------------------+ | Fedora Linux 41 | PASS | SKIPPED | SKIPPED | PASS | PASS | SKIPPED | +-------------------------------+--------------------+-------------------+-------------------------+-------------------+------------------+----------------------+ | openSUSE Leap 15.6 | PASS | SKIPPED | SKIPPED | SKIPPED | SKIPPED | SKIPPED | +-------------------------------+--------------------+-------------------+-------------------------+-------------------+------------------+----------------------+ | Red Hat Enterprise Linux 8.10 | PASS | SKIPPED | SKIPPED | SKIPPED | SKIPPED | SKIPPED | +-------------------------------+--------------------+-------------------+-------------------------+-------------------+------------------+----------------------+ | Red Hat Enterprise Linux 9.5 | PASS | SKIPPED | SKIPPED | SKIPPED | SKIPPED | SKIPPED | +-------------------------------+--------------------+-------------------+-------------------------+-------------------+------------------+----------------------+ | Ubuntu 22.04 | PASS | SKIPPED | SKIPPED | PASS | SKIPPED | SKIPPED | +-------------------------------+--------------------+-------------------+-------------------------+-------------------+------------------+----------------------+ | Ubuntu 24.04 | PASS | SKIPPED | SKIPPED | PASS | PASS | SKIPPED | +-------------------------------+--------------------+-------------------+-------------------------+-------------------+------------------+----------------------+ | Alpine Linux 3.22.0 | PASS | SKIPPED | SKIPPED | SKIPPED | SKIPPED | SKIPPED | +-------------------------------+--------------------+-------------------+-------------------------+-------------------+------------------+----------------------+ | CentOS Stream 10 | PASS | SKIPPED | SKIPPED | SKIPPED | SKIPPED | SKIPPED | +-------------------------------+--------------------+-------------------+-------------------------+-------------------+------------------+----------------------+ | Windows Server 2022 | SKIPPED | PASS | PASS | SKIPPED | SKIPPED | PASS | +-------------------------------+--------------------+-------------------+-------------------------+-------------------+------------------+----------------------+ Ubuntu 20.04 Kernel: 4.19 Compiler: gcc gcc (Ubuntu 9.4.0-1ubuntu1~20.04.2) 9.4.0 CentOS Stream 9 Kernel: 5.15 Compiler: gcc gcc (GCC) 11.5.0 20240719 (Red Hat 11.5.0-7) Debian GNU/Linux 12 Kernel: 5.15 Compiler: gcc gcc (Debian 12.2.0-14+deb12u1) 12.2.0 Fedora Linux 40 Kernel: 5.15 Compiler: clang gcc (GCC) 14.2.1 20240912 (Red Hat 14.2.1-3) Fedora Linux 41 Kernel: 5.15 Compiler: clang gcc (GCC) 14.3.1 20250523 (Red Hat 14.3.1-1) openSUSE Leap 15.6 Kernel: 5.15 Compiler: gcc gcc (SUSE Linux) 7.5.0 Red Hat Enterprise Linux 8.10 Kernel: 5.15 Compiler: gcc gcc (GCC) 8.5.0 20210514 (Red Hat 8.5.0-22) Red Hat Enterprise Linux 9.5 Kernel: 5.15 Compiler: gcc gcc (GCC) 11.5.0 20240719 (Red Hat 11.5.0-2) Ubuntu 22.04 Kernel: 5.15 Compiler: gcc gcc (Ubuntu 11.4.0-1ubuntu1~22.04) 11.4.0 Ubuntu 24.04 Kernel: 5.15 Compiler: gcc gcc (Ubuntu 13.3.0-6ubuntu2~24.04) 13.3.0 Alpine Linux 3.22.0 Kernel: 5.15 Compiler: gcc gcc (Alpine 14.2.0) 14.2.0 CentOS Stream 10 Kernel: 5.15 Compiler: gcc gcc (GCC) 14.2.1 20250110 (Red Hat 14.2.1-8) Windows Server 2022 Kernel: 10.0.20348.2031 Compiler: clang 15.0.7, gcc 14.1.0 (MinGW), and MSVC VS 19.39.33521 To view detailed results, visit: https://lab.dpdk.org/results/dashboard/patchsets/33580/ UNH-IOL DPDK Community Lab To manage your email subscriptions, visit: https://lab.dpdk.org/results/dashboard/preferences/subscriptions/