From mboxrd@z Thu Jan 1 00:00:00 1970 Return-Path: Received: from mails.dpdk.org (mails.dpdk.org [217.70.189.124]) by inbox.dpdk.org (Postfix) with ESMTP id 350E646AF2 for ; Sat, 5 Jul 2025 07:22:51 +0200 (CEST) Received: from mails.dpdk.org (localhost [127.0.0.1]) by mails.dpdk.org (Postfix) with ESMTP id 2F84740287; Sat, 5 Jul 2025 07:22:51 +0200 (CEST) Received: from mail-pl1-f225.google.com (mail-pl1-f225.google.com [209.85.214.225]) by mails.dpdk.org (Postfix) with ESMTP id B588340287 for ; Sat, 5 Jul 2025 07:22:49 +0200 (CEST) Received: by mail-pl1-f225.google.com with SMTP id d9443c01a7336-235f9ea8d08so13337265ad.1 for ; Fri, 04 Jul 2025 22:22:49 -0700 (PDT) DKIM-Signature: v=1; a=rsa-sha256; c=relaxed/relaxed; d=iol.unh.edu; s=unh-iol; t=1751692969; x=1752297769; darn=dpdk.org; h=references:in-reply-to:cc:to:from:subject:message-id:date:from:to :cc:subject:date:message-id:reply-to; bh=LDtHVxtfDqt9qpPVQlRUj7Q28bNhxiNYwAB7++TX8/k=; b=IJ4MfG0ZA8ov4vPW3+j9H4bCJi9AacHIGobLr66023QY+FeCq9c+IJzxmneI2KH0/B uYOmtel37ALKUTROgJtWMTCPMlt7aEiEb5cF0Bwi9FTP8kIiYIqye0VWfVpGh06sG8c8 XhdSQSzoyZsOjwGfFvpTqEsloKV2R/n+tP8V8= X-Google-DKIM-Signature: v=1; a=rsa-sha256; c=relaxed/relaxed; d=1e100.net; s=20230601; t=1751692969; x=1752297769; h=references:in-reply-to:cc:to:from:subject:message-id:date :x-gm-message-state:from:to:cc:subject:date:message-id:reply-to; bh=LDtHVxtfDqt9qpPVQlRUj7Q28bNhxiNYwAB7++TX8/k=; b=pUy2lkpEVNfpkP/zgoRbmVpKAvOvtWk/RKINJsmMapnBl7qBDmEam7NcPFuAcNGD91 WgHdnbLMJYTZ5EnAWBf0T4GnLkKFlDSIEqMcdPLTqpwMgBjQDwN1mYaKSpaL51Yt1CG4 sJPNUUhrlxxV3jLeah4ke4me8g1L6140X0oFxWOWbX4/wC2kPmOt2hSgjyJJ1sRCOnbT h1rkl7cnN4qydjTECiirpSixMPP/CfXJeC/dAVwhzmBl/go0vNsaVnNs7X5Qpyf8jp4r iYHdugvONAcSOoCaYvpHD76mq4DycJwSpyQizFBe8iYt/IWpdjO3J8GAL88yqXRaGPOk uncA== X-Gm-Message-State: AOJu0YzC+P0kc4AAgQ3up6HrfWUwaEJQl+AhQYG0n63W47V4xETf2qhl iH4nasBJKxS2OapqotiyqHHC642UxJoqs9M1ZSGM3yCL08RLCbOEy6lQ6weKz/1mHNc/FRH6A6q /F50mtLv2U6S7EAdWbBbbWc3+5VwMoxFtc+AgWPxclyt0 X-Gm-Gg: ASbGncuOM5Zji0Tl37sEYbPq/3ejjXfBvsBPPtHxdmkHknPdr8zmTjI8Mr0PcyN93xr 8qAcz7w0d7NBs0o6GUHG2o//XVbgaQBL9bXg1pJqrpG1995cVJ+DeEVY8m5DJ5ZRmy0dHQBsbrn 2W9VYF7tWKfwWm/WN+c4GckyeGpevEmCbzxH2s1LqmlrDwQsOy13pwHZKHC6d7cVcNq7QBcCG96 2ewjSiMg4UI8VeVzPEPh9repabE6RWAKs3a2QVFZ5ZUq8wfU42q1SDC4KMggqd4qGccYkFqbEEf GCTQ364IEkgowSDEL/ih+WgJ8M7P6/6E38/7xZ3g75aHViYHmqde7hxmc/Rupb1ryUXwNA== X-Google-Smtp-Source: AGHT+IFRXRzFK99igQ6WMaVL9ocQYmgKnBhDVlREc5TljHX7HTW12wx7iBmW54zlgpKchu+sEOsi5dU60WEh X-Received: by 2002:a17:902:f70d:b0:224:c46:d167 with SMTP id d9443c01a7336-23c90fa5dd7mr18270775ad.16.1751692968678; Fri, 04 Jul 2025 22:22:48 -0700 (PDT) Received: from postal.iol.unh.edu (postal.iol.unh.edu. [132.177.123.84]) by smtp-relay.gmail.com with ESMTPS id d9443c01a7336-23c84508bd4sm1733025ad.100.2025.07.04.22.22.48 (version=TLS1_2 cipher=ECDHE-ECDSA-AES128-GCM-SHA256 bits=128/128); Fri, 04 Jul 2025 22:22:48 -0700 (PDT) X-Relaying-Domain: iol.unh.edu Date: Fri, 04 Jul 2025 22:22:48 -0700 (PDT) Message-ID: <6868b6a8.170a0220.27fe68.a6cdSMTPIN_ADDED_MISSING@mx.google.com> Received: from [172.21.0.5] (unknown [172.18.0.240]) by postal.iol.unh.edu (Postfix) with ESMTP id B441360003E8; Sat, 5 Jul 2025 01:22:47 -0400 (EDT) Subject: |SUCCESS| pw154921-154923 [PATCH] [v2,5/5] riscv: override machine_a From: dpdklab@iol.unh.edu To: Test Report Cc: dpdk-test-reports@iol.unh.edu In-Reply-To: References: Content-Type: text/plain X-BeenThere: test-report@dpdk.org X-Mailman-Version: 2.1.29 Precedence: list List-Id: automatic DPDK test reports List-Unsubscribe: , List-Archive: List-Post: List-Help: List-Subscribe: , Errors-To: test-report-bounces@dpdk.org Test-Label: iol-compile-arm64-testing Test-Status: SUCCESS http://dpdk.org/patch/154923 _Testing PASS_ Submitter: None Date: Tuesday, July 01 2025 18:20:33 DPDK git baseline: Repo:dpdk Branch: master CommitID:70c2297528e7c7789af452f78de1932e9a20c8a2 154921-154923 --> testing pass Upstream job id: Generic-DPDK-Compile-Meson#405470 Test environment and result as below: +------------------------------+--------------------+ | Environment | dpdk_meson_compile | +==============================+====================+ | Ubuntu 20.04 | PASS | +------------------------------+--------------------+ | Debian GNU/Linux 12 | PASS | +------------------------------+--------------------+ | Fedora Linux 40 | PASS | +------------------------------+--------------------+ | Fedora Linux 41 | PASS | +------------------------------+--------------------+ | Ubuntu 22.04 | PASS | +------------------------------+--------------------+ | Ubuntu 24.04 | PASS | +------------------------------+--------------------+ | CentOS Stream 9 | PASS | +------------------------------+--------------------+ | CentOS Stream 10 | PASS | +------------------------------+--------------------+ | Red Hat Enterprise Linux 9.5 | PASS | +------------------------------+--------------------+ Ubuntu 20.04 Kernel: 5.4 Compiler: gcc gcc (Ubuntu 9.4.0-1ubuntu1~20.04.2) 9.4.0 Debian GNU/Linux 12 Kernel: 5.4 Compiler: gcc gcc (Debian 12.2.0-14+deb12u1) 12.2.0 Fedora Linux 40 Kernel: 5.4 Compiler: gcc gcc (GCC) 14.2.1 20240912 (Red Hat 14.2.1-3) Fedora Linux 41 Kernel: 5.4 Compiler: gcc gcc (GCC) 14.3.1 20250523 (Red Hat 14.3.1-1) Ubuntu 22.04 Kernel: 5.4 Compiler: gcc gcc (Ubuntu 11.4.0-1ubuntu1~22.04) 11.4.0 Ubuntu 24.04 Kernel: 5.4 Compiler: gcc gcc (Ubuntu 13.3.0-6ubuntu2~24.04) 13.3.0 CentOS Stream 9 Kernel: 5.4 Compiler: gcc gcc (GCC) 11.5.0 20240719 (Red Hat 11.5.0-7) CentOS Stream 10 Kernel: 5.4 Compiler: gcc gcc (GCC) 14.2.1 20250110 (Red Hat 14.2.1-8) Red Hat Enterprise Linux 9.5 Kernel: 5.4 Compiler: gcc gcc (GCC) 11.5.0 20240719 (Red Hat 11.5.0-2) To view detailed results, visit: https://lab.dpdk.org/results/dashboard/patchsets/33559/ UNH-IOL DPDK Community Lab To manage your email subscriptions, visit: https://lab.dpdk.org/results/dashboard/preferences/subscriptions/