From mboxrd@z Thu Jan 1 00:00:00 1970 Return-Path: Received: from mails.dpdk.org (mails.dpdk.org [217.70.189.124]) by inbox.dpdk.org (Postfix) with ESMTP id 4A7CA46AF2 for ; Sat, 5 Jul 2025 07:23:22 +0200 (CEST) Received: from mails.dpdk.org (localhost [127.0.0.1]) by mails.dpdk.org (Postfix) with ESMTP id 4323440287; Sat, 5 Jul 2025 07:23:22 +0200 (CEST) Received: from mail-qv1-f99.google.com (mail-qv1-f99.google.com [209.85.219.99]) by mails.dpdk.org (Postfix) with ESMTP id 5CAB040287 for ; Sat, 5 Jul 2025 07:23:20 +0200 (CEST) Received: by mail-qv1-f99.google.com with SMTP id 6a1803df08f44-70109af5f70so16204746d6.0 for ; Fri, 04 Jul 2025 22:23:20 -0700 (PDT) DKIM-Signature: v=1; a=rsa-sha256; c=relaxed/relaxed; d=iol.unh.edu; s=unh-iol; t=1751692999; x=1752297799; darn=dpdk.org; h=references:in-reply-to:cc:to:from:subject:message-id:date:from:to :cc:subject:date:message-id:reply-to; bh=ZdRdcF5DTZz1/QscmdCmZ0XnbbXfyWMZk0jKhHuSxmw=; b=EiRboq+MKweSRQq3LyQ9edXbmu47a9z6l9giqIdMS4WXT73XWxFubSyQv70SYR7znq HUzC4n5/QURlmpaWhPeRAWE+kh88sSXDKiQAqjDj4YxZq+tNDPM7FKdlPb4CQPqUZLVx ZP8e6cBbBH4w8qkFwtx88d0pfNXDERbX//oi8= X-Google-DKIM-Signature: v=1; a=rsa-sha256; c=relaxed/relaxed; d=1e100.net; s=20230601; t=1751692999; x=1752297799; h=references:in-reply-to:cc:to:from:subject:message-id:date :x-gm-message-state:from:to:cc:subject:date:message-id:reply-to; bh=ZdRdcF5DTZz1/QscmdCmZ0XnbbXfyWMZk0jKhHuSxmw=; b=jHQ8heEd6YJhLFpq4ms8mAcw3gL1M3qpNc7kqbPsH1GGsfNnpGjCXVdxkBEg3ZRaxc sRfFNACnmPmkAoUqK6Abp3mT1maSv45pJ9+cXeQD9/vvNOLoSF5W39I7PZc0C9TCGig9 GRPgl75dfwG2ul0HAnYd+y9G0XUxf+NL8ejeocJ6O7MeEzQBtCBCfeghaRSZGs5MgrD7 0m95c0Vgz8DAsMEq4dZVUJe4rm5Qf1u3Ehbb64WoUZbCGqtlWQwIvqxxntw9c5YvsDVm hR/oKVXchfpzYmVSeT8upsZbSujA4G5r4Y5uTcSWsxsxnaK2jbMGTpSjRa1QWn9UV3ug 9xXg== X-Gm-Message-State: AOJu0Yxws4PG1JYwGTNO+5Vxh8K0CDV9Aa3LAduJQk6GuQOJbeKxFWnF xySBbioc0VaKPwt7vrO54UUoG1tHWLrSQRvrnJkEq5MpMLYxBmQSPLFCu4WoSLz/BwgS9nOdxgg jvOXHdwVEzg00mUAclRVZo1lGz0AgNaY8bNBIFvS0rIiF X-Gm-Gg: ASbGncuXLtBVfdzAsGaE6NEzeh1J9LmcvM3KptdsX8mKfK34NapzMGicnAQ9vwu0fvN b3v2R5epVJXW6ysPFtws0yJXn25su7u8Iax9W6khdwaNjL2v42rcZF84dDHKVnmhfUPH61tS3HG 0cIBaE5kz8pmzFgw5a/1VYfL6E9zO3iJsjMHDoxgV8bav8bwYNQYVDuZ1LViAXgZ/99LRox70pC P6MbXsRts1Opa5L7FoScGnVOzAsNDJZQ1D5qrmU/szh137vwK27YHRExK//8iZhqKMu8ucwHJ+l O+cfZWdvxlHDn8Qdpf7OsXVdrFCMyVkk91qMV/CR57kcg14ZY0NoDCOSgDPv+ok9xPYqvQ== X-Google-Smtp-Source: AGHT+IEdtNjmE1jJP0VksSbca9QwVfU6LSJQZG2jFGxZkFATNtuq9nWdmajOA9poc+cRLQYuWQcQpV+5nCvd X-Received: by 2002:a05:6214:1252:b0:6fa:ac51:bbda with SMTP id 6a1803df08f44-702d171dcb4mr17894326d6.26.1751692999580; Fri, 04 Jul 2025 22:23:19 -0700 (PDT) Received: from postal.iol.unh.edu (postal.iol.unh.edu. [132.177.123.84]) by smtp-relay.gmail.com with ESMTPS id 6a1803df08f44-702c4d53c31sm1512626d6.54.2025.07.04.22.23.19 (version=TLS1_2 cipher=ECDHE-ECDSA-AES128-GCM-SHA256 bits=128/128); Fri, 04 Jul 2025 22:23:19 -0700 (PDT) X-Relaying-Domain: iol.unh.edu Date: Fri, 04 Jul 2025 22:23:19 -0700 (PDT) Message-ID: <6868b6c7.050a0220.15a41a.7e91SMTPIN_ADDED_MISSING@mx.google.com> Received: from [172.21.0.9] (unknown [172.18.0.240]) by postal.iol.unh.edu (Postfix) with ESMTP id 4BA026051830; Sat, 5 Jul 2025 01:23:19 -0400 (EDT) Subject: |SUCCESS| pw155014-155016 [PATCH] [v2,3/3] app/testpmd: improve outp From: dpdklab@iol.unh.edu To: Test Report Cc: dpdk-test-reports@iol.unh.edu In-Reply-To: <20250704183437.25901-4-bruce.richardson@intel.com> References: <20250704183437.25901-4-bruce.richardson@intel.com> Content-Type: text/plain X-BeenThere: test-report@dpdk.org X-Mailman-Version: 2.1.29 Precedence: list List-Id: automatic DPDK test reports List-Unsubscribe: , List-Archive: List-Post: List-Help: List-Subscribe: , Errors-To: test-report-bounces@dpdk.org Test-Label: iol-compile-arm64-testing Test-Status: SUCCESS http://dpdk.org/patch/155016 _Testing PASS_ Submitter: Bruce Richardson Date: Friday, July 04 2025 18:34:36 DPDK git baseline: Repo:dpdk Branch: master CommitID:b18c543ec30729ccc7708a6e064a1f9db5d8c11f 155014-155016 --> testing pass Upstream job id: Generic-DPDK-Compile-Meson#405592 Test environment and result as below: +------------------------------+--------------------+ | Environment | dpdk_meson_compile | +==============================+====================+ | Red Hat Enterprise Linux 9.5 | PASS | +------------------------------+--------------------+ | Ubuntu 20.04 | PASS | +------------------------------+--------------------+ | Fedora Linux 40 | PASS | +------------------------------+--------------------+ | Fedora Linux 41 | PASS | +------------------------------+--------------------+ | Ubuntu 22.04 | PASS | +------------------------------+--------------------+ | Ubuntu 24.04 | PASS | +------------------------------+--------------------+ | CentOS Stream 9 | PASS | +------------------------------+--------------------+ | CentOS Stream 10 | PASS | +------------------------------+--------------------+ | Debian GNU/Linux 12 | PASS | +------------------------------+--------------------+ Red Hat Enterprise Linux 9.5 Kernel: 5.4 Compiler: gcc gcc (GCC) 11.5.0 20240719 (Red Hat 11.5.0-2) Ubuntu 20.04 Kernel: 5.15 Compiler: aarch64-linux-gnu-gcc gcc (Ubuntu 9.4.0-1ubuntu1~20.04.2) 9.4.0 Fedora Linux 40 Kernel: 5.4 Compiler: gcc gcc (GCC) 14.2.1 20240912 (Red Hat 14.2.1-3) Fedora Linux 41 Kernel: 5.4 Compiler: gcc gcc (GCC) 14.3.1 20250523 (Red Hat 14.3.1-1) Ubuntu 22.04 Kernel: 5.4 Compiler: gcc gcc (Ubuntu 11.4.0-1ubuntu1~22.04) 11.4.0 Ubuntu 24.04 Kernel: 5.4 Compiler: gcc gcc (Ubuntu 13.3.0-6ubuntu2~24.04) 13.3.0 CentOS Stream 9 Kernel: 5.4 Compiler: gcc gcc (GCC) 11.5.0 20240719 (Red Hat 11.5.0-7) CentOS Stream 10 Kernel: 5.4 Compiler: gcc gcc (GCC) 14.2.1 20250110 (Red Hat 14.2.1-8) Debian GNU/Linux 12 Kernel: 5.4 Compiler: gcc gcc (Debian 12.2.0-14+deb12u1) 12.2.0 To view detailed results, visit: https://lab.dpdk.org/results/dashboard/patchsets/33596/ UNH-IOL DPDK Community Lab To manage your email subscriptions, visit: https://lab.dpdk.org/results/dashboard/preferences/subscriptions/