From mboxrd@z Thu Jan 1 00:00:00 1970 Return-Path: Received: from mails.dpdk.org (mails.dpdk.org [217.70.189.124]) by inbox.dpdk.org (Postfix) with ESMTP id 56D8246AF2 for ; Sat, 5 Jul 2025 07:23:28 +0200 (CEST) Received: from mails.dpdk.org (localhost [127.0.0.1]) by mails.dpdk.org (Postfix) with ESMTP id 4F7AF40287; Sat, 5 Jul 2025 07:23:28 +0200 (CEST) Received: from mail-pj1-f100.google.com (mail-pj1-f100.google.com [209.85.216.100]) by mails.dpdk.org (Postfix) with ESMTP id 057B740287 for ; Sat, 5 Jul 2025 07:23:27 +0200 (CEST) Received: by mail-pj1-f100.google.com with SMTP id 98e67ed59e1d1-3134c67a173so1456466a91.1 for ; Fri, 04 Jul 2025 22:23:26 -0700 (PDT) DKIM-Signature: v=1; a=rsa-sha256; c=relaxed/relaxed; d=iol.unh.edu; s=unh-iol; t=1751693006; x=1752297806; darn=dpdk.org; h=references:in-reply-to:cc:to:from:subject:message-id:date:from:to :cc:subject:date:message-id:reply-to; bh=z/DxSyb5XjxQzXZk7/eB9gtkd1XMiQ8xXiOHEk9xzR4=; b=IPIEjjMn2c01sJgx5pu4vl6BRCoM7FQSwx37DrDA8BKI6O4ukW8ueIw1R/DRKI+Hyn wceDlUydbQHVLFmhIVy436jtvcfs65djZ9DK5R6vJlOTfmTZsPulfZTI4OuaI8cR8+di dt0nlGl7L+UempWuMogf13mS6GqFaf2nX7sqY= X-Google-DKIM-Signature: v=1; a=rsa-sha256; c=relaxed/relaxed; d=1e100.net; s=20230601; t=1751693006; x=1752297806; h=references:in-reply-to:cc:to:from:subject:message-id:date :x-gm-message-state:from:to:cc:subject:date:message-id:reply-to; bh=z/DxSyb5XjxQzXZk7/eB9gtkd1XMiQ8xXiOHEk9xzR4=; b=fkR13lB7JBkr78/z7iruGqTjjvf1o0JQ2DGv+Jz6kbwiRuRdk+ZP9ZkzslT1VetGmK EqozgSt4YtpzNMJh/cUaGGHkiu0m0FVt/1p9f1h/gfxppqYkhLeoPNrZSUNq1zeWiMxH AuPXY8BuvuD5Ej/C3aTC+TnPeGG8bXfS1UTSFVBtgnKgw0k+vAi/5Dzd4YySO1zhazwm 0h3rnUvpM98LDLQmXTlVc+0/dYLwhHkYN14D6ySA/ErhXHmJB+4Qx73fKu8LuE992Jcv MZ9MxiXDNFvYTMi0b/+9N6WL3hgPqybJaKmPa3iY5G834XWF5hi0TF1eX4wnFScWT8n/ NhYw== X-Gm-Message-State: AOJu0YzPfC7doJrpcnyzqwWuns3JGuCx/mxxGQsZfCEsFlR1S8mApJwS 8OVOM7EgV606jKcMeEuPywx3BsDXVRJPCYahFP/WH+DXAZIe4XnAXqYzWjp5oYlZxr+HwcXrxXA jYxVWKFjOkabJBtp3jpJn6VWuPt0CLUmGGLMYVpxQMgAdrEH7Tz3R+gBtLh1C X-Gm-Gg: ASbGncsivnnOYUKqK10qgZ4KQojAgRZ4TRq7w90KrEG0hkr6zknfcp2gpK8+Ti9xdab BgwT5eKX6j+xxVoSGw45DTyTeOj3t2f3FjLBDpYu/1SP6zEgdyEMxcDuP8eipnBJTqm4rm0frVG XZ6NYdeyO7EHgDWLZGJkxDDkNiJPv0l6iCqTogCtSaXKgsIPXrq3gDYzatUH66P9oDoRlyvV07n u35VlhzbW1+R53jHdzn6U7oIwauXnHdM9f3kuJQ38sHm+Yg/wbKBG+R/QgSOlwkcHGgTIKsZyGg n7iIopxt2iiZTOFUFQeroOb2uzlCjCwMlOeG68hXcZgefZk= X-Google-Smtp-Source: AGHT+IGcfsGUauKMrW3pH8BTQbrtscb5L5kcAAcgvUWnhl8p9N4Avmzi4zC5bSvIfA+6vjZyBhPp37Vj9nDL X-Received: by 2002:a17:90a:e7c4:b0:311:e5b2:356b with SMTP id 98e67ed59e1d1-31aac447eb2mr7226089a91.11.1751693006089; Fri, 04 Jul 2025 22:23:26 -0700 (PDT) Received: from postal.iol.unh.edu (postal.iol.unh.edu. [2606:4100:3880:1234::84]) by smtp-relay.gmail.com with ESMTPS id d9443c01a7336-23c84508f64sm1490825ad.96.2025.07.04.22.23.25 (version=TLS1_2 cipher=ECDHE-ECDSA-AES128-GCM-SHA256 bits=128/128); Fri, 04 Jul 2025 22:23:26 -0700 (PDT) X-Relaying-Domain: iol.unh.edu Date: Fri, 04 Jul 2025 22:23:26 -0700 (PDT) Message-ID: <6868b6ce.170a0220.c3b71.8384SMTPIN_ADDED_MISSING@mx.google.com> Received: from [172.21.0.11] (unknown [172.18.0.240]) by postal.iol.unh.edu (Postfix) with ESMTP id 4C13F6051830; Sat, 5 Jul 2025 01:23:25 -0400 (EDT) Subject: |WARNING| pw154997 [PATCH] net: support VLAN stacking packet type pa From: dpdklab@iol.unh.edu To: Test Report Cc: dpdk-test-reports@iol.unh.edu In-Reply-To: <20250703093027.1259459-1-huangdengdui@huawei.com> References: <20250703093027.1259459-1-huangdengdui@huawei.com> Content-Type: text/plain X-BeenThere: test-report@dpdk.org X-Mailman-Version: 2.1.29 Precedence: list List-Id: automatic DPDK test reports List-Unsubscribe: , List-Archive: List-Post: List-Help: List-Subscribe: , Errors-To: test-report-bounces@dpdk.org Test-Label: iol-compile-amd64-testing Test-Status: WARNING http://dpdk.org/patch/154997 _Testing issues_ Submitter: Dengdui Huang Date: Thursday, July 03 2025 09:30:27 DPDK git baseline: Repo:dpdk Branch: master CommitID:70c2297528e7c7789af452f78de1932e9a20c8a2 154997 --> testing issues Upstream job id: Generic-DPDK-Compile-Meson#405553 Test environment and result as below: +-------------------------------+--------------------+-------------------+-------------------------+-------------------+------------------+----------------------+ | Environment | dpdk_meson_compile | dpdk_msvc_compile | dpdk_llvm_clang_compile | dpdk_compile_spdk | dpdk_compile_ovs | dpdk_mingw64_compile | +===============================+====================+===================+=========================+===================+==================+======================+ | Ubuntu 20.04 | PASS | SKIPPED | SKIPPED | SKIPPED | SKIPPED | SKIPPED | +-------------------------------+--------------------+-------------------+-------------------------+-------------------+------------------+----------------------+ | CentOS Stream 9 | PASS | SKIPPED | SKIPPED | PASS | SKIPPED | SKIPPED | +-------------------------------+--------------------+-------------------+-------------------------+-------------------+------------------+----------------------+ | Debian GNU/Linux 12 | PASS | SKIPPED | SKIPPED | PASS | SKIPPED | SKIPPED | +-------------------------------+--------------------+-------------------+-------------------------+-------------------+------------------+----------------------+ | Fedora Linux 40 | PASS | SKIPPED | SKIPPED | PASS | SKIPPED | SKIPPED | +-------------------------------+--------------------+-------------------+-------------------------+-------------------+------------------+----------------------+ | Fedora Linux 41 | PASS | SKIPPED | SKIPPED | PASS | PASS | SKIPPED | +-------------------------------+--------------------+-------------------+-------------------------+-------------------+------------------+----------------------+ | openSUSE Leap 15.6 | PASS | SKIPPED | SKIPPED | SKIPPED | SKIPPED | SKIPPED | +-------------------------------+--------------------+-------------------+-------------------------+-------------------+------------------+----------------------+ | Red Hat Enterprise Linux 8.10 | PASS | SKIPPED | SKIPPED | SKIPPED | SKIPPED | SKIPPED | +-------------------------------+--------------------+-------------------+-------------------------+-------------------+------------------+----------------------+ | Red Hat Enterprise Linux 9.5 | PASS | SKIPPED | SKIPPED | SKIPPED | SKIPPED | SKIPPED | +-------------------------------+--------------------+-------------------+-------------------------+-------------------+------------------+----------------------+ | Ubuntu 22.04 | PASS | SKIPPED | SKIPPED | PASS | SKIPPED | SKIPPED | +-------------------------------+--------------------+-------------------+-------------------------+-------------------+------------------+----------------------+ | Ubuntu 24.04 | PASS | SKIPPED | SKIPPED | PASS | PASS | SKIPPED | +-------------------------------+--------------------+-------------------+-------------------------+-------------------+------------------+----------------------+ | Alpine Linux 3.22.0 | PASS | SKIPPED | SKIPPED | SKIPPED | SKIPPED | SKIPPED | +-------------------------------+--------------------+-------------------+-------------------------+-------------------+------------------+----------------------+ | CentOS Stream 10 | PASS | SKIPPED | SKIPPED | SKIPPED | SKIPPED | SKIPPED | +-------------------------------+--------------------+-------------------+-------------------------+-------------------+------------------+----------------------+ | Windows Server 2022 | SKIPPED | PASS | PASS | SKIPPED | SKIPPED | PASS | +-------------------------------+--------------------+-------------------+-------------------------+-------------------+------------------+----------------------+ Ubuntu 20.04 Kernel: 4.19 Compiler: gcc gcc (Ubuntu 9.4.0-1ubuntu1~20.04.2) 9.4.0 CentOS Stream 9 Kernel: 5.15 Compiler: gcc gcc (GCC) 11.5.0 20240719 (Red Hat 11.5.0-7) Debian GNU/Linux 12 Kernel: 5.15 Compiler: gcc gcc (Debian 12.2.0-14+deb12u1) 12.2.0 Fedora Linux 40 Kernel: 5.15 Compiler: clang gcc (GCC) 14.2.1 20240912 (Red Hat 14.2.1-3) Fedora Linux 41 Kernel: 5.15 Compiler: clang gcc (GCC) 14.3.1 20250523 (Red Hat 14.3.1-1) openSUSE Leap 15.6 Kernel: 5.15 Compiler: gcc gcc (SUSE Linux) 7.5.0 Red Hat Enterprise Linux 8.10 Kernel: 5.15 Compiler: gcc gcc (GCC) 8.5.0 20210514 (Red Hat 8.5.0-22) Red Hat Enterprise Linux 9.5 Kernel: 5.15 Compiler: gcc gcc (GCC) 11.5.0 20240719 (Red Hat 11.5.0-2) Ubuntu 22.04 Kernel: 5.15 Compiler: gcc gcc (Ubuntu 11.4.0-1ubuntu1~22.04) 11.4.0 Ubuntu 24.04 Kernel: 5.15 Compiler: gcc gcc (Ubuntu 13.3.0-6ubuntu2~24.04) 13.3.0 Alpine Linux 3.22.0 Kernel: 5.15 Compiler: gcc gcc (Alpine 14.2.0) 14.2.0 CentOS Stream 10 Kernel: 5.15 Compiler: gcc gcc (GCC) 14.2.1 20250110 (Red Hat 14.2.1-8) Windows Server 2022 Kernel: 10.0.20348.2031 Compiler: clang 15.0.7, gcc 14.1.0 (MinGW), and MSVC VS 19.39.33521 To view detailed results, visit: https://lab.dpdk.org/results/dashboard/patchsets/33580/ UNH-IOL DPDK Community Lab To manage your email subscriptions, visit: https://lab.dpdk.org/results/dashboard/preferences/subscriptions/