From mboxrd@z Thu Jan 1 00:00:00 1970 Return-Path: Received: from mails.dpdk.org (mails.dpdk.org [217.70.189.124]) by inbox.dpdk.org (Postfix) with ESMTP id 7168746AF2 for ; Sat, 5 Jul 2025 07:24:22 +0200 (CEST) Received: from mails.dpdk.org (localhost [127.0.0.1]) by mails.dpdk.org (Postfix) with ESMTP id 6A8204028C; Sat, 5 Jul 2025 07:24:22 +0200 (CEST) Received: from mail-io1-f99.google.com (mail-io1-f99.google.com [209.85.166.99]) by mails.dpdk.org (Postfix) with ESMTP id 5F6B340287 for ; Sat, 5 Jul 2025 07:24:21 +0200 (CEST) Received: by mail-io1-f99.google.com with SMTP id ca18e2360f4ac-87694a21617so35832739f.1 for ; Fri, 04 Jul 2025 22:24:21 -0700 (PDT) DKIM-Signature: v=1; a=rsa-sha256; c=relaxed/relaxed; d=iol.unh.edu; s=unh-iol; t=1751693060; x=1752297860; darn=dpdk.org; h=references:in-reply-to:cc:to:from:subject:message-id:date:from:to :cc:subject:date:message-id:reply-to; bh=uAQIAs94xMvwRCjGCDdGSDUbC9b//vABAtZsRdBaDCQ=; b=OwY0+arcWgfBncLNDqZLhhIASOX4+uo6FtjBfWMqKv60I9OyPpVp72OY1vXz6zogi2 ffwNw8SMl0GieVf19QeRYtfFB9lXOQ59F9/62obcB/S0VHtkW1UlysJMJ+y/AUteOQvV YW88sqnWvqaGjoBro7rvtTrTEcJkvLM7Az7xs= X-Google-DKIM-Signature: v=1; a=rsa-sha256; c=relaxed/relaxed; d=1e100.net; s=20230601; t=1751693060; x=1752297860; h=references:in-reply-to:cc:to:from:subject:message-id:date :x-gm-message-state:from:to:cc:subject:date:message-id:reply-to; bh=uAQIAs94xMvwRCjGCDdGSDUbC9b//vABAtZsRdBaDCQ=; b=hL/YyBqwqs73wOajX2WP5jNqU4G0HAbNSGil49TzPmir/xMaZDT+gyHcA0fnYJo7Ud WrJoVFS8XSmRI3K2BhboYJ0tAsdsrNx84Zv6WNP7r9PhS8AUqOb9+EXki2p/sG5d6p3p XZfVjdnlzFG1n6C0Yei3+ZVBk73wz/35Z1JfO01MkPsmub+HEEQZBAZtTMM2zqNhwTew XbgbtOXONblTbMZwn0SWEv5TIUPRz/jvV5t3tMERfeJe+EpdBNY9dB3gScMqzvubbzPt MgnGO+RjY4s/dSRbJTChIRgvBWGdjxgNrKaxZf+0BXt/rl6AUosnRtPYbagqCRZ0X7Xi pxHg== X-Gm-Message-State: AOJu0Ywc/V3dua8WUQAoBXzWJaM1nYamCEscuinWiBHsrFlZi3Ex9ed/ MOdGtu7KFuoX4qao0MrqVHavQuklKbTwHGiedIfscQlQPKAf3JrG9erW5Z8RrCF+/ypQCQoR/iE 87sODgLHSex8ppvabuziSIq6eN+Zrq0KEIX0bpngXxYXHMJxgY68LibdrW/7j X-Gm-Gg: ASbGncudSocwG1ue5Vs+VRZWXuY1N11bM8rAy5+6MVLF5htlockKPso/LLjly4F59a2 xdPMXZutPtcq4rdzfgMoR4jQBN9SlvlvFrUgt3h5OLbwWOCKSMfTSvnSYguGin3B2cIP76x8Zrm qKzTOngKtQBUcmuN9gsldCdLNBAp0tbUku3AlNlxAaYiFw/gGEShZNqddVbvTgGHgIsbRD4X6eJ pMJe1xeWYbjbXqNU1sAVA9PaseVBo+kTJkJdq2gfVPIbeG7dNyfLe99FuVBwazpITx71eN0javO AcWGZ8/S6zzyq/schJWMWA6VRKBisRiijqodmYSx9Ac5SLs= X-Google-Smtp-Source: AGHT+IGUcQlo/6+WrCvQd2bcUMeb1X0W6zD77Qo2EBuVRGExLwQrxumO+fYwhkUf5PdM5XvV9Lv8PJzuAc4A X-Received: by 2002:a05:6602:259a:b0:86a:441:25ca with SMTP id ca18e2360f4ac-876e0c1e9a7mr420369639f.6.1751693060655; Fri, 04 Jul 2025 22:24:20 -0700 (PDT) Received: from postal.iol.unh.edu (postal.iol.unh.edu. [2606:4100:3880:1234::84]) by smtp-relay.gmail.com with ESMTPS id 8926c6da1cb9f-503b5be4ea8sm126151173.71.2025.07.04.22.24.20 (version=TLS1_2 cipher=ECDHE-ECDSA-AES128-GCM-SHA256 bits=128/128); Fri, 04 Jul 2025 22:24:20 -0700 (PDT) X-Relaying-Domain: iol.unh.edu Date: Fri, 04 Jul 2025 22:24:20 -0700 (PDT) Message-ID: <6868b704.050a0220.7453d.6af2SMTPIN_ADDED_MISSING@mx.google.com> Received: from [172.21.0.8] (unknown [172.18.0.240]) by postal.iol.unh.edu (Postfix) with ESMTP id 1F9AC6051830; Sat, 5 Jul 2025 01:24:20 -0400 (EDT) Subject: |SUCCESS| pw154988-154994 [PATCH] [v8,8/8] bus/dpaa: optimize qman e From: dpdklab@iol.unh.edu To: Test Report Cc: dpdk-test-reports@iol.unh.edu In-Reply-To: <20250703053743.3710482-9-vanshika.shukla@nxp.com> References: <20250703053743.3710482-9-vanshika.shukla@nxp.com> Content-Type: text/plain X-BeenThere: test-report@dpdk.org X-Mailman-Version: 2.1.29 Precedence: list List-Id: automatic DPDK test reports List-Unsubscribe: , List-Archive: List-Post: List-Help: List-Subscribe: , Errors-To: test-report-bounces@dpdk.org Test-Label: iol-compile-arm64-testing Test-Status: SUCCESS http://dpdk.org/patch/154994 _Testing PASS_ Submitter: Vanshika Shukla Date: Thursday, July 03 2025 05:37:43 DPDK git baseline: Repo:dpdk Branch: master CommitID:b18c543ec30729ccc7708a6e064a1f9db5d8c11f 154988-154994 --> testing pass Upstream job id: Generic-DPDK-Compile-Meson#405501 Test environment and result as below: +------------------------------+--------------------+ | Environment | dpdk_meson_compile | +==============================+====================+ | Red Hat Enterprise Linux 9.5 | PASS | +------------------------------+--------------------+ | Ubuntu 20.04 | PASS | +------------------------------+--------------------+ | Debian GNU/Linux 12 | PASS | +------------------------------+--------------------+ | Fedora Linux 40 | PASS | +------------------------------+--------------------+ | Fedora Linux 41 | PASS | +------------------------------+--------------------+ | Ubuntu 22.04 | PASS | +------------------------------+--------------------+ | Ubuntu 24.04 | PASS | +------------------------------+--------------------+ | CentOS Stream 9 | PASS | +------------------------------+--------------------+ | CentOS Stream 10 | PASS | +------------------------------+--------------------+ Red Hat Enterprise Linux 9.5 Kernel: 5.4 Compiler: gcc gcc (GCC) 11.5.0 20240719 (Red Hat 11.5.0-2) Ubuntu 20.04 Kernel: 5.15 Compiler: aarch64-linux-gnu-gcc gcc (Ubuntu 9.4.0-1ubuntu1~20.04.2) 9.4.0 Debian GNU/Linux 12 Kernel: 5.4 Compiler: gcc gcc (Debian 12.2.0-14+deb12u1) 12.2.0 Fedora Linux 40 Kernel: 5.4 Compiler: gcc gcc (GCC) 14.2.1 20240912 (Red Hat 14.2.1-3) Fedora Linux 41 Kernel: 5.4 Compiler: gcc gcc (GCC) 14.3.1 20250523 (Red Hat 14.3.1-1) Ubuntu 22.04 Kernel: 5.4 Compiler: gcc gcc (Ubuntu 11.4.0-1ubuntu1~22.04) 11.4.0 Ubuntu 24.04 Kernel: 5.4 Compiler: gcc gcc (Ubuntu 13.3.0-6ubuntu2~24.04) 13.3.0 CentOS Stream 9 Kernel: 5.4 Compiler: gcc gcc (GCC) 11.5.0 20240719 (Red Hat 11.5.0-7) CentOS Stream 10 Kernel: 5.4 Compiler: gcc gcc (GCC) 14.2.1 20250110 (Red Hat 14.2.1-8) To view detailed results, visit: https://lab.dpdk.org/results/dashboard/patchsets/33577/ UNH-IOL DPDK Community Lab To manage your email subscriptions, visit: https://lab.dpdk.org/results/dashboard/preferences/subscriptions/