From mboxrd@z Thu Jan 1 00:00:00 1970 Return-Path: Received: from mails.dpdk.org (mails.dpdk.org [217.70.189.124]) by inbox.dpdk.org (Postfix) with ESMTP id 7833546AF2 for ; Sat, 5 Jul 2025 07:24:23 +0200 (CEST) Received: from mails.dpdk.org (localhost [127.0.0.1]) by mails.dpdk.org (Postfix) with ESMTP id 729A24028C; Sat, 5 Jul 2025 07:24:23 +0200 (CEST) Received: from mail-il1-f226.google.com (mail-il1-f226.google.com [209.85.166.226]) by mails.dpdk.org (Postfix) with ESMTP id 3727E40287 for ; Sat, 5 Jul 2025 07:24:22 +0200 (CEST) Received: by mail-il1-f226.google.com with SMTP id e9e14a558f8ab-3df2e7cdc64so14771735ab.1 for ; Fri, 04 Jul 2025 22:24:22 -0700 (PDT) DKIM-Signature: v=1; a=rsa-sha256; c=relaxed/relaxed; d=iol.unh.edu; s=unh-iol; t=1751693061; x=1752297861; darn=dpdk.org; h=references:in-reply-to:cc:to:from:subject:message-id:date:from:to :cc:subject:date:message-id:reply-to; bh=r3+OqxtP0UM0qBwHe9vwsmP1uOe5aowxJGJUyycAPzk=; b=HjMM/wZ/4TNOI0qLjdNUczSZJp90wF+wONt5/K2H37DXuuzNxt05vJdM9e7UKkXLPu LsscjMyrsaZNSzhgfNW1x4UxCKUqMaM2sGhSAuj2T9VTLpx1+YeUlluTsyKxtkfyC+Yg QCjL38qS6uVgT0hzul52tmPT/u9Am+1zq2JBg= X-Google-DKIM-Signature: v=1; a=rsa-sha256; c=relaxed/relaxed; d=1e100.net; s=20230601; t=1751693061; x=1752297861; h=references:in-reply-to:cc:to:from:subject:message-id:date :x-gm-message-state:from:to:cc:subject:date:message-id:reply-to; bh=r3+OqxtP0UM0qBwHe9vwsmP1uOe5aowxJGJUyycAPzk=; b=peKV1KAORccG5Yv9NP8TmdhyzCZx/qsNg3v97uRJTwukS3QeNanfTnKe6LsJ9A7IiQ UdhkrCDvkMy+49XGBJm+BM4FKirxwPJZqz0MBL0pNg8+dBK8C5QgedkyOMqBZEpjiHLY EAWGcw6+tBeLkBc2wEx9H6UPHQ1Xv4x5msy6zGakE4qM1J+Loh2KdazXGK0mb4k2o4cL RGLfBpimy+Nhe1R8l0HQkMsW/chJ3PqJG7VsNp8B0hIx8vHTmNT7jkKCO+E8vGO/yYyk PsTjwLX7UAhGVsJrbZKrhJySuU8r8kzr7Q8/a+R/BLQnm9IZAMv/cWVcthZFPEPpj5qq rGYA== X-Gm-Message-State: AOJu0Yy56vgUjmnFBfwwERAUkoLDEWnAXFCnT6UsDFwgufFQHbyuiShY cmMVfte5YW0wKm09mCZc+iqCBRw5i/4t4zNwNuRzxk2WZmKZ62PfqYt4HfjtHX0XDn3kfacMJXy Z7ky62LnoeqzhY79Fbp19zVflOaqeFrSWTH9JjoAORL1J X-Gm-Gg: ASbGncuLJFgAbY+qL3mHcZjLJZ3NyJUD5cdO3UHC+lBxZhvIH+tDexs2nteYspoyEsu ZSWZwG0UhbBos8Tx6bxQs9Heb2LRBYVmMZ9W5OlkjbMxYfwjt2liK0S20t40y6hqrinfApDoHRM WVSHT++NboP3qVcQASBdk/xuWkR8NlFTbMwc3j9t2No4sHgrMIE97jdcNLulEntrfVR1BFHgOfq 3EQVUdIxpwHG9yt8TCojmUYWFOAB9h9U8moMykQrjya4v6QNFt5OAkm2Oc6ocUSWc9r5fIfYsL+ 4RTC1WwMQetQwZZhQmEvhenPgqS76zu2S4RdAntJJZh6mR5a5Am47qSHmvFYEM78przc+A== X-Google-Smtp-Source: AGHT+IGOskCruqYLG4q2ni9UTjrLV+bUH+w5E8m2hyGYNacpcHDMTq2ft9EfkAkxMfrwEq3DS/IgVDeOrgnb X-Received: by 2002:a05:6e02:1647:b0:3df:4811:ea2a with SMTP id e9e14a558f8ab-3e13ef158c4mr9960225ab.22.1751693061528; Fri, 04 Jul 2025 22:24:21 -0700 (PDT) Received: from postal.iol.unh.edu (postal.iol.unh.edu. [132.177.123.84]) by smtp-relay.gmail.com with ESMTPS id e9e14a558f8ab-3e1004acd4bsm2168235ab.61.2025.07.04.22.24.21 (version=TLS1_2 cipher=ECDHE-ECDSA-AES128-GCM-SHA256 bits=128/128); Fri, 04 Jul 2025 22:24:21 -0700 (PDT) X-Relaying-Domain: iol.unh.edu Date: Fri, 04 Jul 2025 22:24:21 -0700 (PDT) Message-ID: <6868b705.050a0220.233644.b399SMTPIN_ADDED_MISSING@mx.google.com> Received: from [172.21.0.9] (unknown [172.18.0.240]) by postal.iol.unh.edu (Postfix) with ESMTP id 0CA336051830; Sat, 5 Jul 2025 01:24:20 -0400 (EDT) Subject: |SUCCESS| pw155014-155016 [PATCH] [v2,3/3] app/testpmd: improve outp From: dpdklab@iol.unh.edu To: Test Report Cc: dpdk-test-reports@iol.unh.edu In-Reply-To: <20250704183437.25901-4-bruce.richardson@intel.com> References: <20250704183437.25901-4-bruce.richardson@intel.com> Content-Type: text/plain X-BeenThere: test-report@dpdk.org X-Mailman-Version: 2.1.29 Precedence: list List-Id: automatic DPDK test reports List-Unsubscribe: , List-Archive: List-Post: List-Help: List-Subscribe: , Errors-To: test-report-bounces@dpdk.org Test-Label: iol-compile-arm64-testing Test-Status: SUCCESS http://dpdk.org/patch/155016 _Testing PASS_ Submitter: Bruce Richardson Date: Friday, July 04 2025 18:34:36 DPDK git baseline: Repo:dpdk Branch: master CommitID:b18c543ec30729ccc7708a6e064a1f9db5d8c11f 155014-155016 --> testing pass Upstream job id: Generic-DPDK-Compile-Meson#405578 Test environment and result as below: +------------------------------+--------------------+ | Environment | dpdk_meson_compile | +==============================+====================+ | Red Hat Enterprise Linux 9.5 | PASS | +------------------------------+--------------------+ | Ubuntu 20.04 | PASS | +------------------------------+--------------------+ | Fedora Linux 40 | PASS | +------------------------------+--------------------+ | Fedora Linux 41 | PASS | +------------------------------+--------------------+ | Ubuntu 22.04 | PASS | +------------------------------+--------------------+ | Ubuntu 24.04 | PASS | +------------------------------+--------------------+ | CentOS Stream 9 | PASS | +------------------------------+--------------------+ | CentOS Stream 10 | PASS | +------------------------------+--------------------+ | Debian GNU/Linux 12 | PASS | +------------------------------+--------------------+ Red Hat Enterprise Linux 9.5 Kernel: 5.4 Compiler: gcc gcc (GCC) 11.5.0 20240719 (Red Hat 11.5.0-2) Ubuntu 20.04 Kernel: 5.15 Compiler: aarch64-linux-gnu-gcc gcc (Ubuntu 9.4.0-1ubuntu1~20.04.2) 9.4.0 Fedora Linux 40 Kernel: 5.4 Compiler: gcc gcc (GCC) 14.2.1 20240912 (Red Hat 14.2.1-3) Fedora Linux 41 Kernel: 5.4 Compiler: gcc gcc (GCC) 14.3.1 20250523 (Red Hat 14.3.1-1) Ubuntu 22.04 Kernel: 5.4 Compiler: gcc gcc (Ubuntu 11.4.0-1ubuntu1~22.04) 11.4.0 Ubuntu 24.04 Kernel: 5.4 Compiler: gcc gcc (Ubuntu 13.3.0-6ubuntu2~24.04) 13.3.0 CentOS Stream 9 Kernel: 5.4 Compiler: gcc gcc (GCC) 11.5.0 20240719 (Red Hat 11.5.0-7) CentOS Stream 10 Kernel: 5.4 Compiler: gcc gcc (GCC) 14.2.1 20250110 (Red Hat 14.2.1-8) Debian GNU/Linux 12 Kernel: 5.4 Compiler: gcc gcc (Debian 12.2.0-14+deb12u1) 12.2.0 To view detailed results, visit: https://lab.dpdk.org/results/dashboard/patchsets/33596/ UNH-IOL DPDK Community Lab To manage your email subscriptions, visit: https://lab.dpdk.org/results/dashboard/preferences/subscriptions/