From mboxrd@z Thu Jan 1 00:00:00 1970 Return-Path: Received: from mails.dpdk.org (mails.dpdk.org [217.70.189.124]) by inbox.dpdk.org (Postfix) with ESMTP id 97B5D46AF2 for ; Sat, 5 Jul 2025 07:25:34 +0200 (CEST) Received: from mails.dpdk.org (localhost [127.0.0.1]) by mails.dpdk.org (Postfix) with ESMTP id 913B140287; Sat, 5 Jul 2025 07:25:34 +0200 (CEST) Received: from mail-pf1-f228.google.com (mail-pf1-f228.google.com [209.85.210.228]) by mails.dpdk.org (Postfix) with ESMTP id 67A2E40287 for ; Sat, 5 Jul 2025 07:25:33 +0200 (CEST) Received: by mail-pf1-f228.google.com with SMTP id d2e1a72fcca58-74ce477af25so831657b3a.3 for ; Fri, 04 Jul 2025 22:25:33 -0700 (PDT) DKIM-Signature: v=1; a=rsa-sha256; c=relaxed/relaxed; d=iol.unh.edu; s=unh-iol; t=1751693132; x=1752297932; darn=dpdk.org; h=references:in-reply-to:cc:to:from:subject:message-id:date:from:to :cc:subject:date:message-id:reply-to; bh=OIvjWbvBOS+KQfgtX7APUp6hxNIU1OVTBfrRTePSTpk=; b=KNLmtObe5gH7ALTpUzv+a+CwS9f9sX6J7Mwd60PyeJaRpUU47+9t/2DGL6d6+NtlsX jLkR+RIGNN8VamqDBYqZSi9rpYewwh/6F0WfeYYYoN2xrrgxpFaEMmsr5q93eYVoSxCX UdoChK4ZTluN/zI8W9Dhy6RnQ5LBL5EJaYDlw= X-Google-DKIM-Signature: v=1; a=rsa-sha256; c=relaxed/relaxed; d=1e100.net; s=20230601; t=1751693132; x=1752297932; h=references:in-reply-to:cc:to:from:subject:message-id:date :x-gm-message-state:from:to:cc:subject:date:message-id:reply-to; bh=OIvjWbvBOS+KQfgtX7APUp6hxNIU1OVTBfrRTePSTpk=; b=T7EVrhWqny6Nh6wM4A3wUxjBi2HPRcg9Meru+ztjrfyB5xu5w1BMq1X3HM0EhHv1/L aC3pDbC/PYsI+L9urcgzbvIOIiXab3tZeiFwmngMO0qsG+TdNmsUw+Ug1uVpB7uhKBO2 CP5q/u7twTZT89SGrkOuHp4uqi/6B7M//TkdkQjBhTIxQlBgf8kDg1sSb+6Vtvm0LvIE bdaCtFAwdO1AzIgg7yMFQN2F4QW4wO0q8o8PqmSYSfW3qZ7ybZZJu5lDTVBPaaF/WSwZ pbOr1d4JtPbL/fiXhM8vvAePlBj8cH0VN7urCmJSIWSPmOryo8/kq58FajmXXTPAqSzv TkZw== X-Gm-Message-State: AOJu0YzLLDBOzos8t60rslOXNxJcIvURcKU5JGXc6Ycuvnv4CnlsShMz IIXK9aWGseQpTGp1Sneaj7CsSQHSZLy+jih0OKidLuqFumEZcaMkuA4bn9zgHM/bnjs90xG6ks7 PKcKXqRmXNxaO9sH9an4vXNFJKnEhokfwW+LDwrCpad7IXVVEncyn7vo44cR/ X-Gm-Gg: ASbGncvKwqLjD361X48Si5m5nD36sVsRgXFJ0APHsnpvctWwffiCZQACWOr4Vlcdw45 rbZM//blSWjNzY5wC43Qx7X8y83Xsu7tF5WywUNifx7/UkgfFM1KGIw5K3+xiFsJegiBzyaVZju URjOSjYGJRha8zoJWP/XRPXmJygiuxunlZhwrQbsknBSWFwiA2+/53WmAfIRHlj5ngcfEPEuEVJ oNO2/nh35sNpApX30rJJeqkkyUGAe+sKqLObXMHbb5AohMfAa3b1FsZTwP8+Hqhj1eTJGiFRWV7 c6Vhzak4ilQt1JpThqY4zQcnQ9XFdgFdjqEZM0TYvlx4FfE= X-Google-Smtp-Source: AGHT+IGSX7PVL9NMlJucrOChVJVPNj2aKx/645mrDXzAZyHuE94jUUNphJ/FqyJy6dcr4Frz5iRI5lLY2zbV X-Received: by 2002:a05:6a00:3c8b:b0:748:3485:b99d with SMTP id d2e1a72fcca58-74ce65c53bamr7834578b3a.18.1751693132489; Fri, 04 Jul 2025 22:25:32 -0700 (PDT) Received: from postal.iol.unh.edu (postal.iol.unh.edu. [2606:4100:3880:1234::84]) by smtp-relay.gmail.com with ESMTPS id d2e1a72fcca58-74ce3909864sm185597b3a.11.2025.07.04.22.25.32 (version=TLS1_2 cipher=ECDHE-ECDSA-AES128-GCM-SHA256 bits=128/128); Fri, 04 Jul 2025 22:25:32 -0700 (PDT) X-Relaying-Domain: iol.unh.edu Date: Fri, 04 Jul 2025 22:25:32 -0700 (PDT) Message-ID: <6868b74c.050a0220.1cf861.a28fSMTPIN_ADDED_MISSING@mx.google.com> Received: from [172.21.0.5] (unknown [172.18.0.240]) by postal.iol.unh.edu (Postfix) with ESMTP id A2AB56051830; Sat, 5 Jul 2025 01:25:31 -0400 (EDT) Subject: |SUCCESS| pw154997 [PATCH] net: support VLAN stacking packet type pa From: dpdklab@iol.unh.edu To: Test Report Cc: dpdk-test-reports@iol.unh.edu In-Reply-To: <20250703093027.1259459-1-huangdengdui@huawei.com> References: <20250703093027.1259459-1-huangdengdui@huawei.com> Content-Type: text/plain X-BeenThere: test-report@dpdk.org X-Mailman-Version: 2.1.29 Precedence: list List-Id: automatic DPDK test reports List-Unsubscribe: , List-Archive: List-Post: List-Help: List-Subscribe: , Errors-To: test-report-bounces@dpdk.org Test-Label: iol-compile-arm64-testing Test-Status: SUCCESS http://dpdk.org/patch/154997 _Testing PASS_ Submitter: Dengdui Huang Date: Thursday, July 03 2025 09:30:27 DPDK git baseline: Repo:dpdk Branch: master CommitID:70c2297528e7c7789af452f78de1932e9a20c8a2 154997 --> testing pass Upstream job id: Generic-DPDK-Compile-Meson#405555 Test environment and result as below: +------------------------------+--------------------+ | Environment | dpdk_meson_compile | +==============================+====================+ | Ubuntu 20.04 | PASS | +------------------------------+--------------------+ | Debian GNU/Linux 12 | PASS | +------------------------------+--------------------+ | Fedora Linux 40 | PASS | +------------------------------+--------------------+ | Fedora Linux 41 | PASS | +------------------------------+--------------------+ | Ubuntu 22.04 | PASS | +------------------------------+--------------------+ | Ubuntu 24.04 | PASS | +------------------------------+--------------------+ | CentOS Stream 9 | PASS | +------------------------------+--------------------+ | CentOS Stream 10 | PASS | +------------------------------+--------------------+ | Red Hat Enterprise Linux 9.5 | PASS | +------------------------------+--------------------+ Ubuntu 20.04 Kernel: 5.15 Compiler: aarch64-linux-gnu-gcc gcc (Ubuntu 9.4.0-1ubuntu1~20.04.2) 9.4.0 Debian GNU/Linux 12 Kernel: 5.4 Compiler: gcc gcc (Debian 12.2.0-14+deb12u1) 12.2.0 Fedora Linux 40 Kernel: 5.4 Compiler: gcc gcc (GCC) 14.2.1 20240912 (Red Hat 14.2.1-3) Fedora Linux 41 Kernel: 5.4 Compiler: gcc gcc (GCC) 14.3.1 20250523 (Red Hat 14.3.1-1) Ubuntu 22.04 Kernel: 5.4 Compiler: gcc gcc (Ubuntu 11.4.0-1ubuntu1~22.04) 11.4.0 Ubuntu 24.04 Kernel: 5.4 Compiler: gcc gcc (Ubuntu 13.3.0-6ubuntu2~24.04) 13.3.0 CentOS Stream 9 Kernel: 5.4 Compiler: gcc gcc (GCC) 11.5.0 20240719 (Red Hat 11.5.0-7) CentOS Stream 10 Kernel: 5.4 Compiler: gcc gcc (GCC) 14.2.1 20250110 (Red Hat 14.2.1-8) Red Hat Enterprise Linux 9.5 Kernel: 5.4 Compiler: gcc gcc (GCC) 11.5.0 20240719 (Red Hat 11.5.0-2) To view detailed results, visit: https://lab.dpdk.org/results/dashboard/patchsets/33580/ UNH-IOL DPDK Community Lab To manage your email subscriptions, visit: https://lab.dpdk.org/results/dashboard/preferences/subscriptions/