From mboxrd@z Thu Jan 1 00:00:00 1970 Return-Path: Received: from mails.dpdk.org (mails.dpdk.org [217.70.189.124]) by inbox.dpdk.org (Postfix) with ESMTP id A2DF146AF2 for ; Sat, 5 Jul 2025 07:25:45 +0200 (CEST) Received: from mails.dpdk.org (localhost [127.0.0.1]) by mails.dpdk.org (Postfix) with ESMTP id 9DB9340287; Sat, 5 Jul 2025 07:25:45 +0200 (CEST) Received: from mail-il1-f226.google.com (mail-il1-f226.google.com [209.85.166.226]) by mails.dpdk.org (Postfix) with ESMTP id 6D74F40287 for ; Sat, 5 Jul 2025 07:25:44 +0200 (CEST) Received: by mail-il1-f226.google.com with SMTP id e9e14a558f8ab-3e13a58191eso9636915ab.2 for ; Fri, 04 Jul 2025 22:25:44 -0700 (PDT) DKIM-Signature: v=1; a=rsa-sha256; c=relaxed/relaxed; d=iol.unh.edu; s=unh-iol; t=1751693144; x=1752297944; darn=dpdk.org; h=references:in-reply-to:cc:to:from:subject:message-id:date:from:to :cc:subject:date:message-id:reply-to; bh=HmF4fqlRJ0NgJAHODo2P+DUm3vpa5dofKgL5KhuQFUI=; b=dw9r79j4BPX+k3aXO0Bsanx5IQ0Z7NSDqG311w7g0Ib+PqVHmW+BW+aVNiJskRqjvo Y2X9yeoAseC4zLwssXDMDwwmY9BEweTiILlDyPFPl9M3uPfRlZUh3v+H2X0+CjEOY+sR tMrxusLJlUUGpaSgOq+wViicYsUB5HaSQUVR8= X-Google-DKIM-Signature: v=1; a=rsa-sha256; c=relaxed/relaxed; d=1e100.net; s=20230601; t=1751693144; x=1752297944; h=references:in-reply-to:cc:to:from:subject:message-id:date :x-gm-message-state:from:to:cc:subject:date:message-id:reply-to; bh=HmF4fqlRJ0NgJAHODo2P+DUm3vpa5dofKgL5KhuQFUI=; b=Tb4q/R3+kArYZO7VyCk8yhHDTIK1mr1PK02jo2+j+8pzQaoTA5V5F+Apnhzu+cGSGZ 0QiIKyGLVkikZijGhDOfWLbN1GzCzIGS/mD6gxleIXXn4fNwirMrCfBt90+bihLLVZPs UldcWY/SjAhJsSB04HkL1pwxdhEdARcsKOKxhvMnFpB6OhZGrtXBty6JV0jof2A+qmsi NGCijr1i1zfVR4N/5XkpFJF/czdkmbv1mALIt6tB+MD7tRpHcJbdKE3CYqHQbgBdxsrb FS/uwB5Ltq5MF2xP8uoZSjGTa1uipgke+BGKtm2C6v7tV5IuPiYbltcJAoddXYK+UKUJ DwMA== X-Gm-Message-State: AOJu0YzUIWJcgvY2jKqE9/rtZdLzBrggwymarwpEmeW6+yWLIU0sQBMT E+9cjj+uW5IPBkHCYiMSSJPLoTZv4dHMoAMBiFoCvsnbyBsqSqMQEa7F4YCLGH8AUyS6dRnnPTv i0offEz+RlW5lsPayXhcrzxsgJ1cqr+384UJNh8SstNItVxKmUSgth5EGn7UL X-Gm-Gg: ASbGncuWIHFS06iN8/i1dVYPrVAfv+BceVns+J5blYllD5AWciKH+OH9vnCoCrRoODs MaJc7fLMoqHO0Jakskf/BgbTxPVE29oikaaEj4CE8YOZ27nuSnf32euWEOovu7pDr+etjE9VxZh +0xHQUEM1z/1CkAdnaQUvxOiKzJnX1pmw+3i97h1rbVoFdcw3ac8AElr79Q2XDLCkheDH+8H+a5 fNujfRcx6T5/L2H9InXd9FhvmPsi/hyShflcFSkgLElve5FbyoLtl0HAQt1ALCXQDEsN7gwsTLr IvizY0HPNWPNgR37NJfRvYJNPtlGbeJL1XEBLI/9wHCJZx0= X-Google-Smtp-Source: AGHT+IF8aHoHax1DONYzcEpHsdSEW6E7Ded8biQLouNlOzbu6uQHHbtcMyA4jXsx/vgdY9ueJlzwuMyUOQIp X-Received: by 2002:a05:6e02:3804:b0:3dd:b5ef:4556 with SMTP id e9e14a558f8ab-3e13ef0e2a8mr12058975ab.18.1751693143718; Fri, 04 Jul 2025 22:25:43 -0700 (PDT) Received: from postal.iol.unh.edu (postal.iol.unh.edu. [2606:4100:3880:1234::84]) by smtp-relay.gmail.com with ESMTPS id 8926c6da1cb9f-503b5b777adsm123964173.37.2025.07.04.22.25.43 (version=TLS1_2 cipher=ECDHE-ECDSA-AES128-GCM-SHA256 bits=128/128); Fri, 04 Jul 2025 22:25:43 -0700 (PDT) X-Relaying-Domain: iol.unh.edu Date: Fri, 04 Jul 2025 22:25:43 -0700 (PDT) Message-ID: <6868b757.050a0220.33db3c.697bSMTPIN_ADDED_MISSING@mx.google.com> Received: from [172.21.0.6] (unknown [172.18.0.240]) by postal.iol.unh.edu (Postfix) with ESMTP id 3CE2A6051835; Sat, 5 Jul 2025 01:25:43 -0400 (EDT) Subject: |WARNING| pw154997 [PATCH] net: support VLAN stacking packet type pa From: dpdklab@iol.unh.edu To: Test Report Cc: dpdk-test-reports@iol.unh.edu In-Reply-To: <20250703093027.1259459-1-huangdengdui@huawei.com> References: <20250703093027.1259459-1-huangdengdui@huawei.com> Content-Type: text/plain X-BeenThere: test-report@dpdk.org X-Mailman-Version: 2.1.29 Precedence: list List-Id: automatic DPDK test reports List-Unsubscribe: , List-Archive: List-Post: List-Help: List-Subscribe: , Errors-To: test-report-bounces@dpdk.org Test-Label: iol-compile-amd64-testing Test-Status: WARNING http://dpdk.org/patch/154997 _Testing issues_ Submitter: Dengdui Huang Date: Thursday, July 03 2025 09:30:27 DPDK git baseline: Repo:dpdk Branch: master CommitID:70c2297528e7c7789af452f78de1932e9a20c8a2 154997 --> testing issues Upstream job id: Generic-DPDK-Compile-Meson#405559 Test environment and result as below: +-------------------------------+--------------------+-------------------+-------------------------+-------------------+------------------+----------------------+ | Environment | dpdk_meson_compile | dpdk_msvc_compile | dpdk_llvm_clang_compile | dpdk_compile_spdk | dpdk_compile_ovs | dpdk_mingw64_compile | +===============================+====================+===================+=========================+===================+==================+======================+ | Ubuntu 20.04 | PASS | SKIPPED | SKIPPED | SKIPPED | SKIPPED | SKIPPED | +-------------------------------+--------------------+-------------------+-------------------------+-------------------+------------------+----------------------+ | CentOS Stream 9 | PASS | SKIPPED | SKIPPED | PASS | SKIPPED | SKIPPED | +-------------------------------+--------------------+-------------------+-------------------------+-------------------+------------------+----------------------+ | Debian GNU/Linux 12 | PASS | SKIPPED | SKIPPED | PASS | SKIPPED | SKIPPED | +-------------------------------+--------------------+-------------------+-------------------------+-------------------+------------------+----------------------+ | Fedora Linux 40 | PASS | SKIPPED | SKIPPED | PASS | SKIPPED | SKIPPED | +-------------------------------+--------------------+-------------------+-------------------------+-------------------+------------------+----------------------+ | Fedora Linux 41 | PASS | SKIPPED | SKIPPED | PASS | PASS | SKIPPED | +-------------------------------+--------------------+-------------------+-------------------------+-------------------+------------------+----------------------+ | openSUSE Leap 15.6 | PASS | SKIPPED | SKIPPED | SKIPPED | SKIPPED | SKIPPED | +-------------------------------+--------------------+-------------------+-------------------------+-------------------+------------------+----------------------+ | Red Hat Enterprise Linux 8.10 | PASS | SKIPPED | SKIPPED | SKIPPED | SKIPPED | SKIPPED | +-------------------------------+--------------------+-------------------+-------------------------+-------------------+------------------+----------------------+ | Red Hat Enterprise Linux 9.5 | PASS | SKIPPED | SKIPPED | SKIPPED | SKIPPED | SKIPPED | +-------------------------------+--------------------+-------------------+-------------------------+-------------------+------------------+----------------------+ | Ubuntu 22.04 | PASS | SKIPPED | SKIPPED | PASS | SKIPPED | SKIPPED | +-------------------------------+--------------------+-------------------+-------------------------+-------------------+------------------+----------------------+ | Ubuntu 24.04 | PASS | SKIPPED | SKIPPED | PASS | PASS | SKIPPED | +-------------------------------+--------------------+-------------------+-------------------------+-------------------+------------------+----------------------+ | Alpine Linux 3.22.0 | PASS | SKIPPED | SKIPPED | SKIPPED | SKIPPED | SKIPPED | +-------------------------------+--------------------+-------------------+-------------------------+-------------------+------------------+----------------------+ | CentOS Stream 10 | PASS | SKIPPED | SKIPPED | SKIPPED | SKIPPED | SKIPPED | +-------------------------------+--------------------+-------------------+-------------------------+-------------------+------------------+----------------------+ | Windows Server 2022 | SKIPPED | PASS | PASS | SKIPPED | SKIPPED | PASS | +-------------------------------+--------------------+-------------------+-------------------------+-------------------+------------------+----------------------+ Ubuntu 20.04 Kernel: 4.19 Compiler: gcc gcc (Ubuntu 9.4.0-1ubuntu1~20.04.2) 9.4.0 CentOS Stream 9 Kernel: 5.15 Compiler: gcc gcc (GCC) 11.5.0 20240719 (Red Hat 11.5.0-7) Debian GNU/Linux 12 Kernel: 5.15 Compiler: gcc gcc (Debian 12.2.0-14+deb12u1) 12.2.0 Fedora Linux 40 Kernel: 5.15 Compiler: clang gcc (GCC) 14.2.1 20240912 (Red Hat 14.2.1-3) Fedora Linux 41 Kernel: 5.15 Compiler: clang gcc (GCC) 14.3.1 20250523 (Red Hat 14.3.1-1) openSUSE Leap 15.6 Kernel: 5.15 Compiler: gcc gcc (SUSE Linux) 7.5.0 Red Hat Enterprise Linux 8.10 Kernel: 5.15 Compiler: gcc gcc (GCC) 8.5.0 20210514 (Red Hat 8.5.0-22) Red Hat Enterprise Linux 9.5 Kernel: 5.15 Compiler: gcc gcc (GCC) 11.5.0 20240719 (Red Hat 11.5.0-2) Ubuntu 22.04 Kernel: 5.15 Compiler: gcc gcc (Ubuntu 11.4.0-1ubuntu1~22.04) 11.4.0 Ubuntu 24.04 Kernel: 5.15 Compiler: gcc gcc (Ubuntu 13.3.0-6ubuntu2~24.04) 13.3.0 Alpine Linux 3.22.0 Kernel: 5.15 Compiler: gcc gcc (Alpine 14.2.0) 14.2.0 CentOS Stream 10 Kernel: 5.15 Compiler: gcc gcc (GCC) 14.2.1 20250110 (Red Hat 14.2.1-8) Windows Server 2022 Kernel: 10.0.20348.2031 Compiler: clang 15.0.7, gcc 14.1.0 (MinGW), and MSVC VS 19.39.33521 To view detailed results, visit: https://lab.dpdk.org/results/dashboard/patchsets/33580/ UNH-IOL DPDK Community Lab To manage your email subscriptions, visit: https://lab.dpdk.org/results/dashboard/preferences/subscriptions/