From mboxrd@z Thu Jan 1 00:00:00 1970 Return-Path: Received: from mails.dpdk.org (mails.dpdk.org [217.70.189.124]) by inbox.dpdk.org (Postfix) with ESMTP id C440C46AF2 for ; Sat, 5 Jul 2025 07:26:15 +0200 (CEST) Received: from mails.dpdk.org (localhost [127.0.0.1]) by mails.dpdk.org (Postfix) with ESMTP id BFE4340287; Sat, 5 Jul 2025 07:26:15 +0200 (CEST) Received: from mail-il1-f227.google.com (mail-il1-f227.google.com [209.85.166.227]) by mails.dpdk.org (Postfix) with ESMTP id DC6E740287 for ; Sat, 5 Jul 2025 07:26:14 +0200 (CEST) Received: by mail-il1-f227.google.com with SMTP id e9e14a558f8ab-3df5249601cso12731535ab.1 for ; Fri, 04 Jul 2025 22:26:14 -0700 (PDT) DKIM-Signature: v=1; a=rsa-sha256; c=relaxed/relaxed; d=iol.unh.edu; s=unh-iol; t=1751693174; x=1752297974; darn=dpdk.org; h=references:in-reply-to:cc:to:from:subject:message-id:date:from:to :cc:subject:date:message-id:reply-to; bh=QykfjL/++68KibdAaagIH1Cw4FYcQWdivIwnmkfeWrU=; b=hiAlt6Nc9CYIOGna9Xa5aTLlHYp04nc5dbfuyYvSxV80afXRmFK3InfvOCX4qEzxNr J0khSZxLh4S0mzu4+Md/OTJeC1FMFb8KdLmQ7JZhV9svwA8uw7ev2RUXpC5qIU2JAcXo 3DGLG7zWggoUKuzPZCvGFAZ6KRIcC9zZbVnSQ= X-Google-DKIM-Signature: v=1; a=rsa-sha256; c=relaxed/relaxed; d=1e100.net; s=20230601; t=1751693174; x=1752297974; h=references:in-reply-to:cc:to:from:subject:message-id:date :x-gm-message-state:from:to:cc:subject:date:message-id:reply-to; bh=QykfjL/++68KibdAaagIH1Cw4FYcQWdivIwnmkfeWrU=; b=WsFGKAE3y/0CCuUJjLnKF+GUQxSvu9iypR3vIK5KTHh2ZQPEsfriwB8h29zev6Qduq mVpu6NOu/glopAikwPwmeGIycUVndQhQQblhtpDgbkIx4RH4Bal7tcx44qd43JGJA6LV yjcIntiVc5tlufwpDpih0hRI8EBd3fJ/42liKlq+eUwCi8yqswxe1ji+dT574ZrbLs/i 7O8XtsA8k4ISFRHWAgbrJWtJWMueOq4aeUu/BULdQ7+MQw6SxV48DMovbPNFG/llLA2c w7k/iPdGgWHnDbdKAnBY7x2LshX+kMiDOFkIBZAsfEB6B3u0sdKTA4EDFobWZcgjED9T BLpA== X-Gm-Message-State: AOJu0YwKi69XKi04TDGD2URZwW6ZxNAXPMBjq0jdM0fF08NlH0qLXJaL 6+35FTF9RhZY8UC28sBDNSAi1jVUmPIK9tC4RldoeFt7a3w56iVgKbUCmaO8cGkSkHdBkesQRk4 NsVwtVgB3bmB5ZgzMP0fF4iS73strMnapcA/3bm635qN2L+sjnBnI2JARGabB X-Gm-Gg: ASbGnctbUq/SY1MXdoos7BDg08m+qtNWsMtqg0tpvddG3K0+ZW8ui2SGRHcPzG5gXxF sytpnF7hCfd5+yOGfG45NK203bx+HybT/o8ZphjCJIg5caeJ60rgBNBFuJbf83kTGLcl/iHsupY 2d5mK9O0IQS9ZTTTWUZEl9IxqkI3Hu5pAlj2URnzEuZsM/wyJ9GIfhODeDgKgnr9UhWP6zYfSAC Sj/EQKgpd68/iUh47UuhXoZrvIL1gV//6z/3wtWPOMvuD+2+fLBmTGVmHx9oiauNfiGEDxoa43s zeStnkZ0nq0agGwKpJIlyOKwuyg0TCXp7ZqeWM29zuwhUPY= X-Google-Smtp-Source: AGHT+IGgZZuztLHwkgMyBujQWZHMyy1+bfc4ifzVpoXKh4BshmwLgixKHciRynZQp+i4i166JmBHg+biWD2b X-Received: by 2002:a05:6e02:1a8b:b0:3df:41d3:90ad with SMTP id e9e14a558f8ab-3e136f3bbc2mr39129785ab.9.1751693174291; Fri, 04 Jul 2025 22:26:14 -0700 (PDT) Received: from postal.iol.unh.edu (postal.iol.unh.edu. [2606:4100:3880:1234::84]) by smtp-relay.gmail.com with ESMTPS id e9e14a558f8ab-3e0f9c80846sm2172605ab.52.2025.07.04.22.26.14 (version=TLS1_2 cipher=ECDHE-ECDSA-AES128-GCM-SHA256 bits=128/128); Fri, 04 Jul 2025 22:26:14 -0700 (PDT) X-Relaying-Domain: iol.unh.edu Date: Fri, 04 Jul 2025 22:26:14 -0700 (PDT) Message-ID: <6868b776.050a0220.21c6c6.bb64SMTPIN_ADDED_MISSING@mx.google.com> Received: from [172.21.0.7] (unknown [172.18.0.240]) by postal.iol.unh.edu (Postfix) with ESMTP id E88436051830; Sat, 5 Jul 2025 01:26:13 -0400 (EDT) Subject: |SUCCESS| pw155012-155013 [PATCH] [v2,2/2] dts: add generic blocking From: dpdklab@iol.unh.edu To: Test Report Cc: dpdk-test-reports@iol.unh.edu In-Reply-To: <20250704152908.683265-3-luca.vizzarro@arm.com> References: <20250704152908.683265-3-luca.vizzarro@arm.com> Content-Type: text/plain X-BeenThere: test-report@dpdk.org X-Mailman-Version: 2.1.29 Precedence: list List-Id: automatic DPDK test reports List-Unsubscribe: , List-Archive: List-Post: List-Help: List-Subscribe: , Errors-To: test-report-bounces@dpdk.org Test-Label: iol-abi-testing Test-Status: SUCCESS http://dpdk.org/patch/155013 _Testing PASS_ Submitter: Luca Vizzarro Date: Friday, July 04 2025 15:29:08 DPDK git baseline: Repo:dpdk Branch: master CommitID:31ba785774d258d4c57b68dabdf544e575f3af83 155012-155013 --> testing pass Upstream job id: Generic-DPDK-Compile-ABI#133151 Test environment and result as below: +-------------------------------+----------+ | Environment | abi_test | +===============================+==========+ | CentOS Stream 9 | PASS | +-------------------------------+----------+ | CentOS Stream 10 | PASS | +-------------------------------+----------+ | Debian GNU/Linux 12 | PASS | +-------------------------------+----------+ | Fedora Linux 41 | PASS | +-------------------------------+----------+ | Fedora Linux 40 | PASS | +-------------------------------+----------+ | openSUSE Leap 15.6 | PASS | +-------------------------------+----------+ | Red Hat Enterprise Linux 8.10 | PASS | +-------------------------------+----------+ | Red Hat Enterprise Linux 9.5 | PASS | +-------------------------------+----------+ | Ubuntu 22.04 | PASS | +-------------------------------+----------+ | Ubuntu 24.04 | PASS | +-------------------------------+----------+ CentOS Stream 9 Kernel: 5.15 Compiler: gcc gcc (GCC) 11.5.0 20240719 (Red Hat 11.5.0-7) CentOS Stream 10 Kernel: 5.15 Compiler: gcc gcc (GCC) 14.2.1 20250110 (Red Hat 14.2.1-8) Debian GNU/Linux 12 Kernel: 5.15 Compiler: gcc gcc (Debian 12.2.0-14+deb12u1) 12.2.0 Fedora Linux 41 Kernel: 5.15 Compiler: clang gcc (GCC) 14.3.1 20250523 (Red Hat 14.3.1-1) Fedora Linux 40 Kernel: 5.15 Compiler: clang gcc (GCC) 14.2.1 20240912 (Red Hat 14.2.1-3) openSUSE Leap 15.6 Kernel: 5.15 Compiler: gcc gcc (SUSE Linux) 7.5.0 Red Hat Enterprise Linux 8.10 Kernel: 5.15 Compiler: gcc gcc (GCC) 8.5.0 20210514 (Red Hat 8.5.0-22) Red Hat Enterprise Linux 9.5 Kernel: 5.15 Compiler: gcc gcc (GCC) 11.5.0 20240719 (Red Hat 11.5.0-2) Ubuntu 22.04 Kernel: 5.15 Compiler: gcc gcc (Ubuntu 11.4.0-1ubuntu1~22.04) 11.4.0 Ubuntu 24.04 Kernel: 5.15 Compiler: gcc gcc (Ubuntu 13.3.0-6ubuntu2~24.04) 13.3.0 To view detailed results, visit: https://lab.dpdk.org/results/dashboard/patchsets/33595/ UNH-IOL DPDK Community Lab To manage your email subscriptions, visit: https://lab.dpdk.org/results/dashboard/preferences/subscriptions/