From mboxrd@z Thu Jan 1 00:00:00 1970 Return-Path: Received: from mails.dpdk.org (mails.dpdk.org [217.70.189.124]) by inbox.dpdk.org (Postfix) with ESMTP id D43A246AF2 for ; Sat, 5 Jul 2025 07:26:18 +0200 (CEST) Received: from mails.dpdk.org (localhost [127.0.0.1]) by mails.dpdk.org (Postfix) with ESMTP id CFD5D40287; Sat, 5 Jul 2025 07:26:18 +0200 (CEST) Received: from mail-pg1-f225.google.com (mail-pg1-f225.google.com [209.85.215.225]) by mails.dpdk.org (Postfix) with ESMTP id 2FB1740287 for ; Sat, 5 Jul 2025 07:26:17 +0200 (CEST) Received: by mail-pg1-f225.google.com with SMTP id 41be03b00d2f7-b31d578e774so2122588a12.1 for ; Fri, 04 Jul 2025 22:26:17 -0700 (PDT) DKIM-Signature: v=1; a=rsa-sha256; c=relaxed/relaxed; d=iol.unh.edu; s=unh-iol; t=1751693176; x=1752297976; darn=dpdk.org; h=references:in-reply-to:cc:to:from:subject:message-id:date:from:to :cc:subject:date:message-id:reply-to; bh=IttkRGZFvaJx4uDSpKIkKaG9w1DR/DSvcsB1NbYUYMc=; b=ZVUyIEriPrZL+43dcupZvCXWudya50AEHTPAEfyzcUFPji+RUjAI1nOHXlEoYrvwsG GmJ5ZcZY4eieObnlpk3ZFWZt63564lcJPTPxMHl9jH3s7NhomRdoG7pv1KMUxbSJBpKu 7WUTx4Y/DS9J5nYMIumdZa/gKBarO8VdyMWIs= X-Google-DKIM-Signature: v=1; a=rsa-sha256; c=relaxed/relaxed; d=1e100.net; s=20230601; t=1751693176; x=1752297976; h=references:in-reply-to:cc:to:from:subject:message-id:date :x-gm-message-state:from:to:cc:subject:date:message-id:reply-to; bh=IttkRGZFvaJx4uDSpKIkKaG9w1DR/DSvcsB1NbYUYMc=; b=r0CabWPyl14COkAvG0ftWyamHOTDKcjMEWEDT3+pY3QLU7Gf5tWB6/o9dZSsGyzdIw BU+40WlU6iFsABl77ojmzk79LhXyrcZfc9i55/Guc/orTXhATFSQuRsySyJJXNX6fL08 774MJwVdJn+pUKCV2EUChms9xPyklAtaPedXxN1w7dQ3JvxROz3TBwUgqAdndSD26BVl WYtuMwXLkOYFas0TCD0XpHXPXmyoMOZy06aRymGSWJeCWqpFFH+PJ1K+RzM3UoSuPlic mPylTJvs8AF/wrUuOZbh9iemcln9CDfRige+l2vd5A+asE9cRhZ2f2fXLbnmLTuzYl5C Xa9w== X-Gm-Message-State: AOJu0YynKqHHNWgjaxd8itpvRn+HjW5l4pTHCPT7JcHRCOfqyUBX7Sp2 x50j2GzVguVx8EOSaF4BhJBhN5L/tctFoYTB4unKJI6ETTsh9YOMjZBHOiHrjBmhD6yxMXG7CPp iCZTsMWU1ygE4I6pb70W2fMfyUaVfZW0iWvDy/zjCcG0I X-Gm-Gg: ASbGncum6j1sq1R4pj2SchI9r1rmUgaU3EyqPdk9rGWSYgpt9XpHZqY1MyHYcZUpXUH /9zvLG6bpMVug+S7vG+taepCu4YDpsl+ZbFx+tTqJwzu7aetLa6k7RmOVPJ4HaoPNzbCpqpKHly xlXo4T5mg4LM4hWseDwPeFCca6juWoXcuDfg0cmrQT0rw+Fgi8nBd0zJZc/pe3lLg4Ka/Wp04gq LM3tvRDrGB3gVTp+L4zlIEbgaCaTGIewKq2RmaR9GLrIGkvAcqzQPXkpytzWJAhE9iXR9T18JJo WVYWve4LthsRd5w5uPX/+Ws5D6iZClU8jD4ivpjvvFlbY/zsRyGwGNWuRJUgXZFjcwOgUw== X-Google-Smtp-Source: AGHT+IEEavCyqAeu3x8xJ0zN4CXuY7K2OpsxtIPJsRdRIrcVfqMn+d78G9pnRpkLT2B8B31gGeMd8vBrAsaw X-Received: by 2002:a17:90b:5847:b0:313:f995:91cc with SMTP id 98e67ed59e1d1-31aaaf7301bmr7998735a91.2.1751693176236; Fri, 04 Jul 2025 22:26:16 -0700 (PDT) Received: from postal.iol.unh.edu (postal.iol.unh.edu. [132.177.123.84]) by smtp-relay.gmail.com with ESMTPS id 98e67ed59e1d1-31aaaf7d402sm148277a91.13.2025.07.04.22.26.16 (version=TLS1_2 cipher=ECDHE-ECDSA-AES128-GCM-SHA256 bits=128/128); Fri, 04 Jul 2025 22:26:16 -0700 (PDT) X-Relaying-Domain: iol.unh.edu Date: Fri, 04 Jul 2025 22:26:16 -0700 (PDT) Message-ID: <6868b778.170a0220.7fddf.9135SMTPIN_ADDED_MISSING@mx.google.com> Received: from [172.21.0.6] (unknown [172.18.0.240]) by postal.iol.unh.edu (Postfix) with ESMTP id D5B5C6051830; Sat, 5 Jul 2025 01:26:14 -0400 (EDT) Subject: |SUCCESS| pw154997 [PATCH] net: support VLAN stacking packet type pa From: dpdklab@iol.unh.edu To: Test Report Cc: dpdk-test-reports@iol.unh.edu In-Reply-To: <20250703093027.1259459-1-huangdengdui@huawei.com> References: <20250703093027.1259459-1-huangdengdui@huawei.com> Content-Type: text/plain X-BeenThere: test-report@dpdk.org X-Mailman-Version: 2.1.29 Precedence: list List-Id: automatic DPDK test reports List-Unsubscribe: , List-Archive: List-Post: List-Help: List-Subscribe: , Errors-To: test-report-bounces@dpdk.org Test-Label: iol-compile-arm64-testing Test-Status: SUCCESS http://dpdk.org/patch/154997 _Testing PASS_ Submitter: Dengdui Huang Date: Thursday, July 03 2025 09:30:27 DPDK git baseline: Repo:dpdk Branch: master CommitID:70c2297528e7c7789af452f78de1932e9a20c8a2 154997 --> testing pass Upstream job id: Generic-DPDK-Compile-Meson#405532 Test environment and result as below: +------------------------------+--------------------+ | Environment | dpdk_meson_compile | +==============================+====================+ | Ubuntu 20.04 | PASS | +------------------------------+--------------------+ | Debian GNU/Linux 12 | PASS | +------------------------------+--------------------+ | Fedora Linux 40 | PASS | +------------------------------+--------------------+ | Fedora Linux 41 | PASS | +------------------------------+--------------------+ | Ubuntu 22.04 | PASS | +------------------------------+--------------------+ | Ubuntu 24.04 | PASS | +------------------------------+--------------------+ | CentOS Stream 9 | PASS | +------------------------------+--------------------+ | CentOS Stream 10 | PASS | +------------------------------+--------------------+ | Red Hat Enterprise Linux 9.5 | PASS | +------------------------------+--------------------+ Ubuntu 20.04 Kernel: 5.15 Compiler: aarch64-linux-gnu-gcc gcc (Ubuntu 9.4.0-1ubuntu1~20.04.2) 9.4.0 Debian GNU/Linux 12 Kernel: 5.4 Compiler: gcc gcc (Debian 12.2.0-14+deb12u1) 12.2.0 Fedora Linux 40 Kernel: 5.4 Compiler: gcc gcc (GCC) 14.2.1 20240912 (Red Hat 14.2.1-3) Fedora Linux 41 Kernel: 5.4 Compiler: gcc gcc (GCC) 14.3.1 20250523 (Red Hat 14.3.1-1) Ubuntu 22.04 Kernel: 5.4 Compiler: gcc gcc (Ubuntu 11.4.0-1ubuntu1~22.04) 11.4.0 Ubuntu 24.04 Kernel: 5.4 Compiler: gcc gcc (Ubuntu 13.3.0-6ubuntu2~24.04) 13.3.0 CentOS Stream 9 Kernel: 5.4 Compiler: gcc gcc (GCC) 11.5.0 20240719 (Red Hat 11.5.0-7) CentOS Stream 10 Kernel: 5.4 Compiler: gcc gcc (GCC) 14.2.1 20250110 (Red Hat 14.2.1-8) Red Hat Enterprise Linux 9.5 Kernel: 5.4 Compiler: gcc gcc (GCC) 11.5.0 20240719 (Red Hat 11.5.0-2) To view detailed results, visit: https://lab.dpdk.org/results/dashboard/patchsets/33580/ UNH-IOL DPDK Community Lab To manage your email subscriptions, visit: https://lab.dpdk.org/results/dashboard/preferences/subscriptions/