From mboxrd@z Thu Jan 1 00:00:00 1970 Return-Path: Received: from mails.dpdk.org (mails.dpdk.org [217.70.189.124]) by inbox.dpdk.org (Postfix) with ESMTP id EAC6C46AF2 for ; Sat, 5 Jul 2025 07:26:47 +0200 (CEST) Received: from mails.dpdk.org (localhost [127.0.0.1]) by mails.dpdk.org (Postfix) with ESMTP id E46534028C; Sat, 5 Jul 2025 07:26:47 +0200 (CEST) Received: from mail-oa1-f97.google.com (mail-oa1-f97.google.com [209.85.160.97]) by mails.dpdk.org (Postfix) with ESMTP id 7012140287 for ; Sat, 5 Jul 2025 07:26:46 +0200 (CEST) Received: by mail-oa1-f97.google.com with SMTP id 586e51a60fabf-2e9a38d2a3aso1627941fac.3 for ; Fri, 04 Jul 2025 22:26:46 -0700 (PDT) DKIM-Signature: v=1; a=rsa-sha256; c=relaxed/relaxed; d=iol.unh.edu; s=unh-iol; t=1751693206; x=1752298006; darn=dpdk.org; h=references:in-reply-to:cc:to:from:subject:message-id:date:from:to :cc:subject:date:message-id:reply-to; bh=J+OvGQtkcReDbBdsI8JVqpGlW4jvKlmkes6APQivQ4A=; b=MwNLJqWNJQElHi42jRrdLUBux55ui5ePIr/KOy+VGzRFi2BCrmnfHGC/Gnp83c9uTi 5AFq4i0WzNfrrPf0F5zBGiZkGMkMAJUmI30Wa6BzH42a87sZgVkJyBrQRqdE/E3FKUqA nDYSVC43FKNa48M4AJMtiNp+usuufbCtq1F3s= X-Google-DKIM-Signature: v=1; a=rsa-sha256; c=relaxed/relaxed; d=1e100.net; s=20230601; t=1751693206; x=1752298006; h=references:in-reply-to:cc:to:from:subject:message-id:date :x-gm-message-state:from:to:cc:subject:date:message-id:reply-to; bh=J+OvGQtkcReDbBdsI8JVqpGlW4jvKlmkes6APQivQ4A=; b=BGmFOsX289a4YmECfljPRW9EagPMOQwxLV3sSF+ARGrWbHzdQqAEpTlGlWVNEX2UoD zDm0DRUfnVcEHicKo+50TLUKIllQchgVSlJFC80KappL4nskeaw+wROU3xWO1viXJXTU maENiFegPMdfltIEbGA3jDVOAESUTRtCpuNsdIZ035FaNKSBXlc6WVzBbk0z3g42WEf+ +RoHPcr6ydF1o/IPuUcmidPosBf1XBJbXBSPfVgIDIjAflEwBJXo81vh/6D3YlEM/xx5 1xGZf3dhzSWz8m8bienrXX5rug6XDmlBLyHeS1SjuTL3ST7t01hF07dnrdL5CqCPvaqt PfLw== X-Gm-Message-State: AOJu0YykX/50ake6l7MsfptVfXArQYBGDt1t9YgWjsNNSQ/mAIPhtxjj dldOUIj95U17Ou7rcxvOFhzw/4sP39MxrVvcxlNddCWSOlqjto/EZa86oKS/fvOIyavmLF+vcfA bGo2EsGe2uLVMI/gkP7LGLGYjx5pjZepQheDXLiFgfJeW X-Gm-Gg: ASbGncuorzX8xK3G639r16G5IrbFmwA3qFmvW1SXxTLjlPsO3JDufK/+MVprJqW96Kl TSEFdVIY0354Bn5epfBIzStYuPTln7+/q8VAHabuN+72Pf/78n00HScQ4E9S/HLjBkxrOMuKqXx aC/R+5ifW+bZMRbMnqqSsOYViGxCv2TUQGDc01FkCpZRYcu7GSUlaG53naWzD/L831ORdZjkw4a PiR5n+I70LnrOGzhIkiNW05q4iVmlGgibP+OdTGaipQrdem07GmgLcKDjGijh0vIVwjjAu0zafl qnMM+Ghmi0akQzkH28jMqsT3srLo5hzlhy/T5mGZYjmHvA42zqGXl2c8qrqlTIB+3cMARg== X-Google-Smtp-Source: AGHT+IF2tReuCv5K3DbcRAbhWG3vO+c4a7Q8BCxh6DVRgMDHoO1wrJbXk7jTqU7A9OY6UBClqV52kIx+RcJw X-Received: by 2002:a05:6870:c086:b0:29e:2594:81e with SMTP id 586e51a60fabf-2f796a75f48mr3435540fac.13.1751693205687; Fri, 04 Jul 2025 22:26:45 -0700 (PDT) Received: from postal.iol.unh.edu (postal.iol.unh.edu. [132.177.123.84]) by smtp-relay.gmail.com with ESMTPS id 586e51a60fabf-2f78fdff09csm211356fac.8.2025.07.04.22.26.45 (version=TLS1_2 cipher=ECDHE-ECDSA-AES128-GCM-SHA256 bits=128/128); Fri, 04 Jul 2025 22:26:45 -0700 (PDT) X-Relaying-Domain: iol.unh.edu Date: Fri, 04 Jul 2025 22:26:45 -0700 (PDT) Message-ID: <6868b795.050a0220.304908.afeeSMTPIN_ADDED_MISSING@mx.google.com> Received: from [172.21.0.5] (unknown [172.18.0.240]) by postal.iol.unh.edu (Postfix) with ESMTP id 284196051830; Sat, 5 Jul 2025 01:26:45 -0400 (EDT) Subject: |WARNING| pw154988-154994 [PATCH] [v8,8/8] bus/dpaa: optimize qman e From: dpdklab@iol.unh.edu To: Test Report Cc: dpdk-test-reports@iol.unh.edu In-Reply-To: <20250703053743.3710482-9-vanshika.shukla@nxp.com> References: <20250703053743.3710482-9-vanshika.shukla@nxp.com> Content-Type: text/plain X-BeenThere: test-report@dpdk.org X-Mailman-Version: 2.1.29 Precedence: list List-Id: automatic DPDK test reports List-Unsubscribe: , List-Archive: List-Post: List-Help: List-Subscribe: , Errors-To: test-report-bounces@dpdk.org Test-Label: iol-compile-amd64-testing Test-Status: WARNING http://dpdk.org/patch/154994 _Testing issues_ Submitter: Vanshika Shukla Date: Thursday, July 03 2025 05:37:43 DPDK git baseline: Repo:dpdk Branch: master CommitID:b18c543ec30729ccc7708a6e064a1f9db5d8c11f 154988-154994 --> testing issues Upstream job id: Generic-DPDK-Compile-Meson#405529 Test environment and result as below: +-------------------------------+--------------------+-------------------+-------------------------+----------------------+-------------------+------------------+ | Environment | dpdk_meson_compile | dpdk_msvc_compile | dpdk_llvm_clang_compile | dpdk_mingw64_compile | dpdk_compile_spdk | dpdk_compile_ovs | +===============================+====================+===================+=========================+======================+===================+==================+ | Ubuntu 20.04 | PASS | SKIPPED | SKIPPED | SKIPPED | SKIPPED | SKIPPED | +-------------------------------+--------------------+-------------------+-------------------------+----------------------+-------------------+------------------+ | CentOS Stream 9 | PASS | SKIPPED | SKIPPED | SKIPPED | PASS | SKIPPED | +-------------------------------+--------------------+-------------------+-------------------------+----------------------+-------------------+------------------+ | CentOS Stream 10 | PASS | SKIPPED | SKIPPED | SKIPPED | SKIPPED | SKIPPED | +-------------------------------+--------------------+-------------------+-------------------------+----------------------+-------------------+------------------+ | Debian GNU/Linux 12 | PASS | SKIPPED | SKIPPED | SKIPPED | PASS | SKIPPED | +-------------------------------+--------------------+-------------------+-------------------------+----------------------+-------------------+------------------+ | Fedora Linux 40 | PASS | SKIPPED | SKIPPED | SKIPPED | PASS | SKIPPED | +-------------------------------+--------------------+-------------------+-------------------------+----------------------+-------------------+------------------+ | openSUSE Leap 15.6 | PASS | SKIPPED | SKIPPED | SKIPPED | SKIPPED | SKIPPED | +-------------------------------+--------------------+-------------------+-------------------------+----------------------+-------------------+------------------+ | Red Hat Enterprise Linux 8.10 | PASS | SKIPPED | SKIPPED | SKIPPED | SKIPPED | SKIPPED | +-------------------------------+--------------------+-------------------+-------------------------+----------------------+-------------------+------------------+ | Red Hat Enterprise Linux 9.5 | PASS | SKIPPED | SKIPPED | SKIPPED | SKIPPED | SKIPPED | +-------------------------------+--------------------+-------------------+-------------------------+----------------------+-------------------+------------------+ | Ubuntu 22.04 | PASS | SKIPPED | SKIPPED | SKIPPED | PASS | SKIPPED | +-------------------------------+--------------------+-------------------+-------------------------+----------------------+-------------------+------------------+ | Ubuntu 24.04 | PASS | SKIPPED | SKIPPED | SKIPPED | PASS | PASS | +-------------------------------+--------------------+-------------------+-------------------------+----------------------+-------------------+------------------+ | Fedora Linux 41 | PASS | SKIPPED | SKIPPED | SKIPPED | WARN | PASS | +-------------------------------+--------------------+-------------------+-------------------------+----------------------+-------------------+------------------+ | Alpine Linux 3.22.0 | PASS | SKIPPED | SKIPPED | SKIPPED | SKIPPED | SKIPPED | +-------------------------------+--------------------+-------------------+-------------------------+----------------------+-------------------+------------------+ | Windows Server 2022 | SKIPPED | PASS | PASS | PASS | SKIPPED | SKIPPED | +-------------------------------+--------------------+-------------------+-------------------------+----------------------+-------------------+------------------+ ==== 20 line log output for Fedora Linux 41 (dpdk_compile_spdk): ==== --- Failed to get log output --- ==== End log output ==== Ubuntu 20.04 Kernel: 4.19 Compiler: gcc gcc (Ubuntu 9.4.0-1ubuntu1~20.04.2) 9.4.0 CentOS Stream 9 Kernel: 5.15 Compiler: gcc gcc (GCC) 11.5.0 20240719 (Red Hat 11.5.0-7) CentOS Stream 10 Kernel: 5.15 Compiler: gcc gcc (GCC) 14.2.1 20250110 (Red Hat 14.2.1-8) Debian GNU/Linux 12 Kernel: 5.15 Compiler: gcc gcc (Debian 12.2.0-14+deb12u1) 12.2.0 Fedora Linux 40 Kernel: 5.15 Compiler: clang gcc (GCC) 14.2.1 20240912 (Red Hat 14.2.1-3) openSUSE Leap 15.6 Kernel: 5.15 Compiler: gcc gcc (SUSE Linux) 7.5.0 Red Hat Enterprise Linux 8.10 Kernel: 5.15 Compiler: gcc gcc (GCC) 8.5.0 20210514 (Red Hat 8.5.0-22) Red Hat Enterprise Linux 9.5 Kernel: 5.15 Compiler: gcc gcc (GCC) 11.5.0 20240719 (Red Hat 11.5.0-2) Ubuntu 22.04 Kernel: 5.15 Compiler: gcc gcc (Ubuntu 11.4.0-1ubuntu1~22.04) 11.4.0 Ubuntu 24.04 Kernel: 5.15 Compiler: gcc gcc (Ubuntu 13.3.0-6ubuntu2~24.04) 13.3.0 Fedora Linux 41 Kernel: 5.15 Compiler: gcc gcc (GCC) 14.3.1 20250523 (Red Hat 14.3.1-1) Alpine Linux 3.22.0 Kernel: 5.15 Compiler: gcc gcc (Alpine 14.2.0) 14.2.0 Windows Server 2022 Kernel: 10.0.20348.2031 Compiler: clang 15.0.7, gcc 14.1.0 (MinGW), and MSVC VS 19.39.33521 To view detailed results, visit: https://lab.dpdk.org/results/dashboard/patchsets/33577/ UNH-IOL DPDK Community Lab To manage your email subscriptions, visit: https://lab.dpdk.org/results/dashboard/preferences/subscriptions/