From mboxrd@z Thu Jan 1 00:00:00 1970 Return-Path: Received: from mails.dpdk.org (mails.dpdk.org [217.70.189.124]) by inbox.dpdk.org (Postfix) with ESMTP id 02A1D46AF2 for ; Sat, 5 Jul 2025 07:26:56 +0200 (CEST) Received: from mails.dpdk.org (localhost [127.0.0.1]) by mails.dpdk.org (Postfix) with ESMTP id F1D9240287; Sat, 5 Jul 2025 07:26:55 +0200 (CEST) Received: from mail-qv1-f100.google.com (mail-qv1-f100.google.com [209.85.219.100]) by mails.dpdk.org (Postfix) with ESMTP id 076FA40287 for ; Sat, 5 Jul 2025 07:26:55 +0200 (CEST) Received: by mail-qv1-f100.google.com with SMTP id 6a1803df08f44-6facc3b9559so26725156d6.0 for ; Fri, 04 Jul 2025 22:26:54 -0700 (PDT) DKIM-Signature: v=1; a=rsa-sha256; c=relaxed/relaxed; d=iol.unh.edu; s=unh-iol; t=1751693214; x=1752298014; darn=dpdk.org; h=references:in-reply-to:cc:to:from:subject:message-id:date:from:to :cc:subject:date:message-id:reply-to; bh=yrxrrPqyNOuCYqdPBH/pQqLK+7kqygB102cLJlw2yGI=; b=LjXSGcDAxp6HBnlkB7mXGgHjiAiZlwmVMx4FpqiOx4MKph8/MhWxYJLTeegA3Z6oqa /C92vCfsTOUdbdehscGS+SjVQNZ9L9SWh7vjHUkBoXIkXeguW8p/U4n49roZQWBljyOx TM1o2C64rBIMlZS2fL3VquKuW+NOC44mn6PCs= X-Google-DKIM-Signature: v=1; a=rsa-sha256; c=relaxed/relaxed; d=1e100.net; s=20230601; t=1751693214; x=1752298014; h=references:in-reply-to:cc:to:from:subject:message-id:date :x-gm-message-state:from:to:cc:subject:date:message-id:reply-to; bh=yrxrrPqyNOuCYqdPBH/pQqLK+7kqygB102cLJlw2yGI=; b=omiPNsYZKjrsLXrx6nsmuJhpH7/hgLsCKqz2tVkh/j/GjpEmUvst75MZBAK/TrGpJm 5OafY6IzNPVZiHzYB3MnAqHHOCME7hrNyjLZ9hLcra+JGhZJ6tbNqiFBFnGVe8N7c//5 ukp+HFEG+su+h7qpyMgZo3I/c+5ZIDu3F9xt0CtlE8Lege5NAmbFPdIGaOHw7x2wvvtb RaaqgbGLbTVnMHZu9vp4krZuTSPg8r9/BHH+TLf6j5wYQGqvyO83fII6OzW6uxz+hscB AopwKyDynPVwKb7s0FiMQQMZyEHkRl9mIa974S9Txwqc5rzHhzQt1oMoiGNcKR598vk0 JdIA== X-Gm-Message-State: AOJu0YwVE2T3+2m5Ng02N0W5cTyhEKQlUYef9OpBN+v6ETDinQl+yfVO qdJEZLdA3J92JjllbRyS15bVXzUyLNUpBOvtD/wVWKJsL54Q+fcU6Tv6nngJgeWVA0vbmEWsA2n iDRyXnIiIym3b2xbJgymDr2FZr/Uzhr5DlgOzPJ00uc3F X-Gm-Gg: ASbGnctabAW3AYpkoyu2g6g/MvL2MNrNKkKGCgaHyP1K8vl49MMWl8LZStr2FQcQtE3 2LzEbi6iRT4RtkUJIaF8wG6fDDGzGul/rAKIpfKA7V0ehf3pf0YUEd51hTf3byQ7p4n+TGTkurH hudF6bfRBjBiZqeWYx0m0D/uBdHKS706Oj8LhrHRVVvX38wE7DDatxxFhQIQr15Al1MPnfppItM gGFO5Z88ZJ21Dyx4PdEnLuGagoH8+cfVfNnlfyWXB1Xy5KyMC/vYCVOpWhND//OdYOfoA5UHJ6z 0tbFdhcAVlL0/u5eE+bYXPk9wDRO8PreWiYoXaQoUuAMJV1+kYzMEO3EvY0rlSLjrH/qTQ== X-Google-Smtp-Source: AGHT+IFTmdm9Zb5kjCPqW9bYEXuYA5fk439CdrJY3t67NCUXnANfLmo9roOJTF1CX4t1YA6MeJexIDmrfh0I X-Received: by 2002:a05:6214:3984:b0:6ff:16da:9a1b with SMTP id 6a1803df08f44-702c6d64e13mr77805386d6.28.1751693214446; Fri, 04 Jul 2025 22:26:54 -0700 (PDT) Received: from postal.iol.unh.edu (postal.iol.unh.edu. [132.177.123.84]) by smtp-relay.gmail.com with ESMTPS id 6a1803df08f44-702c4d53aeesm1516856d6.49.2025.07.04.22.26.54 (version=TLS1_2 cipher=ECDHE-ECDSA-AES128-GCM-SHA256 bits=128/128); Fri, 04 Jul 2025 22:26:54 -0700 (PDT) X-Relaying-Domain: iol.unh.edu Date: Fri, 04 Jul 2025 22:26:54 -0700 (PDT) Message-ID: <6868b79e.050a0220.117ac0.8797SMTPIN_ADDED_MISSING@mx.google.com> Received: from [172.21.0.6] (unknown [172.18.0.240]) by postal.iol.unh.edu (Postfix) with ESMTP id 2E34B6051830; Sat, 5 Jul 2025 01:26:54 -0400 (EDT) Subject: |SUCCESS| pw155012-155013 [PATCH] [v2,2/2] dts: add generic blocking From: dpdklab@iol.unh.edu To: Test Report Cc: dpdk-test-reports@iol.unh.edu In-Reply-To: <20250704152908.683265-3-luca.vizzarro@arm.com> References: <20250704152908.683265-3-luca.vizzarro@arm.com> Content-Type: text/plain X-BeenThere: test-report@dpdk.org X-Mailman-Version: 2.1.29 Precedence: list List-Id: automatic DPDK test reports List-Unsubscribe: , List-Archive: List-Post: List-Help: List-Subscribe: , Errors-To: test-report-bounces@dpdk.org Test-Label: iol-abi-testing Test-Status: SUCCESS http://dpdk.org/patch/155013 _Testing PASS_ Submitter: Luca Vizzarro Date: Friday, July 04 2025 15:29:08 DPDK git baseline: Repo:dpdk Branch: master CommitID:31ba785774d258d4c57b68dabdf544e575f3af83 155012-155013 --> testing pass Upstream job id: Generic-DPDK-Compile-ABI#133145 Test environment and result as below: +-------------------------------+----------+ | Environment | abi_test | +===============================+==========+ | CentOS Stream 9 | PASS | +-------------------------------+----------+ | CentOS Stream 10 | PASS | +-------------------------------+----------+ | Debian GNU/Linux 12 | PASS | +-------------------------------+----------+ | Fedora Linux 41 | PASS | +-------------------------------+----------+ | Fedora Linux 40 | PASS | +-------------------------------+----------+ | openSUSE Leap 15.6 | PASS | +-------------------------------+----------+ | Red Hat Enterprise Linux 8.10 | PASS | +-------------------------------+----------+ | Red Hat Enterprise Linux 9.5 | PASS | +-------------------------------+----------+ | Ubuntu 22.04 | PASS | +-------------------------------+----------+ | Ubuntu 24.04 | PASS | +-------------------------------+----------+ CentOS Stream 9 Kernel: 5.15 Compiler: gcc gcc (GCC) 11.5.0 20240719 (Red Hat 11.5.0-7) CentOS Stream 10 Kernel: 5.15 Compiler: gcc gcc (GCC) 14.2.1 20250110 (Red Hat 14.2.1-8) Debian GNU/Linux 12 Kernel: 5.15 Compiler: gcc gcc (Debian 12.2.0-14+deb12u1) 12.2.0 Fedora Linux 41 Kernel: 5.15 Compiler: clang gcc (GCC) 14.3.1 20250523 (Red Hat 14.3.1-1) Fedora Linux 40 Kernel: 5.15 Compiler: clang gcc (GCC) 14.2.1 20240912 (Red Hat 14.2.1-3) openSUSE Leap 15.6 Kernel: 5.15 Compiler: gcc gcc (SUSE Linux) 7.5.0 Red Hat Enterprise Linux 8.10 Kernel: 5.15 Compiler: gcc gcc (GCC) 8.5.0 20210514 (Red Hat 8.5.0-22) Red Hat Enterprise Linux 9.5 Kernel: 5.15 Compiler: gcc gcc (GCC) 11.5.0 20240719 (Red Hat 11.5.0-2) Ubuntu 22.04 Kernel: 5.15 Compiler: gcc gcc (Ubuntu 11.4.0-1ubuntu1~22.04) 11.4.0 Ubuntu 24.04 Kernel: 5.15 Compiler: gcc gcc (Ubuntu 13.3.0-6ubuntu2~24.04) 13.3.0 To view detailed results, visit: https://lab.dpdk.org/results/dashboard/patchsets/33595/ UNH-IOL DPDK Community Lab To manage your email subscriptions, visit: https://lab.dpdk.org/results/dashboard/preferences/subscriptions/