From mboxrd@z Thu Jan 1 00:00:00 1970 Return-Path: Received: from mails.dpdk.org (mails.dpdk.org [217.70.189.124]) by inbox.dpdk.org (Postfix) with ESMTP id 19DB746AF2 for ; Sat, 5 Jul 2025 07:27:24 +0200 (CEST) Received: from mails.dpdk.org (localhost [127.0.0.1]) by mails.dpdk.org (Postfix) with ESMTP id 159C940287; Sat, 5 Jul 2025 07:27:24 +0200 (CEST) Received: from mail-pl1-f225.google.com (mail-pl1-f225.google.com [209.85.214.225]) by mails.dpdk.org (Postfix) with ESMTP id B6D2C40287 for ; Sat, 5 Jul 2025 07:27:22 +0200 (CEST) Received: by mail-pl1-f225.google.com with SMTP id d9443c01a7336-23636167b30so14358305ad.1 for ; Fri, 04 Jul 2025 22:27:22 -0700 (PDT) DKIM-Signature: v=1; a=rsa-sha256; c=relaxed/relaxed; d=iol.unh.edu; s=unh-iol; t=1751693242; x=1752298042; darn=dpdk.org; h=references:in-reply-to:cc:to:from:subject:message-id:date:from:to :cc:subject:date:message-id:reply-to; bh=FobZScAKvjaYBpNRcOBeeUtFOyi4smZOcbU++pl+9rY=; b=LjHqa1oxToqqwvsbqZ99ovBwsIgnMU9YtjgkyMNApFEOAvbEEVy5fcveKGk9v3If5w 44Rw5GdfasoGTcowAKmrdYJTrkwdWi5IYGX5OiWnKL4Bu/HPXLGxGfni1L3qOY3Moae+ BnJHNscvwrPO0er/pApkvTQHwvlrpj826a3Co= X-Google-DKIM-Signature: v=1; a=rsa-sha256; c=relaxed/relaxed; d=1e100.net; s=20230601; t=1751693242; x=1752298042; h=references:in-reply-to:cc:to:from:subject:message-id:date :x-gm-message-state:from:to:cc:subject:date:message-id:reply-to; bh=FobZScAKvjaYBpNRcOBeeUtFOyi4smZOcbU++pl+9rY=; b=bGdyN1lW6Lnz78chhJ9TcfGU4cU4NO7HmhZ8IqwhKq/hdsRrGyLdO+m0qwYy2CGa4B C17BUxivKBgJhz2DTIucyU+cOpsNmf9lamxqZH3VbB+0pGc9AHEfv/GMoyJcNMa2qwxR ny6FSid98ZmxyN4p5NWZziq6JX175ak6iONlcCPAw+kexC9+s9B93F2Dwc25aZQ9mmjZ cOXVUXK2YuLdlGEniRlCipjKB6l1PXi/1izZcx6qGUOdXwdkgOa9KgoUzU5JGprvoFgc PNVKLL++d+lRadc36Qhzrhe4RnGrbJxaPrDpC1mKKd5ZAS9unJ2e1ZB9AS7B5b45MokV Lzbw== X-Gm-Message-State: AOJu0YyNPiGFy67gA2TOJEFEH/nGRqP89AJWcnYeid9C25LIGjStdFcc 99ZaZuY2FQVSWyewdNcDvFhtsfAJEFhkcPnihYJefG7Xrunryz38RWdB43Lw3r/kVWbsgGDtOMH dIElOmsWYYTpT767euUSPsptUzneh7Wb9m94sVpSREP8J1LFCrdlgPFiDd5TT X-Gm-Gg: ASbGncvnp8fMZQL5hFqISHSAT+HtQ6w4g3Ra24V9bhechVoH7/RLUx2CaKY9xuq4qie UGFIaJQWaEI3ay2AmpGhVYecaINXl+ngT6LnLJvt/JF1+xK2/sxmLEyZk4SDjL6vhz7b8UZHCk0 qdME5c2dJ7rQXgrkcotfzwkV06AD5TVp/e+opjr/WlNOWj/rKrGoPELD2OR1Eh3FobJ/1M8MRix usB5nlzBiJ1D8iLFOyn080Kq9kpSwfDqhzoVB3l49OeWkcCKKgIic6TCQh2QUQCOEMTtRBezA1/ PeK3O8BQwVJrIa687jx0hymttICbdtaI3dfPWk4nxXPDHCM= X-Google-Smtp-Source: AGHT+IHhBwI4ynCSySrTn89XlcZQ9Fre4PXtLBwgVvSAKOurSZ7lvPt6GWH2I9PV6xrAUxcxXtbUnZDYOhL5 X-Received: by 2002:a17:903:fa7:b0:234:aa9a:9e0f with SMTP id d9443c01a7336-23c85e0af64mr62126345ad.23.1751693241902; Fri, 04 Jul 2025 22:27:21 -0700 (PDT) Received: from postal.iol.unh.edu (postal.iol.unh.edu. [2606:4100:3880:1234::84]) by smtp-relay.gmail.com with ESMTPS id d9443c01a7336-23c844e13a2sm1561565ad.62.2025.07.04.22.27.21 (version=TLS1_2 cipher=ECDHE-ECDSA-AES128-GCM-SHA256 bits=128/128); Fri, 04 Jul 2025 22:27:21 -0700 (PDT) X-Relaying-Domain: iol.unh.edu Date: Fri, 04 Jul 2025 22:27:21 -0700 (PDT) Message-ID: <6868b7b9.170a0220.1b8a1f.82e1SMTPIN_ADDED_MISSING@mx.google.com> Received: from [172.21.0.9] (unknown [172.18.0.240]) by postal.iol.unh.edu (Postfix) with ESMTP id 1AE8B6051830; Sat, 5 Jul 2025 01:27:21 -0400 (EDT) Subject: |SUCCESS| pw155012-155013 [PATCH] [v2,2/2] dts: add generic blocking From: dpdklab@iol.unh.edu To: Test Report Cc: dpdk-test-reports@iol.unh.edu In-Reply-To: <20250704152908.683265-3-luca.vizzarro@arm.com> References: <20250704152908.683265-3-luca.vizzarro@arm.com> Content-Type: text/plain X-BeenThere: test-report@dpdk.org X-Mailman-Version: 2.1.29 Precedence: list List-Id: automatic DPDK test reports List-Unsubscribe: , List-Archive: List-Post: List-Help: List-Subscribe: , Errors-To: test-report-bounces@dpdk.org Test-Label: iol-abi-testing Test-Status: SUCCESS http://dpdk.org/patch/155013 _Testing PASS_ Submitter: Luca Vizzarro Date: Friday, July 04 2025 15:29:08 DPDK git baseline: Repo:dpdk Branch: master CommitID:31ba785774d258d4c57b68dabdf544e575f3af83 155012-155013 --> testing pass Upstream job id: Generic-DPDK-Compile-ABI#133152 Test environment and result as below: +-------------------------------+----------+ | Environment | abi_test | +===============================+==========+ | CentOS Stream 9 | PASS | +-------------------------------+----------+ | CentOS Stream 10 | PASS | +-------------------------------+----------+ | Debian GNU/Linux 12 | PASS | +-------------------------------+----------+ | Fedora Linux 41 | PASS | +-------------------------------+----------+ | Fedora Linux 40 | PASS | +-------------------------------+----------+ | openSUSE Leap 15.6 | PASS | +-------------------------------+----------+ | Red Hat Enterprise Linux 8.10 | PASS | +-------------------------------+----------+ | Red Hat Enterprise Linux 9.5 | PASS | +-------------------------------+----------+ | Ubuntu 22.04 | PASS | +-------------------------------+----------+ | Ubuntu 24.04 | PASS | +-------------------------------+----------+ CentOS Stream 9 Kernel: 5.15 Compiler: gcc gcc (GCC) 11.5.0 20240719 (Red Hat 11.5.0-7) CentOS Stream 10 Kernel: 5.15 Compiler: gcc gcc (GCC) 14.2.1 20250110 (Red Hat 14.2.1-8) Debian GNU/Linux 12 Kernel: 5.15 Compiler: gcc gcc (Debian 12.2.0-14+deb12u1) 12.2.0 Fedora Linux 41 Kernel: 5.15 Compiler: clang gcc (GCC) 14.3.1 20250523 (Red Hat 14.3.1-1) Fedora Linux 40 Kernel: 5.15 Compiler: clang gcc (GCC) 14.2.1 20240912 (Red Hat 14.2.1-3) openSUSE Leap 15.6 Kernel: 5.15 Compiler: gcc gcc (SUSE Linux) 7.5.0 Red Hat Enterprise Linux 8.10 Kernel: 5.15 Compiler: gcc gcc (GCC) 8.5.0 20210514 (Red Hat 8.5.0-22) Red Hat Enterprise Linux 9.5 Kernel: 5.15 Compiler: gcc gcc (GCC) 11.5.0 20240719 (Red Hat 11.5.0-2) Ubuntu 22.04 Kernel: 5.15 Compiler: gcc gcc (Ubuntu 11.4.0-1ubuntu1~22.04) 11.4.0 Ubuntu 24.04 Kernel: 5.15 Compiler: gcc gcc (Ubuntu 13.3.0-6ubuntu2~24.04) 13.3.0 To view detailed results, visit: https://lab.dpdk.org/results/dashboard/patchsets/33595/ UNH-IOL DPDK Community Lab To manage your email subscriptions, visit: https://lab.dpdk.org/results/dashboard/preferences/subscriptions/