From mboxrd@z Thu Jan 1 00:00:00 1970 Return-Path: Received: from mails.dpdk.org (mails.dpdk.org [217.70.189.124]) by inbox.dpdk.org (Postfix) with ESMTP id 2257F46AF2 for ; Sat, 5 Jul 2025 07:27:27 +0200 (CEST) Received: from mails.dpdk.org (localhost [127.0.0.1]) by mails.dpdk.org (Postfix) with ESMTP id 1D5454028C; Sat, 5 Jul 2025 07:27:27 +0200 (CEST) Received: from mail-pl1-f226.google.com (mail-pl1-f226.google.com [209.85.214.226]) by mails.dpdk.org (Postfix) with ESMTP id BFAC940287 for ; Sat, 5 Jul 2025 07:27:25 +0200 (CEST) Received: by mail-pl1-f226.google.com with SMTP id d9443c01a7336-23c8f179e1bso5118695ad.1 for ; Fri, 04 Jul 2025 22:27:25 -0700 (PDT) DKIM-Signature: v=1; a=rsa-sha256; c=relaxed/relaxed; d=iol.unh.edu; s=unh-iol; t=1751693245; x=1752298045; darn=dpdk.org; h=references:in-reply-to:cc:to:from:subject:message-id:date:from:to :cc:subject:date:message-id:reply-to; bh=2nKoHRr/yVJ/1QdpH73omvUgVb2ZiiM6hrVu4hSjK4k=; b=g7vmpGtfKx19ML39SV97tjwaPXFDoi+V2p1GE7+pKS6OYDCDt7Zk6atj5eQsGAy3Iz eQPXlR0QhRqcJq0c9chQX4Q1gyiZ2DASFJNlaqc1vSb/f/oViqIDfKRWZNN3WrpGR+b9 fCAnewsUQ9XJRyj5s6pts2FubKvlS1rJhcxgk= X-Google-DKIM-Signature: v=1; a=rsa-sha256; c=relaxed/relaxed; d=1e100.net; s=20230601; t=1751693245; x=1752298045; h=references:in-reply-to:cc:to:from:subject:message-id:date :x-gm-message-state:from:to:cc:subject:date:message-id:reply-to; bh=2nKoHRr/yVJ/1QdpH73omvUgVb2ZiiM6hrVu4hSjK4k=; b=tUJkvu46/hFfSZZlTcAdFGwp4qUeXOdjrXdNJqkSRj2tqPOoy2limfw0E2CYdk5tan 1PY2C4H6eraS75gmKhO/jH1qkC9DRqXRyIwFgKsGvYbW8jcFLUqefroYrPHjyHCUCfp4 Voa3RvtMFoN3lYNTFqjQUv1QgNJZ/EvmrWaADQkU4zt0eko2Ij8JlRXdQizAEKv/yiJ0 LFpXAKowldV5KE4TCtjW7Y69x1le3FeLs2IIpVW/781XOGAiesoR5GVrBTEI05KyR0jg dG+lQBP+6+mnPiUEQi2DukLu3sNQpQ+ot7YKDG40ZT0JJ7FEIxEb67iRCKlz71X8oerN 322w== X-Gm-Message-State: AOJu0YwK8NsMzyhfO19nNhOj1XYRGRq9EBDzo/JShnfAEdaKu4xRQwi9 kV8+Tvr8iJVyTUoys5ecxY2GpupFt+dVKkp+qzSeLoKXgqorXQwATlT3jkaGQa8r3vFCjGpb15V w1x9y5TEwTxUb/L71NV4s8vre8vVR6Yy2EulzVuvDuLQv X-Gm-Gg: ASbGnctAXZ6SqbiaxEeqemGJtFrWKdl2pT0ZSoSghaBdMccUSLCwehAZUM+rAc1436w M0WfmmV8Nu8pIv3JldJnZ3+ccQVXNw+5FhmsR+AZQJDLZezXrddarBemYylE5EXpopDpT4xS2W9 gV4HHMpZwdzxDl6lePx9dNES8wmNyGsRUwPhGAXxrNIn1lZdE3b1DojG8jE5ztN33Rh7iJ8Pm3y hpiMQ8rzD7O2EYvyAyo44D1xFLg6Xhi0QOT/hcoOPbJY5ewno/FNWgTpUGTzC2pv+X/A5lVyU8H yXwm/4v4nZk9dj1/LLaqsqPY7W4RSn3iY9msc+pw+6vqwGzGhsnwml7M1J3PRW9UtCKEcA== X-Google-Smtp-Source: AGHT+IFMlqyPbEdSGj4JcJYTPVEuVddSedroyCZdR3/9xqn+Wrk8tUOrDhYlA4XLAeI2frV4XikDGN5sWMK4 X-Received: by 2002:a17:902:da84:b0:234:e7aa:5d9b with SMTP id d9443c01a7336-23c87484443mr62444475ad.23.1751693244958; Fri, 04 Jul 2025 22:27:24 -0700 (PDT) Received: from postal.iol.unh.edu (postal.iol.unh.edu. [132.177.123.84]) by smtp-relay.gmail.com with ESMTPS id d9443c01a7336-23c844e09f5sm1603325ad.70.2025.07.04.22.27.24 (version=TLS1_2 cipher=ECDHE-ECDSA-AES128-GCM-SHA256 bits=128/128); Fri, 04 Jul 2025 22:27:24 -0700 (PDT) X-Relaying-Domain: iol.unh.edu Date: Fri, 04 Jul 2025 22:27:24 -0700 (PDT) Message-ID: <6868b7bc.170a0220.4ff6a.8b94SMTPIN_ADDED_MISSING@mx.google.com> Received: from [172.21.0.5] (unknown [172.18.0.240]) by postal.iol.unh.edu (Postfix) with ESMTP id 275086051830; Sat, 5 Jul 2025 01:27:24 -0400 (EDT) Subject: |SUCCESS| pw155014-155016 [PATCH] [v2,3/3] app/testpmd: improve outp From: dpdklab@iol.unh.edu To: Test Report Cc: dpdk-test-reports@iol.unh.edu In-Reply-To: <20250704183437.25901-4-bruce.richardson@intel.com> References: <20250704183437.25901-4-bruce.richardson@intel.com> Content-Type: text/plain X-BeenThere: test-report@dpdk.org X-Mailman-Version: 2.1.29 Precedence: list List-Id: automatic DPDK test reports List-Unsubscribe: , List-Archive: List-Post: List-Help: List-Subscribe: , Errors-To: test-report-bounces@dpdk.org Test-Label: iol-compile-arm64-testing Test-Status: SUCCESS http://dpdk.org/patch/155016 _Testing PASS_ Submitter: Bruce Richardson Date: Friday, July 04 2025 18:34:36 DPDK git baseline: Repo:dpdk Branch: master CommitID:b18c543ec30729ccc7708a6e064a1f9db5d8c11f 155014-155016 --> testing pass Upstream job id: Generic-DPDK-Compile-Meson#405591 Test environment and result as below: +------------------------------+--------------------+ | Environment | dpdk_meson_compile | +==============================+====================+ | Red Hat Enterprise Linux 9.5 | PASS | +------------------------------+--------------------+ | Ubuntu 20.04 | PASS | +------------------------------+--------------------+ | Fedora Linux 40 | PASS | +------------------------------+--------------------+ | Fedora Linux 41 | PASS | +------------------------------+--------------------+ | Ubuntu 22.04 | PASS | +------------------------------+--------------------+ | Ubuntu 24.04 | PASS | +------------------------------+--------------------+ | CentOS Stream 9 | PASS | +------------------------------+--------------------+ | CentOS Stream 10 | PASS | +------------------------------+--------------------+ | Debian GNU/Linux 12 | PASS | +------------------------------+--------------------+ Red Hat Enterprise Linux 9.5 Kernel: 5.4 Compiler: gcc gcc (GCC) 11.5.0 20240719 (Red Hat 11.5.0-2) Ubuntu 20.04 Kernel: 5.15 Compiler: aarch64-linux-gnu-gcc gcc (Ubuntu 9.4.0-1ubuntu1~20.04.2) 9.4.0 Fedora Linux 40 Kernel: 5.4 Compiler: gcc gcc (GCC) 14.2.1 20240912 (Red Hat 14.2.1-3) Fedora Linux 41 Kernel: 5.4 Compiler: gcc gcc (GCC) 14.3.1 20250523 (Red Hat 14.3.1-1) Ubuntu 22.04 Kernel: 5.4 Compiler: gcc gcc (Ubuntu 11.4.0-1ubuntu1~22.04) 11.4.0 Ubuntu 24.04 Kernel: 5.4 Compiler: gcc gcc (Ubuntu 13.3.0-6ubuntu2~24.04) 13.3.0 CentOS Stream 9 Kernel: 5.4 Compiler: gcc gcc (GCC) 11.5.0 20240719 (Red Hat 11.5.0-7) CentOS Stream 10 Kernel: 5.4 Compiler: gcc gcc (GCC) 14.2.1 20250110 (Red Hat 14.2.1-8) Debian GNU/Linux 12 Kernel: 5.4 Compiler: gcc gcc (Debian 12.2.0-14+deb12u1) 12.2.0 To view detailed results, visit: https://lab.dpdk.org/results/dashboard/patchsets/33596/ UNH-IOL DPDK Community Lab To manage your email subscriptions, visit: https://lab.dpdk.org/results/dashboard/preferences/subscriptions/