From mboxrd@z Thu Jan 1 00:00:00 1970 Return-Path: Received: from mails.dpdk.org (mails.dpdk.org [217.70.189.124]) by inbox.dpdk.org (Postfix) with ESMTP id 36F8F46AF2 for ; Sat, 5 Jul 2025 07:27:28 +0200 (CEST) Received: from mails.dpdk.org (localhost [127.0.0.1]) by mails.dpdk.org (Postfix) with ESMTP id 3269140287; Sat, 5 Jul 2025 07:27:28 +0200 (CEST) Received: from mail-oo1-f99.google.com (mail-oo1-f99.google.com [209.85.161.99]) by mails.dpdk.org (Postfix) with ESMTP id 005D240287 for ; Sat, 5 Jul 2025 07:27:26 +0200 (CEST) Received: by mail-oo1-f99.google.com with SMTP id 006d021491bc7-60f276c7313so1058854eaf.2 for ; Fri, 04 Jul 2025 22:27:26 -0700 (PDT) DKIM-Signature: v=1; a=rsa-sha256; c=relaxed/relaxed; d=iol.unh.edu; s=unh-iol; t=1751693246; x=1752298046; darn=dpdk.org; h=references:in-reply-to:cc:to:from:subject:message-id:date:from:to :cc:subject:date:message-id:reply-to; bh=F3xFOT4M8OXpOaa364roeRqSVXhpZvw3t/79kE+snpY=; b=CIV3S60sCYAKS3A+2mRSHa5HDtgjMBQ/nABO8ON2WpfI8x6wu3FyUn1hKY+VNw80O6 FBJgZsBXLD8FD6rCBGTV6oVknrJx+XqQAeqAq5l/2rKaNxal0K0Nkwjax2zI5GUHOr0H nDSBZJTP0Zb5JPucu/4PvI/2t6Vk608VIRL5c= X-Google-DKIM-Signature: v=1; a=rsa-sha256; c=relaxed/relaxed; d=1e100.net; s=20230601; t=1751693246; x=1752298046; h=references:in-reply-to:cc:to:from:subject:message-id:date :x-gm-message-state:from:to:cc:subject:date:message-id:reply-to; bh=F3xFOT4M8OXpOaa364roeRqSVXhpZvw3t/79kE+snpY=; b=jf0SGUJZKY3q8zzbFD5M/ZLRnvIMzEgAxsNWvr+DE0sYeqxYJujIr0LSb5/sFm7YA4 AtzzyTACyWw+bHdH7T4Gqo7t91zHGgsfeVdYtKCxJRGWotT/M1rQ3m0Fhl/zaGAIXXE6 LmEKAXFYYdExRRtZGEU4daICXlGs5fYBE9vZYNXPAyyG2LUEVVZgMgc/z34ze3V/trXm BWwCDOdMO1AxYvTf7W0ejFIGgCECWZ+RU7mwkWZl5+vdCm1HsIsD81/B/qA65w6NrLCX uA4Dpu8TKVAS9jiNmV+JfH+omu2q2T3+Ugz1u44iuNMhmamUmatnf9OaJlqm/kRUCRQM 4LWA== X-Gm-Message-State: AOJu0Yw7E8yd59sHAlGy4fnsOELZ4/XvJY1ty7RAriigFDsgleMNL3i/ /eLmsKv8tKyGrwDx1MhctNscLZG+fzoIo0fqI5jWLWcSLRvcyhMTMgszdpRXkqppzShx2p1yPQm Gqjlr9PI4BIKfYTJs4jSz0nfIbt4gpdWA6pNLp1L5xg9306F3t0R3t1Wk49rZ X-Gm-Gg: ASbGncu0J87bkKo/TmXTIuKZxJOzG9DrZCFrVOu3RCXDrxdFaeFhaE1nb8vwoa0Z9FN EU8xXJ00V4t0Zc2LjgEYeJGWtS4qg6E1iC4udONXc1WYQ4OvoBts92hNFjPIjwDSC5w/m8UDgxC nceSMLWgJ1a+jQXiUqOZsY3asB6cHoFlPW9kXVALdJOi0WqlMqyKW77bckA2mJ+M19YqOZTky8V ez8nSst3H2bGFS2dXtBYAn4YSQcsGqLXGW48acOnuHW4CA//7ujfvts3pLAXOgZy1NaCQ2nP5DJ 3o4IHmKyU3od+ey3QMmWK8h1rJD0dO4eADepju96U3ULecQ= X-Google-Smtp-Source: AGHT+IFz8izKi98n/lqZGAt5IIMDxK1oSKXVm95RLx1sgqa9gQymiQJidU6ICLO6a8q/ShgyHdYlfn3xJ5x3 X-Received: by 2002:a05:6808:3509:b0:406:6cbc:809d with SMTP id 5614622812f47-40d073e02a4mr3214663b6e.29.1751693246095; Fri, 04 Jul 2025 22:27:26 -0700 (PDT) Received: from postal.iol.unh.edu (postal.iol.unh.edu. [2606:4100:3880:1234::84]) by smtp-relay.gmail.com with ESMTPS id 006d021491bc7-6138e4b1c4bsm134598eaf.10.2025.07.04.22.27.26 (version=TLS1_2 cipher=ECDHE-ECDSA-AES128-GCM-SHA256 bits=128/128); Fri, 04 Jul 2025 22:27:26 -0700 (PDT) X-Relaying-Domain: iol.unh.edu Date: Fri, 04 Jul 2025 22:27:26 -0700 (PDT) Message-ID: <6868b7be.050a0220.1f4631.720eSMTPIN_ADDED_MISSING@mx.google.com> Received: from [172.21.0.8] (unknown [172.18.0.240]) by postal.iol.unh.edu (Postfix) with ESMTP id 919516051830; Sat, 5 Jul 2025 01:27:25 -0400 (EDT) Subject: |WARNING| pw154997 [PATCH] net: support VLAN stacking packet type pa From: dpdklab@iol.unh.edu To: Test Report Cc: dpdk-test-reports@iol.unh.edu In-Reply-To: <20250703093027.1259459-1-huangdengdui@huawei.com> References: <20250703093027.1259459-1-huangdengdui@huawei.com> Content-Type: text/plain X-BeenThere: test-report@dpdk.org X-Mailman-Version: 2.1.29 Precedence: list List-Id: automatic DPDK test reports List-Unsubscribe: , List-Archive: List-Post: List-Help: List-Subscribe: , Errors-To: test-report-bounces@dpdk.org Test-Label: iol-compile-amd64-testing Test-Status: WARNING http://dpdk.org/patch/154997 _Testing issues_ Submitter: Dengdui Huang Date: Thursday, July 03 2025 09:30:27 DPDK git baseline: Repo:dpdk Branch: master CommitID:70c2297528e7c7789af452f78de1932e9a20c8a2 154997 --> testing issues Upstream job id: Generic-DPDK-Compile-Meson#405539 Test environment and result as below: +-------------------------------+--------------------+-------------------+-------------------------+-------------------+------------------+----------------------+ | Environment | dpdk_meson_compile | dpdk_msvc_compile | dpdk_llvm_clang_compile | dpdk_compile_spdk | dpdk_compile_ovs | dpdk_mingw64_compile | +===============================+====================+===================+=========================+===================+==================+======================+ | Ubuntu 20.04 | PASS | SKIPPED | SKIPPED | SKIPPED | SKIPPED | SKIPPED | +-------------------------------+--------------------+-------------------+-------------------------+-------------------+------------------+----------------------+ | CentOS Stream 9 | PASS | SKIPPED | SKIPPED | PASS | SKIPPED | SKIPPED | +-------------------------------+--------------------+-------------------+-------------------------+-------------------+------------------+----------------------+ | Debian GNU/Linux 12 | PASS | SKIPPED | SKIPPED | PASS | SKIPPED | SKIPPED | +-------------------------------+--------------------+-------------------+-------------------------+-------------------+------------------+----------------------+ | Fedora Linux 40 | PASS | SKIPPED | SKIPPED | PASS | SKIPPED | SKIPPED | +-------------------------------+--------------------+-------------------+-------------------------+-------------------+------------------+----------------------+ | Fedora Linux 41 | PASS | SKIPPED | SKIPPED | PASS | PASS | SKIPPED | +-------------------------------+--------------------+-------------------+-------------------------+-------------------+------------------+----------------------+ | openSUSE Leap 15.6 | PASS | SKIPPED | SKIPPED | SKIPPED | SKIPPED | SKIPPED | +-------------------------------+--------------------+-------------------+-------------------------+-------------------+------------------+----------------------+ | Red Hat Enterprise Linux 8.10 | PASS | SKIPPED | SKIPPED | SKIPPED | SKIPPED | SKIPPED | +-------------------------------+--------------------+-------------------+-------------------------+-------------------+------------------+----------------------+ | Red Hat Enterprise Linux 9.5 | PASS | SKIPPED | SKIPPED | SKIPPED | SKIPPED | SKIPPED | +-------------------------------+--------------------+-------------------+-------------------------+-------------------+------------------+----------------------+ | Ubuntu 22.04 | PASS | SKIPPED | SKIPPED | PASS | SKIPPED | SKIPPED | +-------------------------------+--------------------+-------------------+-------------------------+-------------------+------------------+----------------------+ | Ubuntu 24.04 | PASS | SKIPPED | SKIPPED | PASS | PASS | SKIPPED | +-------------------------------+--------------------+-------------------+-------------------------+-------------------+------------------+----------------------+ | Alpine Linux 3.22.0 | PASS | SKIPPED | SKIPPED | SKIPPED | SKIPPED | SKIPPED | +-------------------------------+--------------------+-------------------+-------------------------+-------------------+------------------+----------------------+ | CentOS Stream 10 | PASS | SKIPPED | SKIPPED | SKIPPED | SKIPPED | SKIPPED | +-------------------------------+--------------------+-------------------+-------------------------+-------------------+------------------+----------------------+ | Windows Server 2022 | SKIPPED | PASS | PASS | SKIPPED | SKIPPED | PASS | +-------------------------------+--------------------+-------------------+-------------------------+-------------------+------------------+----------------------+ Ubuntu 20.04 Kernel: 4.19 Compiler: gcc gcc (Ubuntu 9.4.0-1ubuntu1~20.04.2) 9.4.0 CentOS Stream 9 Kernel: 5.15 Compiler: gcc gcc (GCC) 11.5.0 20240719 (Red Hat 11.5.0-7) Debian GNU/Linux 12 Kernel: 5.15 Compiler: gcc gcc (Debian 12.2.0-14+deb12u1) 12.2.0 Fedora Linux 40 Kernel: 5.15 Compiler: clang gcc (GCC) 14.2.1 20240912 (Red Hat 14.2.1-3) Fedora Linux 41 Kernel: 5.15 Compiler: clang gcc (GCC) 14.3.1 20250523 (Red Hat 14.3.1-1) openSUSE Leap 15.6 Kernel: 5.15 Compiler: gcc gcc (SUSE Linux) 7.5.0 Red Hat Enterprise Linux 8.10 Kernel: 5.15 Compiler: gcc gcc (GCC) 8.5.0 20210514 (Red Hat 8.5.0-22) Red Hat Enterprise Linux 9.5 Kernel: 5.15 Compiler: gcc gcc (GCC) 11.5.0 20240719 (Red Hat 11.5.0-2) Ubuntu 22.04 Kernel: 5.15 Compiler: gcc gcc (Ubuntu 11.4.0-1ubuntu1~22.04) 11.4.0 Ubuntu 24.04 Kernel: 5.15 Compiler: gcc gcc (Ubuntu 13.3.0-6ubuntu2~24.04) 13.3.0 Alpine Linux 3.22.0 Kernel: 5.15 Compiler: gcc gcc (Alpine 14.2.0) 14.2.0 CentOS Stream 10 Kernel: 5.15 Compiler: gcc gcc (GCC) 14.2.1 20250110 (Red Hat 14.2.1-8) Windows Server 2022 Kernel: 10.0.20348.2031 Compiler: clang 15.0.7, gcc 14.1.0 (MinGW), and MSVC VS 19.39.33521 To view detailed results, visit: https://lab.dpdk.org/results/dashboard/patchsets/33580/ UNH-IOL DPDK Community Lab To manage your email subscriptions, visit: https://lab.dpdk.org/results/dashboard/preferences/subscriptions/