From mboxrd@z Thu Jan 1 00:00:00 1970 Return-Path: Received: from mails.dpdk.org (mails.dpdk.org [217.70.189.124]) by inbox.dpdk.org (Postfix) with ESMTP id 5295E46AF2 for ; Sat, 5 Jul 2025 07:27:34 +0200 (CEST) Received: from mails.dpdk.org (localhost [127.0.0.1]) by mails.dpdk.org (Postfix) with ESMTP id 4AC5F40287; Sat, 5 Jul 2025 07:27:34 +0200 (CEST) Received: from mail-pg1-f225.google.com (mail-pg1-f225.google.com [209.85.215.225]) by mails.dpdk.org (Postfix) with ESMTP id 5BDA840287 for ; Sat, 5 Jul 2025 07:27:33 +0200 (CEST) Received: by mail-pg1-f225.google.com with SMTP id 41be03b00d2f7-b3220c39cffso1438454a12.0 for ; Fri, 04 Jul 2025 22:27:33 -0700 (PDT) DKIM-Signature: v=1; a=rsa-sha256; c=relaxed/relaxed; d=iol.unh.edu; s=unh-iol; t=1751693252; x=1752298052; darn=dpdk.org; h=references:in-reply-to:cc:to:from:subject:message-id:date:from:to :cc:subject:date:message-id:reply-to; bh=vjZCik8MbZN6LuUPzD4GzTs9kvkjYDUllEhUQqCwu54=; b=fzNVjp6KU50NmK+UfqXh0agRnxNj4lm34LElJ91U+dXqXMMGYiVxgPWaK9UQdk3HSM Bp9oBVIs+Sgld3IYD3KTYlOdABVhX/WBBoaqAUlwAvCFL5hXjReqczcQfvFhPHGu/cDv N7naaCd/lkf1xICPnecogcJFlwxtStnHrHBb0= X-Google-DKIM-Signature: v=1; a=rsa-sha256; c=relaxed/relaxed; d=1e100.net; s=20230601; t=1751693252; x=1752298052; h=references:in-reply-to:cc:to:from:subject:message-id:date :x-gm-message-state:from:to:cc:subject:date:message-id:reply-to; bh=vjZCik8MbZN6LuUPzD4GzTs9kvkjYDUllEhUQqCwu54=; b=fEF2ukONQrbpk11Ta8vM9KDlQGFnuteS271CAYpWFesOI19tGZEA+KBYd20xycci5R B2kB8IXIvO217Qu67QYC9PP9tDYCt/fgY6JpQTpBiiI8uLaz57LzDyjxuxH6PQ7Rbu/l PA16LrMe+677FoJpDbzybXF8KFCF1O58IQHap/HtMOXN6rM4bpGaEjM2jgqPj4T71tjH BhY8moeVs6NdbjuFTRlAb5zFG68cosmRQdp4ZIl1zC3zqRJ8VZ1qC1ADTcY76V604P0L YgT8JW5m501Ww7Iihb9jDYudsAfxJYv+/tCD8utYTFS0wHwjFNkcNLZqh6b10X/Z1hrN ZMKg== X-Gm-Message-State: AOJu0YzX1sHfRij07NTWQAHt/UWSPEDTm8BsDTq6TfF66YHL2aWPtyr+ 0Xp3pXyFiAxeZZLbQOxqkfzbwXxz/P5iUGXY+ixukIKZbf3q3VjxdEdzJFEf+iH+1jGDsDKVLWp 7VP9IBA2i2A2tjyIxYRc6b7H0SBSSbDny4zyV7WeaHxdx X-Gm-Gg: ASbGncvnedSQzGG7b+S9Jy+zOBPp21Pad+lW58AZ7hXG2gif7mw8wYh7RMXaF8gKnwL SmG+loxKXukbXhSbHCPOLKOXh7RIlZdyLjAAWOtkXbJBfvNIdK4Bt+756hZODPayyIVmcNEUfmn AurOqNcPOxKJoi+jaChJrJgCT82txyOeXSNq2Jhspsr6zVf58AM0vGB+e2aiSs4CJEXr7n/nD5+ DBzycF2i8phPHYzTzwPjXDEHHl0ASiuEnq6MucsBwsamphQOxT5Vx9z6hacWzIYH4BkkOrxnVPQ 4nD81JtaQL3kgAo3a6tZPgu9L4n/yAqi2+wa1noC4ZVIxu3Na8Xtd9lgTt0iyDif1oVXPQ== X-Google-Smtp-Source: AGHT+IG9w1Dkj+Kyd76fCG8RgH1NNSydiX/PUIjBeYyR8r1+0JkXyXQ9TgDSweo19caokcmXrQw3ZQEDxUPM X-Received: by 2002:a05:6a20:918d:b0:215:dee4:4808 with SMTP id adf61e73a8af0-2260aa9f41bmr7530564637.18.1751693252420; Fri, 04 Jul 2025 22:27:32 -0700 (PDT) Received: from postal.iol.unh.edu (postal.iol.unh.edu. [132.177.123.84]) by smtp-relay.gmail.com with ESMTPS id d2e1a72fcca58-74ce3510792sm204491b3a.10.2025.07.04.22.27.32 (version=TLS1_2 cipher=ECDHE-ECDSA-AES128-GCM-SHA256 bits=128/128); Fri, 04 Jul 2025 22:27:32 -0700 (PDT) X-Relaying-Domain: iol.unh.edu Date: Fri, 04 Jul 2025 22:27:32 -0700 (PDT) Message-ID: <6868b7c4.050a0220.2b36e0.aba8SMTPIN_ADDED_MISSING@mx.google.com> Received: from [172.21.0.10] (unknown [172.18.0.240]) by postal.iol.unh.edu (Postfix) with ESMTP id 9A9DE6051830; Sat, 5 Jul 2025 01:27:31 -0400 (EDT) Subject: |WARNING| pw154988-154994 [PATCH] [v8,8/8] bus/dpaa: optimize qman e From: dpdklab@iol.unh.edu To: Test Report Cc: dpdk-test-reports@iol.unh.edu In-Reply-To: <20250703053743.3710482-9-vanshika.shukla@nxp.com> References: <20250703053743.3710482-9-vanshika.shukla@nxp.com> Content-Type: text/plain X-BeenThere: test-report@dpdk.org X-Mailman-Version: 2.1.29 Precedence: list List-Id: automatic DPDK test reports List-Unsubscribe: , List-Archive: List-Post: List-Help: List-Subscribe: , Errors-To: test-report-bounces@dpdk.org Test-Label: iol-compile-amd64-testing Test-Status: WARNING http://dpdk.org/patch/154994 _Testing issues_ Submitter: Vanshika Shukla Date: Thursday, July 03 2025 05:37:43 DPDK git baseline: Repo:dpdk Branch: master CommitID:b18c543ec30729ccc7708a6e064a1f9db5d8c11f 154988-154994 --> testing issues Upstream job id: Generic-DPDK-Compile-Meson#405522 Test environment and result as below: +-------------------------------+--------------------+-------------------+-------------------------+----------------------+-------------------+------------------+ | Environment | dpdk_meson_compile | dpdk_msvc_compile | dpdk_llvm_clang_compile | dpdk_mingw64_compile | dpdk_compile_spdk | dpdk_compile_ovs | +===============================+====================+===================+=========================+======================+===================+==================+ | Ubuntu 20.04 | PASS | SKIPPED | SKIPPED | SKIPPED | SKIPPED | SKIPPED | +-------------------------------+--------------------+-------------------+-------------------------+----------------------+-------------------+------------------+ | CentOS Stream 9 | PASS | SKIPPED | SKIPPED | SKIPPED | PASS | SKIPPED | +-------------------------------+--------------------+-------------------+-------------------------+----------------------+-------------------+------------------+ | CentOS Stream 10 | PASS | SKIPPED | SKIPPED | SKIPPED | SKIPPED | SKIPPED | +-------------------------------+--------------------+-------------------+-------------------------+----------------------+-------------------+------------------+ | Debian GNU/Linux 12 | PASS | SKIPPED | SKIPPED | SKIPPED | PASS | SKIPPED | +-------------------------------+--------------------+-------------------+-------------------------+----------------------+-------------------+------------------+ | Fedora Linux 40 | PASS | SKIPPED | SKIPPED | SKIPPED | PASS | SKIPPED | +-------------------------------+--------------------+-------------------+-------------------------+----------------------+-------------------+------------------+ | openSUSE Leap 15.6 | PASS | SKIPPED | SKIPPED | SKIPPED | SKIPPED | SKIPPED | +-------------------------------+--------------------+-------------------+-------------------------+----------------------+-------------------+------------------+ | Red Hat Enterprise Linux 8.10 | PASS | SKIPPED | SKIPPED | SKIPPED | SKIPPED | SKIPPED | +-------------------------------+--------------------+-------------------+-------------------------+----------------------+-------------------+------------------+ | Red Hat Enterprise Linux 9.5 | PASS | SKIPPED | SKIPPED | SKIPPED | SKIPPED | SKIPPED | +-------------------------------+--------------------+-------------------+-------------------------+----------------------+-------------------+------------------+ | Ubuntu 22.04 | PASS | SKIPPED | SKIPPED | SKIPPED | PASS | SKIPPED | +-------------------------------+--------------------+-------------------+-------------------------+----------------------+-------------------+------------------+ | Ubuntu 24.04 | PASS | SKIPPED | SKIPPED | SKIPPED | PASS | PASS | +-------------------------------+--------------------+-------------------+-------------------------+----------------------+-------------------+------------------+ | Fedora Linux 41 | PASS | SKIPPED | SKIPPED | SKIPPED | WARN | PASS | +-------------------------------+--------------------+-------------------+-------------------------+----------------------+-------------------+------------------+ | Alpine Linux 3.22.0 | PASS | SKIPPED | SKIPPED | SKIPPED | SKIPPED | SKIPPED | +-------------------------------+--------------------+-------------------+-------------------------+----------------------+-------------------+------------------+ | Windows Server 2022 | SKIPPED | PASS | PASS | PASS | SKIPPED | SKIPPED | +-------------------------------+--------------------+-------------------+-------------------------+----------------------+-------------------+------------------+ ==== 20 line log output for Fedora Linux 41 (dpdk_compile_spdk): ==== --- Failed to get log output --- ==== End log output ==== Ubuntu 20.04 Kernel: 4.19 Compiler: gcc gcc (Ubuntu 9.4.0-1ubuntu1~20.04.2) 9.4.0 CentOS Stream 9 Kernel: 5.15 Compiler: gcc gcc (GCC) 11.5.0 20240719 (Red Hat 11.5.0-7) CentOS Stream 10 Kernel: 5.15 Compiler: gcc gcc (GCC) 14.2.1 20250110 (Red Hat 14.2.1-8) Debian GNU/Linux 12 Kernel: 5.15 Compiler: gcc gcc (Debian 12.2.0-14+deb12u1) 12.2.0 Fedora Linux 40 Kernel: 5.15 Compiler: clang gcc (GCC) 14.2.1 20240912 (Red Hat 14.2.1-3) openSUSE Leap 15.6 Kernel: 5.15 Compiler: gcc gcc (SUSE Linux) 7.5.0 Red Hat Enterprise Linux 8.10 Kernel: 5.15 Compiler: gcc gcc (GCC) 8.5.0 20210514 (Red Hat 8.5.0-22) Red Hat Enterprise Linux 9.5 Kernel: 5.15 Compiler: gcc gcc (GCC) 11.5.0 20240719 (Red Hat 11.5.0-2) Ubuntu 22.04 Kernel: 5.15 Compiler: gcc gcc (Ubuntu 11.4.0-1ubuntu1~22.04) 11.4.0 Ubuntu 24.04 Kernel: 5.15 Compiler: gcc gcc (Ubuntu 13.3.0-6ubuntu2~24.04) 13.3.0 Fedora Linux 41 Kernel: 5.15 Compiler: gcc gcc (GCC) 14.3.1 20250523 (Red Hat 14.3.1-1) Alpine Linux 3.22.0 Kernel: 5.15 Compiler: gcc gcc (Alpine 14.2.0) 14.2.0 Windows Server 2022 Kernel: 10.0.20348.2031 Compiler: clang 15.0.7, gcc 14.1.0 (MinGW), and MSVC VS 19.39.33521 To view detailed results, visit: https://lab.dpdk.org/results/dashboard/patchsets/33577/ UNH-IOL DPDK Community Lab To manage your email subscriptions, visit: https://lab.dpdk.org/results/dashboard/preferences/subscriptions/