From mboxrd@z Thu Jan 1 00:00:00 1970 Return-Path: Received: from mails.dpdk.org (mails.dpdk.org [217.70.189.124]) by inbox.dpdk.org (Postfix) with ESMTP id 6ABAA46AF2 for ; Sat, 5 Jul 2025 07:27:40 +0200 (CEST) Received: from mails.dpdk.org (localhost [127.0.0.1]) by mails.dpdk.org (Postfix) with ESMTP id 5A7BB40287; Sat, 5 Jul 2025 07:27:40 +0200 (CEST) Received: from mail-io1-f99.google.com (mail-io1-f99.google.com [209.85.166.99]) by mails.dpdk.org (Postfix) with ESMTP id 8246B40287 for ; Sat, 5 Jul 2025 07:27:39 +0200 (CEST) Received: by mail-io1-f99.google.com with SMTP id ca18e2360f4ac-86d01686196so42243539f.1 for ; Fri, 04 Jul 2025 22:27:39 -0700 (PDT) DKIM-Signature: v=1; a=rsa-sha256; c=relaxed/relaxed; d=iol.unh.edu; s=unh-iol; t=1751693259; x=1752298059; darn=dpdk.org; h=references:in-reply-to:cc:to:from:subject:message-id:date:from:to :cc:subject:date:message-id:reply-to; bh=2Zhu7kEkHttRTw+twNrI3zqrAXW3H9QLRa7nI6+KCXo=; b=CcPwtGu4IRcbUMxjeNyfiJh4LiIpaN+ehVSDhh1A3TAVnUbavadySQmT3hE2iWiZBo Oprs46HpJt1yy327+EFavRSucDVyo6nX5cJXXPWLAzy3b8NbM4tzoqiJhSksEI8Es0x5 ftIt1ChEYR10NpVXofRlsUbQEkFq5Y1TJmKdY= X-Google-DKIM-Signature: v=1; a=rsa-sha256; c=relaxed/relaxed; d=1e100.net; s=20230601; t=1751693259; x=1752298059; h=references:in-reply-to:cc:to:from:subject:message-id:date :x-gm-message-state:from:to:cc:subject:date:message-id:reply-to; bh=2Zhu7kEkHttRTw+twNrI3zqrAXW3H9QLRa7nI6+KCXo=; b=jpesaxr64gvQdEKMAwQK9IzUw5xiiPqNRC8+kk8M9YP2xSN4knT7eKYSP3q/Yj5RpK V0dTrENZ7aTQgV6AEWuPwrLODBmtLwZl7CptDT6Wfam9/3T6eJo42R4te8MqeJKK8gMx tDXlfc4rRWlPq2l1sCQvtTx5ITYtaWV6xg6MoJR3fGQrVZ+dqJqOjd6KPo2VsDjSUalg uX2W3P7xN0eIJxdAHJ7Uykbl7VlrKgUsqWAGB3leBPSn8iHxI1PuUMDbxE4p8GV1u3MC JS0EaXMkXglZZLa/Z+JLsXKLPPg1Suv5IiSRkYF8TH/GX+5PMmnC2QC2kb11RQ4C9uka lw2g== X-Gm-Message-State: AOJu0YxbSm+hpGtwBSqochRL3yrNkmyf/Q+8lgCV6dtBsoJmMpESZUGz R4lRERRoZk1//srXlCVTb2ClNaV8rabEdlfcq5gBNmcLYTFl4lcodb/lqV2azXX1yrPGjoMSmjn exO/Tyeq+AjnKF3SUB6UHc1NCRPqg98iP+9d3c9EQJmXfX2vQalA5TDMLxRim X-Gm-Gg: ASbGncuBmBLaid9n09PNrBh4dalk2IFbYMSdN7H0EJt1leD/xOSweMuLW8PMXvTGbaH TJrM/wspKBt0xcz8vHJDTqvWukFSi/X70uNWH2SjdWc34f02MxUeNsLOD+wZENRzpBFSbt7BtWv +vgqH9/2KQfcNwbs23r+OLXvAp1wa3v9I5h0kHSyMGvh46qeWEFUQaEr9yWm4pLfksBaDtz+9rs i1VYhrr2VLnzZDwKQbBDTHNtpwUKFW8223mnZ8xCYBg0xsCyUFDO/W2ob1gULXzptcQx7P1a8sW wVhTqFYNy0N4d/AM+Ty95NCT1jRl97Pd6/Gn2edYtqR16ac= X-Google-Smtp-Source: AGHT+IGBWpltAPYgaY8RBUAv68PvI0Pn/pogTF7yTrObJC9Nxhyg7fI2H7gDzU643wqI6bTGw1kY90V6ecRQ X-Received: by 2002:a05:6602:6d82:b0:875:bbf0:8bf with SMTP id ca18e2360f4ac-8792a447f93mr99160039f.5.1751693258795; Fri, 04 Jul 2025 22:27:38 -0700 (PDT) Received: from postal.iol.unh.edu (postal.iol.unh.edu. [2606:4100:3880:1234::84]) by smtp-relay.gmail.com with ESMTPS id 8926c6da1cb9f-503b59bd4besm124037173.13.2025.07.04.22.27.38 (version=TLS1_2 cipher=ECDHE-ECDSA-AES128-GCM-SHA256 bits=128/128); Fri, 04 Jul 2025 22:27:38 -0700 (PDT) X-Relaying-Domain: iol.unh.edu Date: Fri, 04 Jul 2025 22:27:38 -0700 (PDT) Message-ID: <6868b7ca.050a0220.3373a0.678eSMTPIN_ADDED_MISSING@mx.google.com> Received: from [172.21.0.11] (unknown [172.18.0.240]) by postal.iol.unh.edu (Postfix) with ESMTP id 4ED006051830; Sat, 5 Jul 2025 01:27:38 -0400 (EDT) Subject: |SUCCESS| pw154921-154923 [PATCH] [v2,5/5] riscv: override machine_a From: dpdklab@iol.unh.edu To: Test Report Cc: dpdk-test-reports@iol.unh.edu In-Reply-To: References: Content-Type: text/plain X-BeenThere: test-report@dpdk.org X-Mailman-Version: 2.1.29 Precedence: list List-Id: automatic DPDK test reports List-Unsubscribe: , List-Archive: List-Post: List-Help: List-Subscribe: , Errors-To: test-report-bounces@dpdk.org Test-Label: iol-compile-arm64-testing Test-Status: SUCCESS http://dpdk.org/patch/154923 _Testing PASS_ Submitter: None Date: Tuesday, July 01 2025 18:20:33 DPDK git baseline: Repo:dpdk Branch: master CommitID:70c2297528e7c7789af452f78de1932e9a20c8a2 154921-154923 --> testing pass Upstream job id: Generic-DPDK-Compile-Meson#405483 Test environment and result as below: +------------------------------+--------------------+ | Environment | dpdk_meson_compile | +==============================+====================+ | Ubuntu 20.04 | PASS | +------------------------------+--------------------+ | Debian GNU/Linux 12 | PASS | +------------------------------+--------------------+ | Fedora Linux 40 | PASS | +------------------------------+--------------------+ | Fedora Linux 41 | PASS | +------------------------------+--------------------+ | Ubuntu 22.04 | PASS | +------------------------------+--------------------+ | Ubuntu 24.04 | PASS | +------------------------------+--------------------+ | CentOS Stream 9 | PASS | +------------------------------+--------------------+ | CentOS Stream 10 | PASS | +------------------------------+--------------------+ | Red Hat Enterprise Linux 9.5 | PASS | +------------------------------+--------------------+ Ubuntu 20.04 Kernel: 5.4 Compiler: gcc gcc (Ubuntu 9.4.0-1ubuntu1~20.04.2) 9.4.0 Debian GNU/Linux 12 Kernel: 5.4 Compiler: gcc gcc (Debian 12.2.0-14+deb12u1) 12.2.0 Fedora Linux 40 Kernel: 5.4 Compiler: gcc gcc (GCC) 14.2.1 20240912 (Red Hat 14.2.1-3) Fedora Linux 41 Kernel: 5.4 Compiler: gcc gcc (GCC) 14.3.1 20250523 (Red Hat 14.3.1-1) Ubuntu 22.04 Kernel: 5.4 Compiler: gcc gcc (Ubuntu 11.4.0-1ubuntu1~22.04) 11.4.0 Ubuntu 24.04 Kernel: 5.4 Compiler: gcc gcc (Ubuntu 13.3.0-6ubuntu2~24.04) 13.3.0 CentOS Stream 9 Kernel: 5.4 Compiler: gcc gcc (GCC) 11.5.0 20240719 (Red Hat 11.5.0-7) CentOS Stream 10 Kernel: 5.4 Compiler: gcc gcc (GCC) 14.2.1 20250110 (Red Hat 14.2.1-8) Red Hat Enterprise Linux 9.5 Kernel: 5.4 Compiler: gcc gcc (GCC) 11.5.0 20240719 (Red Hat 11.5.0-2) To view detailed results, visit: https://lab.dpdk.org/results/dashboard/patchsets/33559/ UNH-IOL DPDK Community Lab To manage your email subscriptions, visit: https://lab.dpdk.org/results/dashboard/preferences/subscriptions/