From mboxrd@z Thu Jan 1 00:00:00 1970 Return-Path: Received: from mails.dpdk.org (mails.dpdk.org [217.70.189.124]) by inbox.dpdk.org (Postfix) with ESMTP id 8DACA46AF2 for ; Sat, 5 Jul 2025 07:27:46 +0200 (CEST) Received: from mails.dpdk.org (localhost [127.0.0.1]) by mails.dpdk.org (Postfix) with ESMTP id 88EED4028C; Sat, 5 Jul 2025 07:27:46 +0200 (CEST) Received: from mail-il1-f225.google.com (mail-il1-f225.google.com [209.85.166.225]) by mails.dpdk.org (Postfix) with ESMTP id 9053140287 for ; Sat, 5 Jul 2025 07:27:45 +0200 (CEST) Received: by mail-il1-f225.google.com with SMTP id e9e14a558f8ab-3e058c64a76so8353625ab.0 for ; Fri, 04 Jul 2025 22:27:45 -0700 (PDT) DKIM-Signature: v=1; a=rsa-sha256; c=relaxed/relaxed; d=iol.unh.edu; s=unh-iol; t=1751693265; x=1752298065; darn=dpdk.org; h=references:in-reply-to:cc:to:from:subject:message-id:date:from:to :cc:subject:date:message-id:reply-to; bh=GdJL/rDTVcxDIOo6LJ5tv9+EbWsTPNL5OjpyK9YS5BI=; b=j0DHE3liHd6GH2dmo2xg0wu1OLeWbyVLJiPpB2nBv9lW1goOiKaF7KhwZ0DY11DNP/ yAjsbBeFxMESOKyVBD//ooYa/jCpS9t5iVz6bBWB4fljRnDvfCRn1HmhPq4oKnvt4L7o hTdQ+M4LkQDMl3nRLrFPQtne91e17Bwf0h/IM= X-Google-DKIM-Signature: v=1; a=rsa-sha256; c=relaxed/relaxed; d=1e100.net; s=20230601; t=1751693265; x=1752298065; h=references:in-reply-to:cc:to:from:subject:message-id:date :x-gm-message-state:from:to:cc:subject:date:message-id:reply-to; bh=GdJL/rDTVcxDIOo6LJ5tv9+EbWsTPNL5OjpyK9YS5BI=; b=K0KiWQxVfjC1fk432ctoP3LZ09ECwtKj2k1GtAY/UXtVUOi1z1YgBNrJmV0cwbYxRT 74JeBHMpNfSeryJn3H13gT31qJ55XSFuyIYsCTiDeiB8oNVS4BvcIc5P/8QQDsYKbH+y yoW/+Lo8iKAt12qn2bznr9oGjRNSz860ZCSh6iaDsvYSIPO4QjREMyk+Cf982XIBGbkt VbEIKDJTij2K5SHphTR9WOiTCoQJ8oVi403ZVpa47AVAXoY+jwRtshiXeni0L7tyXN1q WjrIVn60Q29Zy6I7MPEFmmEP2PJdjOgClLvMPoYPV6S/fponFKOCCf5WsqhY+kl1Pjoy S/6Q== X-Gm-Message-State: AOJu0YytbKa/YKyPMMyoAgQupek/4SA0fdjxw//IIhF97L827//ZuWPj 6ESxadmVN+L+rGl6rlMnFWkElnpq2uA8NVHuj8RmnFiaN2KjeOe3A/5t94qBWq6IVR4NhWFKhWc Ub5cp+GJkH4zaKzEi+b4NdAQpqoAFOWd5RS4tuMwbNu/6 X-Gm-Gg: ASbGncvYgb9eMdHwsda51KIoPkbOFpLfKiElxMTG8wqJyYvz34OkWxzn3nbymwwiRLu 3RFnKfYBrY99fA/8o74MUEuY2a2lg/O5Jz+9uChs9qEc+ucBqPDmr9LDz3r7Epg2WYMMue51tu9 jhBJkUE0p4JO8E8QbRoQ5bOtzqgOLNtrPyRf1NmYC8T8EeOoXVCOkzQ7ABQBrR/rQEWgYsVwLFd nQTyuQ/v/N0FwrggBm7c+B63jUiieOr2J4br6fSxZkmbpIEy4ovsPBbNnkeFyKUHqIAuCDHP2ev U5ene9rUykPsgYjTDZNvp6CNZHON1yzTdqhUbMuqgdkafbN47o1uEb+Xd+2WTTBcU5V5EQ== X-Google-Smtp-Source: AGHT+IEg+InTsCxddtcKP+1rypbt8RPAqBDki1w1znrdB1GX5EsnjSiy1+JhVY3qUN2dB1Jw6SuvFV2233oz X-Received: by 2002:a05:6e02:378b:b0:3df:49b4:8cd6 with SMTP id e9e14a558f8ab-3e136f11795mr44605165ab.7.1751693264921; Fri, 04 Jul 2025 22:27:44 -0700 (PDT) Received: from postal.iol.unh.edu (postal.iol.unh.edu. [132.177.123.84]) by smtp-relay.gmail.com with ESMTPS id e9e14a558f8ab-3e0fe2211bfsm2244385ab.56.2025.07.04.22.27.44 (version=TLS1_2 cipher=ECDHE-ECDSA-AES128-GCM-SHA256 bits=128/128); Fri, 04 Jul 2025 22:27:44 -0700 (PDT) X-Relaying-Domain: iol.unh.edu Date: Fri, 04 Jul 2025 22:27:44 -0700 (PDT) Message-ID: <6868b7d0.050a0220.5ab23.bd5aSMTPIN_ADDED_MISSING@mx.google.com> Received: from [172.21.0.9] (unknown [172.18.0.240]) by postal.iol.unh.edu (Postfix) with ESMTP id 713E86051830; Sat, 5 Jul 2025 01:27:44 -0400 (EDT) Subject: |SUCCESS| pw155012-155013 [PATCH] [v2,2/2] dts: add generic blocking From: dpdklab@iol.unh.edu To: Test Report Cc: dpdk-test-reports@iol.unh.edu In-Reply-To: <20250704152908.683265-3-luca.vizzarro@arm.com> References: <20250704152908.683265-3-luca.vizzarro@arm.com> Content-Type: text/plain X-BeenThere: test-report@dpdk.org X-Mailman-Version: 2.1.29 Precedence: list List-Id: automatic DPDK test reports List-Unsubscribe: , List-Archive: List-Post: List-Help: List-Subscribe: , Errors-To: test-report-bounces@dpdk.org Test-Label: iol-abi-testing Test-Status: SUCCESS http://dpdk.org/patch/155013 _Testing PASS_ Submitter: Luca Vizzarro Date: Friday, July 04 2025 15:29:08 DPDK git baseline: Repo:dpdk Branch: master CommitID:31ba785774d258d4c57b68dabdf544e575f3af83 155012-155013 --> testing pass Upstream job id: Generic-DPDK-Compile-ABI#133148 Test environment and result as below: +-------------------------------+----------+ | Environment | abi_test | +===============================+==========+ | CentOS Stream 9 | PASS | +-------------------------------+----------+ | CentOS Stream 10 | PASS | +-------------------------------+----------+ | Debian GNU/Linux 12 | PASS | +-------------------------------+----------+ | Fedora Linux 41 | PASS | +-------------------------------+----------+ | Fedora Linux 40 | PASS | +-------------------------------+----------+ | openSUSE Leap 15.6 | PASS | +-------------------------------+----------+ | Red Hat Enterprise Linux 8.10 | PASS | +-------------------------------+----------+ | Red Hat Enterprise Linux 9.5 | PASS | +-------------------------------+----------+ | Ubuntu 22.04 | PASS | +-------------------------------+----------+ | Ubuntu 24.04 | PASS | +-------------------------------+----------+ CentOS Stream 9 Kernel: 5.15 Compiler: gcc gcc (GCC) 11.5.0 20240719 (Red Hat 11.5.0-7) CentOS Stream 10 Kernel: 5.15 Compiler: gcc gcc (GCC) 14.2.1 20250110 (Red Hat 14.2.1-8) Debian GNU/Linux 12 Kernel: 5.15 Compiler: gcc gcc (Debian 12.2.0-14+deb12u1) 12.2.0 Fedora Linux 41 Kernel: 5.15 Compiler: clang gcc (GCC) 14.3.1 20250523 (Red Hat 14.3.1-1) Fedora Linux 40 Kernel: 5.15 Compiler: clang gcc (GCC) 14.2.1 20240912 (Red Hat 14.2.1-3) openSUSE Leap 15.6 Kernel: 5.15 Compiler: gcc gcc (SUSE Linux) 7.5.0 Red Hat Enterprise Linux 8.10 Kernel: 5.15 Compiler: gcc gcc (GCC) 8.5.0 20210514 (Red Hat 8.5.0-22) Red Hat Enterprise Linux 9.5 Kernel: 5.15 Compiler: gcc gcc (GCC) 11.5.0 20240719 (Red Hat 11.5.0-2) Ubuntu 22.04 Kernel: 5.15 Compiler: gcc gcc (Ubuntu 11.4.0-1ubuntu1~22.04) 11.4.0 Ubuntu 24.04 Kernel: 5.15 Compiler: gcc gcc (Ubuntu 13.3.0-6ubuntu2~24.04) 13.3.0 To view detailed results, visit: https://lab.dpdk.org/results/dashboard/patchsets/33595/ UNH-IOL DPDK Community Lab To manage your email subscriptions, visit: https://lab.dpdk.org/results/dashboard/preferences/subscriptions/