From mboxrd@z Thu Jan 1 00:00:00 1970 Return-Path: Received: from mails.dpdk.org (mails.dpdk.org [217.70.189.124]) by inbox.dpdk.org (Postfix) with ESMTP id 3FFE546AF2 for ; Sat, 5 Jul 2025 07:45:30 +0200 (CEST) Received: from mails.dpdk.org (localhost [127.0.0.1]) by mails.dpdk.org (Postfix) with ESMTP id 3B86340287; Sat, 5 Jul 2025 07:45:30 +0200 (CEST) Received: from mail-il1-f225.google.com (mail-il1-f225.google.com [209.85.166.225]) by mails.dpdk.org (Postfix) with ESMTP id 572AD40287 for ; Sat, 5 Jul 2025 07:45:28 +0200 (CEST) Received: by mail-il1-f225.google.com with SMTP id e9e14a558f8ab-3ddda0a8ba2so15828815ab.0 for ; Fri, 04 Jul 2025 22:45:28 -0700 (PDT) DKIM-Signature: v=1; a=rsa-sha256; c=relaxed/relaxed; d=iol.unh.edu; s=unh-iol; t=1751694327; x=1752299127; darn=dpdk.org; h=references:in-reply-to:cc:to:from:subject:message-id:date:from:to :cc:subject:date:message-id:reply-to; bh=pdObtV3Ru03Fcc/GWfhPRuFOhVXsKsTRiSfoZGdnU2g=; b=EBl17hivgWt0ew9FMGHqLzmCxDWFgrp2I25P3yVFbUTJkQjMeiaDJAwLOfoHK3g07O AqLxeOZJlZHA57PB0fYvJLr6ZmtyZxiBWaeYsFwbS9Cy8SoHtKbWj2y5RRIgxtKhlrhn LbgEKRcFH3WQNMYhChnESUb94vSf4i/yh5Kes= X-Google-DKIM-Signature: v=1; a=rsa-sha256; c=relaxed/relaxed; d=1e100.net; s=20230601; t=1751694327; x=1752299127; h=references:in-reply-to:cc:to:from:subject:message-id:date :x-gm-message-state:from:to:cc:subject:date:message-id:reply-to; bh=pdObtV3Ru03Fcc/GWfhPRuFOhVXsKsTRiSfoZGdnU2g=; b=ooq07Fb/jlQ+nIumNOmQCZsN6Q54X5K/uVyijg3irUf4dPqn1lDsWj+iOfluRMrcTb yTwuSpNj+WUAxrgBAcefNgdH4VOpnEPtwCcvD4MP64STDKiqhZVl+24Ob2kwk1ndKfeo y7K5tWyU+MA63iDI7iTbiOmImL/pFEYR0GbA2kgp7Dj/pl8m5IKQQ+g5rkFHG1VM4C8G J7L89yq1FOIw44jzQGRhw5MMzJ0IDljCdsOjl+o6lSL+9/IMe2x9fGb77BumZmX9UsCc VQ7539tF43GMZgPb+nAASSQSGwTAPPffzxesg/TDyANBNZjgQH0zLlxMCSU87A3eGA1t KZgg== X-Gm-Message-State: AOJu0YzbdmOJ+IBD9+TyCtODmQBmEIAJHVMFKxA1AEDG5pJObD/Qtzpe L3BYiQFKAzMVjAAPGQsohnpjcema+4XvfwqeW2mMa3KFpGsnRj1fJwpSXVM5bdVhyKnMbM+YHKf rci5vpNPUvve9QJZaJk8pGxzv8Vlc4wzddxZnsr3QOBmbAhPW4W3GU7RaE4AC X-Gm-Gg: ASbGnctar8Q+wGh3tJ6E7uDAs4VaZXsZBnVvvxhu6y9jH9onyUOEP81UqAq4gz1VUVU Y7QMpcXu96uYk6eJ058zwBT0pUtq88icg7c3Baam6qdX3tckqH+KRiZS/JABGfcvswTaSSjgQOn /Cv2ki771ElrcH6KpkO745ZZJsB/iV5z8xseyEgsbI7Z7BnpLgyuFgPkpvqRnNQOVt+RbKu7M2k dXub4vfrwwwppe6AOL1A7XqS0NGVwZTQi2MzP6I2H7hamNjw6ZS6FCIrFJ6YDGbnE3jilNEEzre S+w1QyfwNt9XtUyy5sEUzmnXrWSfDGzaJu6DT9+ezoa7Qdw= X-Google-Smtp-Source: AGHT+IGhDY2HHYdgs1yrlaMZY0TEjTMz9norKAxVMTr5O8sNGytsWTSj+n6PoSwpxekxLp1eJlg0D8jVSjoL X-Received: by 2002:a05:6e02:1a25:b0:3dd:c04e:49af with SMTP id e9e14a558f8ab-3e13ee848a9mr11232885ab.3.1751694327708; Fri, 04 Jul 2025 22:45:27 -0700 (PDT) Received: from postal.iol.unh.edu (postal.iol.unh.edu. [2606:4100:3880:1234::84]) by smtp-relay.gmail.com with ESMTPS id e9e14a558f8ab-3e0f9b81c74sm2287635ab.31.2025.07.04.22.45.27 (version=TLS1_2 cipher=ECDHE-ECDSA-AES128-GCM-SHA256 bits=128/128); Fri, 04 Jul 2025 22:45:27 -0700 (PDT) X-Relaying-Domain: iol.unh.edu Date: Fri, 04 Jul 2025 22:45:27 -0700 (PDT) Message-ID: <6868bbf7.920a0220.2ecd00.cfe4SMTPIN_ADDED_MISSING@mx.google.com> Received: from [172.21.0.5] (unknown [172.18.0.240]) by postal.iol.unh.edu (Postfix) with ESMTP id 38EA06051830; Sat, 5 Jul 2025 01:45:27 -0400 (EDT) Subject: |SUCCESS| pw155008 [PATCH] mbuf: add new ptype for slow protocols From: dpdklab@iol.unh.edu To: Test Report Cc: dpdk-test-reports@iol.unh.edu In-Reply-To: <20250704084502.237979-1-kuka@cesnet.cz> References: <20250704084502.237979-1-kuka@cesnet.cz> Content-Type: text/plain X-BeenThere: test-report@dpdk.org X-Mailman-Version: 2.1.29 Precedence: list List-Id: automatic DPDK test reports List-Unsubscribe: , List-Archive: List-Post: List-Help: List-Subscribe: , Errors-To: test-report-bounces@dpdk.org Test-Label: iol-unit-amd64-testing Test-Status: SUCCESS http://dpdk.org/patch/155008 _Testing PASS_ Submitter: Mario Kuka Date: Friday, July 04 2025 08:45:01 DPDK git baseline: Repo:dpdk Branch: master CommitID:70c2297528e7c7789af452f78de1932e9a20c8a2 155008 --> testing pass Upstream job id: Generic-Unit-Test-DPDK#352844 Test environment and result as below: +-------------------------------+----------------+ | Environment | dpdk_unit_test | +===============================+================+ | Debian GNU/Linux 12 | PASS | +-------------------------------+----------------+ | CentOS Stream 9 | PASS | +-------------------------------+----------------+ | CentOS Stream 10 | PASS | +-------------------------------+----------------+ | Fedora Linux 40 | PASS | +-------------------------------+----------------+ | Fedora Linux 41 | PASS | +-------------------------------+----------------+ | Red Hat Enterprise Linux 8.10 | PASS | +-------------------------------+----------------+ | Red Hat Enterprise Linux 9.5 | PASS | +-------------------------------+----------------+ | Ubuntu 24.04 | PASS | +-------------------------------+----------------+ | Ubuntu 20.04 | PASS | +-------------------------------+----------------+ | Ubuntu 22.04 | PASS | +-------------------------------+----------------+ | Windows Server 2022 | PASS | +-------------------------------+----------------+ Debian GNU/Linux 12 Kernel: 5.15 Compiler: gcc gcc (Debian 12.2.0-14+deb12u1) 12.2.0 CentOS Stream 9 Kernel: 5.15 Compiler: gcc gcc (GCC) 11.5.0 20240719 (Red Hat 11.5.0-7) CentOS Stream 10 Kernel: 5.15 Compiler: gcc gcc (GCC) 14.2.1 20250110 (Red Hat 14.2.1-8) Fedora Linux 40 Kernel: 5.15 Compiler: gcc gcc (GCC) 14.2.1 20240912 (Red Hat 14.2.1-3) Fedora Linux 41 Kernel: 5.15 Compiler: gcc gcc (GCC) 14.3.1 20250523 (Red Hat 14.3.1-1) Red Hat Enterprise Linux 8.10 Kernel: 5.15 Compiler: gcc gcc (GCC) 8.5.0 20210514 (Red Hat 8.5.0-22) Red Hat Enterprise Linux 9.5 Kernel: 5.15 Compiler: gcc gcc (GCC) 11.5.0 20240719 (Red Hat 11.5.0-2) Ubuntu 24.04 Kernel: 5.15 Compiler: gcc gcc (Ubuntu 13.3.0-6ubuntu2~24.04) 13.3.0 Ubuntu 20.04 Kernel: 5.15 Compiler: gcc gcc (Ubuntu 9.4.0-1ubuntu1~20.04.2) 9.4.0 Ubuntu 22.04 Kernel: 5.15 Compiler: gcc gcc (Ubuntu 11.4.0-1ubuntu1~22.04) 11.4.0 Windows Server 2022 Kernel: 10.0.20348.2031 Compiler: clang 15.0.7, gcc 14.1.0 (MinGW), and MSVC VS 19.39.33521 To view detailed results, visit: https://lab.dpdk.org/results/dashboard/patchsets/33591/ UNH-IOL DPDK Community Lab To manage your email subscriptions, visit: https://lab.dpdk.org/results/dashboard/preferences/subscriptions/