From mboxrd@z Thu Jan 1 00:00:00 1970 Return-Path: Received: from mails.dpdk.org (mails.dpdk.org [217.70.189.124]) by inbox.dpdk.org (Postfix) with ESMTP id C28C046AF5 for ; Sat, 5 Jul 2025 08:15:17 +0200 (CEST) Received: from mails.dpdk.org (localhost [127.0.0.1]) by mails.dpdk.org (Postfix) with ESMTP id BD83D40287; Sat, 5 Jul 2025 08:15:17 +0200 (CEST) Received: from mail-il1-f225.google.com (mail-il1-f225.google.com [209.85.166.225]) by mails.dpdk.org (Postfix) with ESMTP id 0F60E40287 for ; Sat, 5 Jul 2025 08:15:16 +0200 (CEST) Received: by mail-il1-f225.google.com with SMTP id e9e14a558f8ab-3da73df6b6bso6000545ab.3 for ; Fri, 04 Jul 2025 23:15:16 -0700 (PDT) DKIM-Signature: v=1; a=rsa-sha256; c=relaxed/relaxed; d=iol.unh.edu; s=unh-iol; t=1751696115; x=1752300915; darn=dpdk.org; h=references:in-reply-to:cc:to:from:subject:message-id:date:from:to :cc:subject:date:message-id:reply-to; bh=UGxkapDbcl75vwoq5VAinY4xWaJcp4ZqviideepPv1w=; b=iFzhat+CkNh3CZdmud9wmRByqqqedDfBCaQDvCaNJw6XCXHHhG2avM1s798YAsYHy2 HSrTua7xzn1FSRW+2H4zsEcY90sIvxyB2Rg7OGQawL7HiL8h0mKeopcu8UIYl6CEctOY 7qx2BFoscyoBvh9dfqax0h3VCKP6/z031dfg8= X-Google-DKIM-Signature: v=1; a=rsa-sha256; c=relaxed/relaxed; d=1e100.net; s=20230601; t=1751696115; x=1752300915; h=references:in-reply-to:cc:to:from:subject:message-id:date :x-gm-message-state:from:to:cc:subject:date:message-id:reply-to; bh=UGxkapDbcl75vwoq5VAinY4xWaJcp4ZqviideepPv1w=; b=P0zdCdKqagpHRJlytpIstvAiBYoUtbgZjhz5erzMUCNueI3bJOzglUadTf6P6/LfN9 Ao3B+/aGfowjmK8f/SvXWCeb61N49RLXb8K13sp4Ly1c7V5uqQmuyCrtihUfzck5O/qK tJBH6sNU/0EM9uOeZBBM3WZYfX39hCdhoLU3Ywcdy+cKDIVf10cgLsUlDXQPTDDpjxN0 DdtkZQT9ivPKdPuNDMQVnBtBr/aCOEIdpC6mH9R/HfAm8skeNCkzON8yBL6Q/jYwuIak R3Caw2M86r4ZF4yLqA9Vz+zsYBw41KZiYrzkzFcYfAhWywfC3prkrxCydFCgjbjRHVaE OLug== X-Gm-Message-State: AOJu0YyI5/WHEP7/xfCyvoqAMXbf3f91HSQnPr//DSJZ/1mcZZt8OTe+ N38d/b071AcJb7U/kAV1iZH1TJktiIP0f01sB/ZWyRGCMn9JEzs7wkdgXGvFM3lwkcZnNudL+wV 5GVVJ6rOfsKr7jY4xDG+Uuilj8K5KGi7UMrZmESDSvDYc X-Gm-Gg: ASbGncuzxudXr4hLk1aP2afMHqgMXSz5OUPDCidnYP3gGrV8nLKOQgLLS03abWD9aD7 Yit6JKqjRIxDF3+R20N7zx29hTdNrECBg53w4ZlykC/3/7FQa0bOApxvVUysJ9VA7T6CM0KTcGl YsyeH8JJP71vxBL+H1v82ilA4lcckItOmzu1uFUURrPLappoa4QLCQDBFmu6bL52C5fGFVuJBtE P7b1WePj0FHNze5MvK7Wp1L5Hxg+jSAsyB0XquGtJKF2zGSb+VFnfz01/rvcrA4Rqvkz8evP9hN RrKHpyIGwifSutBxwjd0vLE9tLulIuRJikNg3rgDhy7iPxJnADen4eIl4mtxntzYiHDm7A== X-Google-Smtp-Source: AGHT+IEDEn4vTtEtNcaHjryGLexnxEM21IlAp/k3GRIl/DDeyKyEUMiR4Xh6Z/ofj/Gwi6sJtCX7zLkRElDr X-Received: by 2002:a05:6e02:380d:b0:3df:2f47:dc21 with SMTP id e9e14a558f8ab-3e137204107mr44158925ab.22.1751696115410; Fri, 04 Jul 2025 23:15:15 -0700 (PDT) Received: from postal.iol.unh.edu (postal.iol.unh.edu. [132.177.123.84]) by smtp-relay.gmail.com with ESMTPS id 8926c6da1cb9f-503b5a12f53sm124522173.23.2025.07.04.23.15.15 (version=TLS1_2 cipher=ECDHE-ECDSA-AES128-GCM-SHA256 bits=128/128); Fri, 04 Jul 2025 23:15:15 -0700 (PDT) X-Relaying-Domain: iol.unh.edu Date: Fri, 04 Jul 2025 23:15:15 -0700 (PDT) Message-ID: <6868c2f3.050a0220.28ffdf.6790SMTPIN_ADDED_MISSING@mx.google.com> Received: from [172.21.0.5] (unknown [172.18.0.240]) by postal.iol.unh.edu (Postfix) with ESMTP id DFB076051830; Sat, 5 Jul 2025 02:15:14 -0400 (EDT) Subject: |SUCCESS| pw155010 [PATCH] net/bonding: avoid RSS reta update in flo From: dpdklab@iol.unh.edu To: Test Report Cc: dpdk-test-reports@iol.unh.edu In-Reply-To: <20250704135031.5306-1-madhuker.mythri@oracle.com> References: <20250704135031.5306-1-madhuker.mythri@oracle.com> Content-Type: text/plain X-BeenThere: test-report@dpdk.org X-Mailman-Version: 2.1.29 Precedence: list List-Id: automatic DPDK test reports List-Unsubscribe: , List-Archive: List-Post: List-Help: List-Subscribe: , Errors-To: test-report-bounces@dpdk.org Test-Label: iol-abi-testing Test-Status: SUCCESS http://dpdk.org/patch/155010 _Testing PASS_ Submitter: Madhuker Mythri Date: Friday, July 04 2025 13:50:31 DPDK git baseline: Repo:dpdk Branch: master CommitID:b18c543ec30729ccc7708a6e064a1f9db5d8c11f 155010 --> testing pass Upstream job id: Generic-DPDK-Compile-ABI#133163 Test environment and result as below: +-------------------------------+----------+ | Environment | abi_test | +===============================+==========+ | CentOS Stream 10 | PASS | +-------------------------------+----------+ | Debian GNU/Linux 12 | PASS | +-------------------------------+----------+ | Fedora Linux 40 | PASS | +-------------------------------+----------+ | openSUSE Leap 15.6 | PASS | +-------------------------------+----------+ | Fedora Linux 41 | PASS | +-------------------------------+----------+ | Red Hat Enterprise Linux 8.10 | PASS | +-------------------------------+----------+ | Red Hat Enterprise Linux 9.5 | PASS | +-------------------------------+----------+ | Ubuntu 24.04 | PASS | +-------------------------------+----------+ | CentOS Stream 9 | PASS | +-------------------------------+----------+ | Ubuntu 22.04 | PASS | +-------------------------------+----------+ CentOS Stream 10 Kernel: 5.15 Compiler: gcc gcc (GCC) 14.2.1 20250110 (Red Hat 14.2.1-8) Debian GNU/Linux 12 Kernel: 5.15 Compiler: gcc gcc (Debian 12.2.0-14+deb12u1) 12.2.0 Fedora Linux 40 Kernel: 5.15 Compiler: clang gcc (GCC) 14.2.1 20240912 (Red Hat 14.2.1-3) openSUSE Leap 15.6 Kernel: 5.15 Compiler: gcc gcc (SUSE Linux) 7.5.0 Fedora Linux 41 Kernel: 5.15 Compiler: gcc gcc (GCC) 14.3.1 20250523 (Red Hat 14.3.1-1) Red Hat Enterprise Linux 8.10 Kernel: 5.15 Compiler: gcc gcc (GCC) 8.5.0 20210514 (Red Hat 8.5.0-22) Red Hat Enterprise Linux 9.5 Kernel: 5.15 Compiler: gcc gcc (GCC) 11.5.0 20240719 (Red Hat 11.5.0-2) Ubuntu 24.04 Kernel: 5.15 Compiler: gcc gcc (Ubuntu 13.3.0-6ubuntu2~24.04) 13.3.0 CentOS Stream 9 Kernel: 5.15 Compiler: gcc gcc (GCC) 11.5.0 20240719 (Red Hat 11.5.0-7) Ubuntu 22.04 Kernel: 5.15 Compiler: gcc gcc (Ubuntu 11.4.0-1ubuntu1~22.04) 11.4.0 To view detailed results, visit: https://lab.dpdk.org/results/dashboard/patchsets/33593/ UNH-IOL DPDK Community Lab To manage your email subscriptions, visit: https://lab.dpdk.org/results/dashboard/preferences/subscriptions/