From mboxrd@z Thu Jan 1 00:00:00 1970 Return-Path: Received: from mails.dpdk.org (mails.dpdk.org [217.70.189.124]) by inbox.dpdk.org (Postfix) with ESMTP id CE54946AF5 for ; Sat, 5 Jul 2025 08:15:28 +0200 (CEST) Received: from mails.dpdk.org (localhost [127.0.0.1]) by mails.dpdk.org (Postfix) with ESMTP id C952C40287; Sat, 5 Jul 2025 08:15:28 +0200 (CEST) Received: from mail-pl1-f226.google.com (mail-pl1-f226.google.com [209.85.214.226]) by mails.dpdk.org (Postfix) with ESMTP id 890CE40287 for ; Sat, 5 Jul 2025 08:15:27 +0200 (CEST) Received: by mail-pl1-f226.google.com with SMTP id d9443c01a7336-23c703c471dso22335795ad.0 for ; Fri, 04 Jul 2025 23:15:27 -0700 (PDT) DKIM-Signature: v=1; a=rsa-sha256; c=relaxed/relaxed; d=iol.unh.edu; s=unh-iol; t=1751696126; x=1752300926; darn=dpdk.org; h=references:in-reply-to:cc:to:from:subject:message-id:date:from:to :cc:subject:date:message-id:reply-to; bh=AjkdffDzRUHxOxge/8LSegHRoPonTbdeJs5oeJZOo1E=; b=TYUkUuktjbN+PxYregBpBBWchAGphkoFt2UTIO3qWRo+6rbLzDsdSKzmrDegHmVWvz X7+a9y3nG7TD5qWClsa4Ee1RI0WYsDOXre6v8QTjvpwO04oeRZRZn8GJpPBf9XVmDXwQ Aj9HFVS1m++ptzU2soKEStzb63A6BjfgZndfo= X-Google-DKIM-Signature: v=1; a=rsa-sha256; c=relaxed/relaxed; d=1e100.net; s=20230601; t=1751696126; x=1752300926; h=references:in-reply-to:cc:to:from:subject:message-id:date :x-gm-message-state:from:to:cc:subject:date:message-id:reply-to; bh=AjkdffDzRUHxOxge/8LSegHRoPonTbdeJs5oeJZOo1E=; b=MgC4zxLUnOLDBnTL6SDF+oe6B4yVN6vS595YU3EJYafNzonsQPFntlS3vh3xk/3ZNp qCUcdnR1gfiAG2+nSBzZAqXO19Kc+/awpeGh+6f5jIM3TzjGHiUTnlljptZUxUA07f4S jqUQV55q7sTCMMbJ/3Mit8SvoIcD/hSnv+7J1iTt/2hXcNi9Wbq+kJ8SHu5u8YVb+z7x ETN23IPkFRjolL3sy7KeaxstdDbTbONTGjam7xyx1ImzSYvk+7uHqJQ8bzMhvb2MfTig fDoYNMVUB91YvnCzlquL8y/3rf/6SeWX8Git2liIHhSlbCAikjjtH5QnChj5wv63wXhx lSAQ== X-Gm-Message-State: AOJu0YyD/3YBUHjcnDNeGDFUDn4GfjNjtCp/sLJuiughdO+TqJ7HttMs DLGgJQQzG+HPscrqof11DAQL0s+Wx9TMU6WT3ZeNmKXfL7IEXX8tqJgqzkVxRvQNZXX2S8gF3EP qDPIWGNfqG1S4LVN3s3WPYuWx4HE3ItKm9JFOCn86IL82kGIETmMAGpEwNwEu X-Gm-Gg: ASbGncshLWWL73+Wmi3L7By1rdOs1JVcTO2Ah0l3JgKblT0qLuOf8GjKaawZE2VLwkW Y0/R1dcx7bFKwzLyGdgJWB0kzbJwav8PFj2toFO6jz5dMWMgG3N1rQZU3PVxEZ5uHbOA9nKFpOy I5Ls/g5wxR7SiRjYKipzmaEonsxbQzatmJ5n3nfMBh3Fr0+WelV12ovy2WalluN72AbaVEsQfCB HNi7TyLxajmtMr7MB50mJqUlNm6zg1xMq8rCGTD3Mjw0ByLE8dc3WCSwHx1/4mtW/2u473IOe6N +8GsP+BXQ0Y5Tr+xot/j4y8y/wBCMJbB+DALknfE7OHs1NE= X-Google-Smtp-Source: AGHT+IF6C6f8fBZAGYPIxlN/312OUr+zCklr8IXrAm8B2dVB1YLAiduEJBnCIh9gQQZhdB4dtSkkonrA2R4K X-Received: by 2002:a17:903:98b:b0:215:b1e3:c051 with SMTP id d9443c01a7336-23c858d019emr76888595ad.11.1751696126600; Fri, 04 Jul 2025 23:15:26 -0700 (PDT) Received: from postal.iol.unh.edu (postal.iol.unh.edu. [2606:4100:3880:1234::84]) by smtp-relay.gmail.com with ESMTPS id d9443c01a7336-23c84519a09sm1590615ad.121.2025.07.04.23.15.26 (version=TLS1_2 cipher=ECDHE-ECDSA-AES128-GCM-SHA256 bits=128/128); Fri, 04 Jul 2025 23:15:26 -0700 (PDT) X-Relaying-Domain: iol.unh.edu Date: Fri, 04 Jul 2025 23:15:26 -0700 (PDT) Message-ID: <6868c2fe.170a0220.c9864.8525SMTPIN_ADDED_MISSING@mx.google.com> Received: from [172.21.0.7] (unknown [172.18.0.240]) by postal.iol.unh.edu (Postfix) with ESMTP id 1A6E96051830; Sat, 5 Jul 2025 02:15:26 -0400 (EDT) Subject: |SUCCESS| pw155010 [PATCH] net/bonding: avoid RSS reta update in flo From: dpdklab@iol.unh.edu To: Test Report Cc: dpdk-test-reports@iol.unh.edu In-Reply-To: <20250704135031.5306-1-madhuker.mythri@oracle.com> References: <20250704135031.5306-1-madhuker.mythri@oracle.com> Content-Type: text/plain X-BeenThere: test-report@dpdk.org X-Mailman-Version: 2.1.29 Precedence: list List-Id: automatic DPDK test reports List-Unsubscribe: , List-Archive: List-Post: List-Help: List-Subscribe: , Errors-To: test-report-bounces@dpdk.org Test-Label: iol-abi-testing Test-Status: SUCCESS http://dpdk.org/patch/155010 _Testing PASS_ Submitter: Madhuker Mythri Date: Friday, July 04 2025 13:50:31 DPDK git baseline: Repo:dpdk Branch: master CommitID:b18c543ec30729ccc7708a6e064a1f9db5d8c11f 155010 --> testing pass Upstream job id: Generic-DPDK-Compile-ABI#133160 Test environment and result as below: +-------------------------------+----------+ | Environment | abi_test | +===============================+==========+ | CentOS Stream 10 | PASS | +-------------------------------+----------+ | Debian GNU/Linux 12 | PASS | +-------------------------------+----------+ | Fedora Linux 40 | PASS | +-------------------------------+----------+ | openSUSE Leap 15.6 | PASS | +-------------------------------+----------+ | Fedora Linux 41 | PASS | +-------------------------------+----------+ | Red Hat Enterprise Linux 8.10 | PASS | +-------------------------------+----------+ | Red Hat Enterprise Linux 9.5 | PASS | +-------------------------------+----------+ | Ubuntu 24.04 | PASS | +-------------------------------+----------+ | CentOS Stream 9 | PASS | +-------------------------------+----------+ | Ubuntu 22.04 | PASS | +-------------------------------+----------+ CentOS Stream 10 Kernel: 5.15 Compiler: gcc gcc (GCC) 14.2.1 20250110 (Red Hat 14.2.1-8) Debian GNU/Linux 12 Kernel: 5.15 Compiler: gcc gcc (Debian 12.2.0-14+deb12u1) 12.2.0 Fedora Linux 40 Kernel: 5.15 Compiler: clang gcc (GCC) 14.2.1 20240912 (Red Hat 14.2.1-3) openSUSE Leap 15.6 Kernel: 5.15 Compiler: gcc gcc (SUSE Linux) 7.5.0 Fedora Linux 41 Kernel: 5.15 Compiler: gcc gcc (GCC) 14.3.1 20250523 (Red Hat 14.3.1-1) Red Hat Enterprise Linux 8.10 Kernel: 5.15 Compiler: gcc gcc (GCC) 8.5.0 20210514 (Red Hat 8.5.0-22) Red Hat Enterprise Linux 9.5 Kernel: 5.15 Compiler: gcc gcc (GCC) 11.5.0 20240719 (Red Hat 11.5.0-2) Ubuntu 24.04 Kernel: 5.15 Compiler: gcc gcc (Ubuntu 13.3.0-6ubuntu2~24.04) 13.3.0 CentOS Stream 9 Kernel: 5.15 Compiler: gcc gcc (GCC) 11.5.0 20240719 (Red Hat 11.5.0-7) Ubuntu 22.04 Kernel: 5.15 Compiler: gcc gcc (Ubuntu 11.4.0-1ubuntu1~22.04) 11.4.0 To view detailed results, visit: https://lab.dpdk.org/results/dashboard/patchsets/33593/ UNH-IOL DPDK Community Lab To manage your email subscriptions, visit: https://lab.dpdk.org/results/dashboard/preferences/subscriptions/