From mboxrd@z Thu Jan 1 00:00:00 1970 Return-Path: Received: from mails.dpdk.org (mails.dpdk.org [217.70.189.124]) by inbox.dpdk.org (Postfix) with ESMTP id DC5F846AF5 for ; Sat, 5 Jul 2025 08:15:44 +0200 (CEST) Received: from mails.dpdk.org (localhost [127.0.0.1]) by mails.dpdk.org (Postfix) with ESMTP id D7D5840287; Sat, 5 Jul 2025 08:15:44 +0200 (CEST) Received: from mail-pl1-f225.google.com (mail-pl1-f225.google.com [209.85.214.225]) by mails.dpdk.org (Postfix) with ESMTP id B5A8140287 for ; Sat, 5 Jul 2025 08:15:43 +0200 (CEST) Received: by mail-pl1-f225.google.com with SMTP id d9443c01a7336-234f17910d8so12684135ad.3 for ; Fri, 04 Jul 2025 23:15:43 -0700 (PDT) DKIM-Signature: v=1; a=rsa-sha256; c=relaxed/relaxed; d=iol.unh.edu; s=unh-iol; t=1751696143; x=1752300943; darn=dpdk.org; h=references:in-reply-to:cc:to:from:subject:message-id:date:from:to :cc:subject:date:message-id:reply-to; bh=KJS6e/xA/e0QwQSzRA1IL0n4ur58mrqdX/jEwrANQOs=; b=QA7w2V+4t1UXaB5udCRZ0xW1yzqhMQNXEVhlUQd5uQoTUgehdb9UM1/qlnz+QyUXcE EuGeN4TLktjWmtGuzAh/gZLbtl1fciYACj2gzMT0woqWS2EnpQWUlZ9JzbgGWBOyoVB5 leUd7nHOJKkAsCkVsOPKgLvggCELbr3nROfZc= X-Google-DKIM-Signature: v=1; a=rsa-sha256; c=relaxed/relaxed; d=1e100.net; s=20230601; t=1751696143; x=1752300943; h=references:in-reply-to:cc:to:from:subject:message-id:date :x-gm-message-state:from:to:cc:subject:date:message-id:reply-to; bh=KJS6e/xA/e0QwQSzRA1IL0n4ur58mrqdX/jEwrANQOs=; b=Gq6v/XGv8jyxnbVsWYE1062jvws3ydR+8P/sbGI673CwgeWFecGSE7leQMevFqfihN 38gkf4RUkmdZIKcfa1tIOaH1HIudI/RwHTkCxIoXoY7hdr+zk/lM3GSsoJT57z5hy2RW CFZemx0Wmkzvgp9pykgHeayqiWnrhU10997q26fTntm+Avn8MHcQsJunKDZMzmbcjNhj n9D9/+lsV/6Fdq9VoREb99jsos7Jiv22sNQYeTtjrv5ooQ6yqiEX4iGf8cOCeBjgvfHl uiydxcLL3+vZjhhVkzOs2xgofP/V8an2LW4YKNyDtT6dGJMC+OY2hQ/P1cIAC3/jq9OS /q+Q== X-Gm-Message-State: AOJu0YzStsZBTV2Oq9XWNNmGnydd42bR5B1Dez89CLMKtoQffL4VtRqy pSzuRTyunDg/lWqOt7etLwQeATAidPUMVuuMT2nkoLbyaTdimLmcfmxLFercYXP3GgqHEVjXNqh jjh7g616iuH3U3Ar5mUnhw78Sl8k9Mefr1tAZ2kQManDG X-Gm-Gg: ASbGnctw403R1sywq/nAx2lmJT6rvFBE7cByPEwkAN/W1U9hDHOHSPyqttYnl+yyOlp WHR5VOVIVFt8UR2+IFPpd/e/h9EOr1PbcoWCBLKVFvpsJ5N0zndaLINIaUtUJ9q1ZhhMS2hfRzz QFLHWiLXOD2X7BXnvQiIPAdMPVLNFUb1g6ZV0nf3YhFSzqhAVTeSi6/cKOCHAcpb+aaP5JlfiGt TXUiSMIL+bigTMcUYA954L8FxfGbf5k/Roki7DNGwoYQlJ8c2fwftQyOeHc6mOC7yhLHhLaLMlV NvpG771njqBdppOhjZOBEO9fecHkERX8+rAqQXIn6ec4+8hSlr5DHYzby0gOBz+tuMmpEQ== X-Google-Smtp-Source: AGHT+IGebd45RzRtaBAZKON8txe/mwG/CKSM/HcmAXXOggeVXBfLrqFEgVFoaPSN62b8elhudIadVLbQSE6z X-Received: by 2002:a17:903:1b06:b0:237:cc75:77a4 with SMTP id d9443c01a7336-23c90fe7d87mr17551055ad.42.1751696142963; Fri, 04 Jul 2025 23:15:42 -0700 (PDT) Received: from postal.iol.unh.edu (postal.iol.unh.edu. [132.177.123.84]) by smtp-relay.gmail.com with ESMTPS id d9443c01a7336-23c8450bb92sm1670925ad.106.2025.07.04.23.15.42 (version=TLS1_2 cipher=ECDHE-ECDSA-AES128-GCM-SHA256 bits=128/128); Fri, 04 Jul 2025 23:15:42 -0700 (PDT) X-Relaying-Domain: iol.unh.edu Date: Fri, 04 Jul 2025 23:15:42 -0700 (PDT) Message-ID: <6868c30e.170a0220.122ab5.92c3SMTPIN_ADDED_MISSING@mx.google.com> Received: from [172.21.0.5] (unknown [172.18.0.240]) by postal.iol.unh.edu (Postfix) with ESMTP id 2EB536051830; Sat, 5 Jul 2025 02:15:42 -0400 (EDT) Subject: |SUCCESS| pw155010 [PATCH] net/bonding: avoid RSS reta update in flo From: dpdklab@iol.unh.edu To: Test Report Cc: dpdk-test-reports@iol.unh.edu In-Reply-To: <20250704135031.5306-1-madhuker.mythri@oracle.com> References: <20250704135031.5306-1-madhuker.mythri@oracle.com> Content-Type: text/plain X-BeenThere: test-report@dpdk.org X-Mailman-Version: 2.1.29 Precedence: list List-Id: automatic DPDK test reports List-Unsubscribe: , List-Archive: List-Post: List-Help: List-Subscribe: , Errors-To: test-report-bounces@dpdk.org Test-Label: iol-abi-testing Test-Status: SUCCESS http://dpdk.org/patch/155010 _Testing PASS_ Submitter: Madhuker Mythri Date: Friday, July 04 2025 13:50:31 DPDK git baseline: Repo:dpdk Branch: master CommitID:b18c543ec30729ccc7708a6e064a1f9db5d8c11f 155010 --> testing pass Upstream job id: Generic-DPDK-Compile-ABI#133165 Test environment and result as below: +-------------------------------+----------+ | Environment | abi_test | +===============================+==========+ | CentOS Stream 10 | PASS | +-------------------------------+----------+ | Debian GNU/Linux 12 | PASS | +-------------------------------+----------+ | Fedora Linux 40 | PASS | +-------------------------------+----------+ | openSUSE Leap 15.6 | PASS | +-------------------------------+----------+ | Fedora Linux 41 | PASS | +-------------------------------+----------+ | Red Hat Enterprise Linux 8.10 | PASS | +-------------------------------+----------+ | Red Hat Enterprise Linux 9.5 | PASS | +-------------------------------+----------+ | Ubuntu 24.04 | PASS | +-------------------------------+----------+ | CentOS Stream 9 | PASS | +-------------------------------+----------+ | Ubuntu 22.04 | PASS | +-------------------------------+----------+ CentOS Stream 10 Kernel: 5.15 Compiler: gcc gcc (GCC) 14.2.1 20250110 (Red Hat 14.2.1-8) Debian GNU/Linux 12 Kernel: 5.15 Compiler: gcc gcc (Debian 12.2.0-14+deb12u1) 12.2.0 Fedora Linux 40 Kernel: 5.15 Compiler: clang gcc (GCC) 14.2.1 20240912 (Red Hat 14.2.1-3) openSUSE Leap 15.6 Kernel: 5.15 Compiler: gcc gcc (SUSE Linux) 7.5.0 Fedora Linux 41 Kernel: 5.15 Compiler: gcc gcc (GCC) 14.3.1 20250523 (Red Hat 14.3.1-1) Red Hat Enterprise Linux 8.10 Kernel: 5.15 Compiler: gcc gcc (GCC) 8.5.0 20210514 (Red Hat 8.5.0-22) Red Hat Enterprise Linux 9.5 Kernel: 5.15 Compiler: gcc gcc (GCC) 11.5.0 20240719 (Red Hat 11.5.0-2) Ubuntu 24.04 Kernel: 5.15 Compiler: gcc gcc (Ubuntu 13.3.0-6ubuntu2~24.04) 13.3.0 CentOS Stream 9 Kernel: 5.15 Compiler: gcc gcc (GCC) 11.5.0 20240719 (Red Hat 11.5.0-7) Ubuntu 22.04 Kernel: 5.15 Compiler: gcc gcc (Ubuntu 11.4.0-1ubuntu1~22.04) 11.4.0 To view detailed results, visit: https://lab.dpdk.org/results/dashboard/patchsets/33593/ UNH-IOL DPDK Community Lab To manage your email subscriptions, visit: https://lab.dpdk.org/results/dashboard/preferences/subscriptions/