From mboxrd@z Thu Jan 1 00:00:00 1970 Return-Path: Received: from mails.dpdk.org (mails.dpdk.org [217.70.189.124]) by inbox.dpdk.org (Postfix) with ESMTP id 5E0BA46AF5 for ; Sat, 5 Jul 2025 09:47:08 +0200 (CEST) Received: from mails.dpdk.org (localhost [127.0.0.1]) by mails.dpdk.org (Postfix) with ESMTP id 42BEC40287; Sat, 5 Jul 2025 09:47:08 +0200 (CEST) Received: from mail-yb1-f228.google.com (mail-yb1-f228.google.com [209.85.219.228]) by mails.dpdk.org (Postfix) with ESMTP id 8A2DE40287 for ; Sat, 5 Jul 2025 09:47:06 +0200 (CEST) Received: by mail-yb1-f228.google.com with SMTP id 3f1490d57ef6-e82278e3889so1102744276.2 for ; Sat, 05 Jul 2025 00:47:06 -0700 (PDT) DKIM-Signature: v=1; a=rsa-sha256; c=relaxed/relaxed; d=iol.unh.edu; s=unh-iol; t=1751701626; x=1752306426; darn=dpdk.org; h=references:in-reply-to:cc:to:from:subject:message-id:date:from:to :cc:subject:date:message-id:reply-to; bh=JRjGooATf2lsxM/yMG6A7yJvYoaJn+QkmAXphfq4KYQ=; b=E9Qs8hfy8wJqdQw7N8biZ2LbEkP/Z4LvOWXkdnuYKVi/MLc4Q9bCHnIx0+rFYOiTzv XS5ju24XalX+PT+ClGf1G2IYZ8ZWE67755b8Httb+8aayXFyNwgOLf7vz8h1kylo4/eV /PQcrV/LAJVC6oqC5xkDXrzyC1+n/lJ0DdFKs= X-Google-DKIM-Signature: v=1; a=rsa-sha256; c=relaxed/relaxed; d=1e100.net; s=20230601; t=1751701626; x=1752306426; h=references:in-reply-to:cc:to:from:subject:message-id:date :x-gm-message-state:from:to:cc:subject:date:message-id:reply-to; bh=JRjGooATf2lsxM/yMG6A7yJvYoaJn+QkmAXphfq4KYQ=; b=NSbulS0k7uwMrvHRVUPXllKO16DMmpt+gixvaYGbWhKtXt54DE70mfCEnuKquX5pji CPjuuKd3tUME7hS0Y5lwmoKXT9vUjzG5uRIj8oiTNyowQlEnEUYXd5JEOvHBeFeF0bgS 40NvrssHykfApvXEwk81RbvxR87X8sQNw6oE+09Je2/tGXsxF0PM8kOYNrz8fqw6sBw8 WF8Bn/5a8RumQ6JsO2ZmIFEarJ7m4hyCRZffS4f/fLS9v+8EOto31YSBPek7+//TCuOr k8zOxBgBlZ3u17snBymoP082NSuBYkObv3hwvTD1+Nk6b5n3+aRvjW8kB0sBye/FI9+3 4cXA== X-Gm-Message-State: AOJu0YzyoPwYzGTXgfhLze7Zsw2eNoCMk/KMjDF3+KbKk7iUIJB0jVor 9kBanRH+bEwTIHgXbedbXtJI63J7T/NwsrT4Wg/8XWjp28dZGnKn0SwXhS3ONGXjlA3n6oBvzYD cCyNVPV/8+yZBLfmnG+Q6zZEJYQVunUS+xWk1yByg8O0L X-Gm-Gg: ASbGncvyHKEeMNLMfnpJ/6+C87SEukT4tP+clo//OPowEAakzD7vpfjMyeJ5iCGDmr0 mVREjSu/21CGXC9s4FGeNKh5dxrNUAnZzhiGurLhTdzE/ZFO6pouNf/fUjrmGumR6vvyqijlpf3 1mJOTjKh/39JCF4cjYW/JXDFadkcHK9B8gRt6cCj69uwfSCvex0HiXoG3S3d1r6I4FMmNuclHhk pGBkfZNYCMX3lKGRoSoFafMuPDZiTS+1ckgEpfERM6ug7wdMZ7N75h8KfidqhHVArCbkIHzn5Dg ZeD+yBdb/XE+e7E3Y+Rw/+SOG2XLI1WociLG8doKEoGvroP91cgDYf5ttElrgGQeEPs6mQ== X-Google-Smtp-Source: AGHT+IE8eK5qF2r+rXxl4WunWkm5qS7jiPhdOoL0kKnNsj+ZWAZXIx0lLZMJB+MRTdAQfUUBtL9w3YVWjsjH X-Received: by 2002:a05:690c:6c0b:b0:70d:ffaf:48e1 with SMTP id 00721157ae682-7176ca2995bmr15526797b3.9.1751701625885; Sat, 05 Jul 2025 00:47:05 -0700 (PDT) Received: from postal.iol.unh.edu (postal.iol.unh.edu. [132.177.123.84]) by smtp-relay.gmail.com with ESMTPS id 00721157ae682-7176af2c0casm321187b3.70.2025.07.05.00.47.05 (version=TLS1_2 cipher=ECDHE-ECDSA-AES128-GCM-SHA256 bits=128/128); Sat, 05 Jul 2025 00:47:05 -0700 (PDT) X-Relaying-Domain: iol.unh.edu Date: Sat, 05 Jul 2025 00:47:05 -0700 (PDT) Message-ID: <6868d879.050a0220.3ff94.1bffSMTPIN_ADDED_MISSING@mx.google.com> Received: from [172.21.0.5] (unknown [172.18.0.240]) by postal.iol.unh.edu (Postfix) with ESMTP id 9DE066051830; Sat, 5 Jul 2025 03:47:05 -0400 (EDT) Subject: |SUCCESS| pw155008 [PATCH] mbuf: add new ptype for slow protocols From: dpdklab@iol.unh.edu To: Test Report Cc: dpdk-test-reports@iol.unh.edu In-Reply-To: <20250704084502.237979-1-kuka@cesnet.cz> References: <20250704084502.237979-1-kuka@cesnet.cz> Content-Type: text/plain X-BeenThere: test-report@dpdk.org X-Mailman-Version: 2.1.29 Precedence: list List-Id: automatic DPDK test reports List-Unsubscribe: , List-Archive: List-Post: List-Help: List-Subscribe: , Errors-To: test-report-bounces@dpdk.org Test-Label: iol-abi-testing Test-Status: SUCCESS http://dpdk.org/patch/155008 _Testing PASS_ Submitter: Mario Kuka Date: Friday, July 04 2025 08:45:01 DPDK git baseline: Repo:dpdk Branch: master CommitID:70c2297528e7c7789af452f78de1932e9a20c8a2 155008 --> testing pass Upstream job id: Generic-DPDK-Compile-ABI#133172 Test environment and result as below: +-------------------------------+----------+ | Environment | abi_test | +===============================+==========+ | CentOS Stream 9 | PASS | +-------------------------------+----------+ | CentOS Stream 10 | PASS | +-------------------------------+----------+ | Debian GNU/Linux 12 | PASS | +-------------------------------+----------+ | Fedora Linux 40 | PASS | +-------------------------------+----------+ | openSUSE Leap 15.6 | PASS | +-------------------------------+----------+ | Red Hat Enterprise Linux 8.10 | PASS | +-------------------------------+----------+ | Red Hat Enterprise Linux 9.5 | PASS | +-------------------------------+----------+ | Ubuntu 22.04 | PASS | +-------------------------------+----------+ | Fedora Linux 41 | PASS | +-------------------------------+----------+ CentOS Stream 9 Kernel: 5.15 Compiler: gcc gcc (GCC) 11.5.0 20240719 (Red Hat 11.5.0-7) CentOS Stream 10 Kernel: 5.15 Compiler: gcc gcc (GCC) 14.2.1 20250110 (Red Hat 14.2.1-8) Debian GNU/Linux 12 Kernel: 5.15 Compiler: gcc gcc (Debian 12.2.0-14+deb12u1) 12.2.0 Fedora Linux 40 Kernel: 5.15 Compiler: clang gcc (GCC) 14.2.1 20240912 (Red Hat 14.2.1-3) openSUSE Leap 15.6 Kernel: 5.15 Compiler: gcc gcc (SUSE Linux) 7.5.0 Red Hat Enterprise Linux 8.10 Kernel: 5.15 Compiler: gcc gcc (GCC) 8.5.0 20210514 (Red Hat 8.5.0-22) Red Hat Enterprise Linux 9.5 Kernel: 5.15 Compiler: gcc gcc (GCC) 11.5.0 20240719 (Red Hat 11.5.0-2) Ubuntu 22.04 Kernel: 5.15 Compiler: gcc gcc (Ubuntu 11.4.0-1ubuntu1~22.04) 11.4.0 Fedora Linux 41 Kernel: 5.15 Compiler: clang gcc (GCC) 14.3.1 20250523 (Red Hat 14.3.1-1) To view detailed results, visit: https://lab.dpdk.org/results/dashboard/patchsets/33591/ UNH-IOL DPDK Community Lab To manage your email subscriptions, visit: https://lab.dpdk.org/results/dashboard/preferences/subscriptions/