From mboxrd@z Thu Jan 1 00:00:00 1970 Return-Path: Received: from mails.dpdk.org (mails.dpdk.org [217.70.189.124]) by inbox.dpdk.org (Postfix) with ESMTP id E03CB46AFD for ; Sat, 5 Jul 2025 11:22:34 +0200 (CEST) Received: from mails.dpdk.org (localhost [127.0.0.1]) by mails.dpdk.org (Postfix) with ESMTP id B878340279; Sat, 5 Jul 2025 11:22:34 +0200 (CEST) Received: from mail-pl1-f228.google.com (mail-pl1-f228.google.com [209.85.214.228]) by mails.dpdk.org (Postfix) with ESMTP id 1529940279 for ; Sat, 5 Jul 2025 11:22:33 +0200 (CEST) Received: by mail-pl1-f228.google.com with SMTP id d9443c01a7336-2349f096605so22416025ad.3 for ; Sat, 05 Jul 2025 02:22:32 -0700 (PDT) DKIM-Signature: v=1; a=rsa-sha256; c=relaxed/relaxed; d=iol.unh.edu; s=unh-iol; t=1751707352; x=1752312152; darn=dpdk.org; h=references:in-reply-to:cc:to:from:subject:message-id:date:from:to :cc:subject:date:message-id:reply-to; bh=do556qgvUTHWehl9nBCbe8Mzy4gLxzmkoVu3h2pRWJU=; b=cKN79hJ9KZlG32cHBUce553j88MQXrg3Iztyb/YBkFTcaUOIzXZHy3kF7bxHgf9iwB n2XVF3OvqyQr5+xo4KRzEtaPTckF1QjsxUgStM84IfMbTZBwJFdMSIGVzX7VawzpkYzA DK9w0i2qcYhKZuFPUXZL+ieXvurfggsqtzl7Q= X-Google-DKIM-Signature: v=1; a=rsa-sha256; c=relaxed/relaxed; d=1e100.net; s=20230601; t=1751707352; x=1752312152; h=references:in-reply-to:cc:to:from:subject:message-id:date :x-gm-message-state:from:to:cc:subject:date:message-id:reply-to; bh=do556qgvUTHWehl9nBCbe8Mzy4gLxzmkoVu3h2pRWJU=; b=uFGj8CepbjEazTfi7p6E3+Ga79nD78TyA+PvEAPIMdcouzT5zm3KGhhR0Vdi9F2q5e gYU/U1dpJ6Sx7xE4r1vkG7UGWjen3oEopPH+TZIUXXAW8mx5HjM5Rj8bRaT0RWjBoR1m khVS+fRouoNZjKTL9eGiO/9IQlISfafDiNkUHwZP0VSkKSCbODPpOlhMSfjJe3M2kbkk +ZFV4JsZ41kHVrsajDiCl1Ty5alePhTxazjPQnGnn94kB2ZiZl5UhYhW0LNsqtuS6wQJ 6SP/cbILegbo/L3uH6ld5VJ7xhsPnQehxOgP21AHxPIy4x5yK58T/hFiLMUrsHQNqToQ bwYQ== X-Gm-Message-State: AOJu0Ywk41M1MvWjH2NyKHR/O5lhBJ6mptROZw0YbHhXtX4D7A9gJlRg ImhiXDPf1XW+NVs5zFqXtbcG6lysFCRALB5aPdVaXF8XQc/+eTfeeMPwE8yj/bAb9bTp+K3aI+z QTqcPHJFnJWDqNVx8wUu0wvRV9tqcDBEuVoDvzPwIyDmP X-Gm-Gg: ASbGncvgYqAZDbRrWb8WvXRLTzoCk6wxzThsFHDz+XxI4BYBTTPGSORXL6S4UYS/s5t VD9vmkny/W4JeEzaDN3ap1mZl62RvA5fnw6fvu/mLKH6QQH5LDp/fYNem1DT72sefMUuvMgMGBG ltZxN39CheLbiTotfVETjuyoBrpQcOTq00HA+3JJRBxo1by8IH9LrjdhnHhPYlD9N4wojR6GKhR EhZ9ZYWK9i/hpHO5/OoLDgMvkr4dsX18Wq3b3B/u4OMappw+1yaVDpNeRjHfrAWtIHEAGOmrkfh 5O8FUw3KQJmziHB6GCoJBatpUk95Pf4IoBSP90gG+78MYgGvi9beVSo31/YJkATRkaDwDA== X-Google-Smtp-Source: AGHT+IHE/q6OAw0EvHfMRME2cbfUAhlq/QypWFYSx1JtaxywtgtnC/79jEvO0pke4jALKW68yJtxPV1Va25Y X-Received: by 2002:a17:903:1b64:b0:234:8ec1:4aea with SMTP id d9443c01a7336-23c875f04e0mr87849815ad.52.1751707352091; Sat, 05 Jul 2025 02:22:32 -0700 (PDT) Received: from postal.iol.unh.edu (postal.iol.unh.edu. [132.177.123.84]) by smtp-relay.gmail.com with ESMTPS id d9443c01a7336-23c845199f3sm1836815ad.124.2025.07.05.02.22.31 (version=TLS1_2 cipher=ECDHE-ECDSA-AES128-GCM-SHA256 bits=128/128); Sat, 05 Jul 2025 02:22:32 -0700 (PDT) X-Relaying-Domain: iol.unh.edu Date: Sat, 05 Jul 2025 02:22:32 -0700 (PDT) Message-ID: <6868eed8.170a0220.321b77.9a35SMTPIN_ADDED_MISSING@mx.google.com> Received: from [172.21.0.5] (unknown [172.18.0.240]) by postal.iol.unh.edu (Postfix) with ESMTP id 4E0626051830; Sat, 5 Jul 2025 05:22:31 -0400 (EDT) Subject: |SUCCESS| pw154995 [PATCH] [v2] ci: check C++ headers with clang From: dpdklab@iol.unh.edu To: Test Report Cc: dpdk-test-reports@iol.unh.edu In-Reply-To: <20250703082010.2002295-1-david.marchand@redhat.com> References: <20250703082010.2002295-1-david.marchand@redhat.com> Content-Type: text/plain X-BeenThere: test-report@dpdk.org X-Mailman-Version: 2.1.29 Precedence: list List-Id: automatic DPDK test reports List-Unsubscribe: , List-Archive: List-Post: List-Help: List-Subscribe: , Errors-To: test-report-bounces@dpdk.org Test-Label: iol-abi-testing Test-Status: SUCCESS http://dpdk.org/patch/154995 _Testing PASS_ Submitter: David Marchand Date: Thursday, July 03 2025 08:20:10 DPDK git baseline: Repo:dpdk Branch: master CommitID:70c2297528e7c7789af452f78de1932e9a20c8a2 154995 --> testing pass Upstream job id: Generic-DPDK-Compile-ABI#133189 Test environment and result as below: +-------------------------------+----------+ | Environment | abi_test | +===============================+==========+ | CentOS Stream 9 | PASS | +-------------------------------+----------+ | Debian GNU/Linux 12 | PASS | +-------------------------------+----------+ | CentOS Stream 10 | PASS | +-------------------------------+----------+ | Fedora Linux 40 | PASS | +-------------------------------+----------+ | Fedora Linux 41 | PASS | +-------------------------------+----------+ | openSUSE Leap 15.6 | PASS | +-------------------------------+----------+ | Red Hat Enterprise Linux 8.10 | PASS | +-------------------------------+----------+ | Ubuntu 22.04 | PASS | +-------------------------------+----------+ | Red Hat Enterprise Linux 9.5 | PASS | +-------------------------------+----------+ | Ubuntu 24.04 | PASS | +-------------------------------+----------+ CentOS Stream 9 Kernel: 5.15 Compiler: gcc gcc (GCC) 11.5.0 20240719 (Red Hat 11.5.0-7) Debian GNU/Linux 12 Kernel: 5.15 Compiler: gcc gcc (Debian 12.2.0-14+deb12u1) 12.2.0 CentOS Stream 10 Kernel: 5.15 Compiler: gcc gcc (GCC) 14.2.1 20250110 (Red Hat 14.2.1-8) Fedora Linux 40 Kernel: 5.15 Compiler: clang gcc (GCC) 14.2.1 20240912 (Red Hat 14.2.1-3) Fedora Linux 41 Kernel: 5.15 Compiler: clang gcc (GCC) 14.3.1 20250523 (Red Hat 14.3.1-1) openSUSE Leap 15.6 Kernel: 5.15 Compiler: gcc gcc (SUSE Linux) 7.5.0 Red Hat Enterprise Linux 8.10 Kernel: 5.15 Compiler: gcc gcc (GCC) 8.5.0 20210514 (Red Hat 8.5.0-22) Ubuntu 22.04 Kernel: 5.15 Compiler: gcc gcc (Ubuntu 11.4.0-1ubuntu1~22.04) 11.4.0 Red Hat Enterprise Linux 9.5 Kernel: 5.15 Compiler: gcc gcc (GCC) 11.5.0 20240719 (Red Hat 11.5.0-2) Ubuntu 24.04 Kernel: 5.15 Compiler: gcc gcc (Ubuntu 13.3.0-6ubuntu2~24.04) 13.3.0 To view detailed results, visit: https://lab.dpdk.org/results/dashboard/patchsets/33578/ UNH-IOL DPDK Community Lab To manage your email subscriptions, visit: https://lab.dpdk.org/results/dashboard/preferences/subscriptions/