From mboxrd@z Thu Jan 1 00:00:00 1970 Return-Path: Received: from mails.dpdk.org (mails.dpdk.org [217.70.189.124]) by inbox.dpdk.org (Postfix) with ESMTP id 9888046B05 for ; Sat, 5 Jul 2025 12:01:13 +0200 (CEST) Received: from mails.dpdk.org (localhost [127.0.0.1]) by mails.dpdk.org (Postfix) with ESMTP id 83ACF40279; Sat, 5 Jul 2025 12:01:13 +0200 (CEST) Received: from mail-io1-f99.google.com (mail-io1-f99.google.com [209.85.166.99]) by mails.dpdk.org (Postfix) with ESMTP id B618940279 for ; Sat, 5 Jul 2025 12:01:12 +0200 (CEST) Received: by mail-io1-f99.google.com with SMTP id ca18e2360f4ac-87694a21617so37747239f.1 for ; Sat, 05 Jul 2025 03:01:12 -0700 (PDT) DKIM-Signature: v=1; a=rsa-sha256; c=relaxed/relaxed; d=iol.unh.edu; s=unh-iol; t=1751709672; x=1752314472; darn=dpdk.org; h=references:in-reply-to:cc:to:from:subject:message-id:date:from:to :cc:subject:date:message-id:reply-to; bh=1lLnZqzGX5rJh8YdiKr3f9cqMy+PDKYFxv2OZ+tCGhw=; b=J8UNNwgF7NvbBSiQqqarMH2WPtOpp4i9+XoV1Yid60EO24fFiJIUHSlQWjvmyPL9EC RZGgl2AaD1KxvRzw3wtCEJ9yFQ+MqHNIRPBRXxpoD8thuzZ0SVLIqQEE+t9LCu3Ro/sE CD8i5kSQQZzrNNCGO6iwbgYUjIhzit1xdAbnU= X-Google-DKIM-Signature: v=1; a=rsa-sha256; c=relaxed/relaxed; d=1e100.net; s=20230601; t=1751709672; x=1752314472; h=references:in-reply-to:cc:to:from:subject:message-id:date :x-gm-message-state:from:to:cc:subject:date:message-id:reply-to; bh=1lLnZqzGX5rJh8YdiKr3f9cqMy+PDKYFxv2OZ+tCGhw=; b=KsTEENQEnRRWZf+0QYKMHohnjpeWEtQVd4JilHAyg1JiVA23e5ZRPaD39weW6W8c5l /2L9JH9ZiaZrKcm8DqE1VdOmMoPQhdqfFxPDp4SRQyUlv5yzrjJ8HTffNmHb06aL+BPN Jy6CxeNDblja2Tqsj3sAfc081ljV1D4ROh1orooKNMHbnnPMX17ZwHXOSfpDl4C0uFmS TCHFbNfWg8msYoNhmiYePNbilCmVUsRJefcBUA3O4rrn/g20yrRbTwGLucq0/dAOCjsB GalIC5AaDU11V8ew4fOcu9kul+66Esjv5y6sbsbp76W50oFH9D3CLCm1FSzfbmeXcN9m fQ+A== X-Gm-Message-State: AOJu0YzOEohn+tyFQ1ksEM7goyfzE3lNhQxjbubCjHRDtWx0XhVGv7+W TOvLt81X+s4mosjwA118k1k/0/LNz1xW7u4sp9+n0IGJgkLsGy4XwagrPZEGk5bSUutObCHPJER DLvIFi/6Gtxf168FAbUtym1mhcxUUktk3feIMkk4hORs4SJYIY4wCa0ckcQYz X-Gm-Gg: ASbGncu9NfsQ+3OfEQeYjjGG1+/ORJ1FYuCbzR4TbKC2JagL7t2rQn5cFb4rNb3B+C8 6EYfrSA55wDvloLWhe9NcFY0DT+Yc0U8jZAvjbhxIbKh4D3nr2owLTvlrWi73Mj/luW02cQjsRh CTykBBNj64dGyjDEj4lOQnqsnmwZjbe133YfPuhJ3gVch3y5nm47LW9jKkm97eb3gzhQswoDAhN FRyZYRQ/rMhq/XRktJ8YSYkpwMk382JTzENt3mlsDCAqdm0FLPJOyJ1jrn80KbSoN2bkJVruam+ JpTPL2VlWSeCWTkouzDMRrsl8Gwx8XzPqvlxL5O93RyWZb8= X-Google-Smtp-Source: AGHT+IHg/rjZX9dZckJcuiJo9MrL/rCxTcyv/DTd2i4xKuYlwqzIlJorLhMgGZyeLOe5bYQVCmV1yWguTIpZ X-Received: by 2002:a05:6602:6a8a:b0:876:6d7:8aa9 with SMTP id ca18e2360f4ac-876e1584233mr603186439f.2.1751709671942; Sat, 05 Jul 2025 03:01:11 -0700 (PDT) Received: from postal.iol.unh.edu (postal.iol.unh.edu. [2606:4100:3880:1234::84]) by smtp-relay.gmail.com with ESMTPS id ca18e2360f4ac-876e0849cefsm14313339f.22.2025.07.05.03.01.11 (version=TLS1_2 cipher=ECDHE-ECDSA-AES128-GCM-SHA256 bits=128/128); Sat, 05 Jul 2025 03:01:11 -0700 (PDT) X-Relaying-Domain: iol.unh.edu Date: Sat, 05 Jul 2025 03:01:11 -0700 (PDT) Message-ID: <6868f7e7.050a0220.27bb6c.76d2SMTPIN_ADDED_MISSING@mx.google.com> Received: from [172.21.0.5] (unknown [172.18.0.240]) by postal.iol.unh.edu (Postfix) with ESMTP id 71D9A6051830; Sat, 5 Jul 2025 06:01:11 -0400 (EDT) Subject: |SUCCESS| pw155008 [PATCH] mbuf: add new ptype for slow protocols From: dpdklab@iol.unh.edu To: Test Report Cc: dpdk-test-reports@iol.unh.edu In-Reply-To: <20250704084502.237979-1-kuka@cesnet.cz> References: <20250704084502.237979-1-kuka@cesnet.cz> Content-Type: text/plain X-BeenThere: test-report@dpdk.org X-Mailman-Version: 2.1.29 Precedence: list List-Id: automatic DPDK test reports List-Unsubscribe: , List-Archive: List-Post: List-Help: List-Subscribe: , Errors-To: test-report-bounces@dpdk.org Test-Label: iol-unit-arm64-testing Test-Status: SUCCESS http://dpdk.org/patch/155008 _Testing PASS_ Submitter: Mario Kuka Date: Friday, July 04 2025 08:45:01 DPDK git baseline: Repo:dpdk Branch: master CommitID:70c2297528e7c7789af452f78de1932e9a20c8a2 155008 --> testing pass Upstream job id: Generic-Unit-Test-DPDK#352847 Test environment and result as below: +------------------------------+------------------------------+--------------+---------------------------+----------------+ | Environment | cryptodev_sw_snow3g_autotest | lpm_autotest | cryptodev_sw_zuc_autotest | dpdk_unit_test | +==============================+==============================+==============+===========================+================+ | Debian 12 (arm) | PASS | SKIPPED | PASS | SKIPPED | +------------------------------+------------------------------+--------------+---------------------------+----------------+ | Ubuntu 20.04 | SKIPPED | PASS | SKIPPED | PASS | +------------------------------+------------------------------+--------------+---------------------------+----------------+ | CentOS Stream 10 | SKIPPED | SKIPPED | SKIPPED | PASS | +------------------------------+------------------------------+--------------+---------------------------+----------------+ | CentOS Stream 9 | SKIPPED | SKIPPED | SKIPPED | PASS | +------------------------------+------------------------------+--------------+---------------------------+----------------+ | Debian GNU/Linux 12 | SKIPPED | SKIPPED | SKIPPED | PASS | +------------------------------+------------------------------+--------------+---------------------------+----------------+ | Fedora Linux 40 | SKIPPED | SKIPPED | SKIPPED | PASS | +------------------------------+------------------------------+--------------+---------------------------+----------------+ | Fedora Linux 41 | SKIPPED | SKIPPED | SKIPPED | PASS | +------------------------------+------------------------------+--------------+---------------------------+----------------+ | Ubuntu 22.04 | SKIPPED | SKIPPED | SKIPPED | PASS | +------------------------------+------------------------------+--------------+---------------------------+----------------+ | Ubuntu 24.04 | SKIPPED | SKIPPED | SKIPPED | PASS | +------------------------------+------------------------------+--------------+---------------------------+----------------+ | Red Hat Enterprise Linux 9.5 | SKIPPED | SKIPPED | SKIPPED | PASS | +------------------------------+------------------------------+--------------+---------------------------+----------------+ Debian 12 (arm) Kernel: Depends on container host Compiler: gcc (Debian 12.2.0-14) 12.2.0 Ubuntu 20.04 Kernel: 5.4 Compiler: gcc gcc (Ubuntu 9.4.0-1ubuntu1~20.04.2) 9.4.0 CentOS Stream 10 Kernel: 5.4 Compiler: gcc gcc (GCC) 14.2.1 20250110 (Red Hat 14.2.1-8) CentOS Stream 9 Kernel: 5.4 Compiler: gcc gcc (GCC) 11.5.0 20240719 (Red Hat 11.5.0-7) Debian GNU/Linux 12 Kernel: 5.4 Compiler: gcc gcc (Debian 12.2.0-14+deb12u1) 12.2.0 Fedora Linux 40 Kernel: 5.4 Compiler: gcc gcc (GCC) 14.2.1 20240912 (Red Hat 14.2.1-3) Fedora Linux 41 Kernel: 5.4 Compiler: clang gcc (GCC) 14.3.1 20250523 (Red Hat 14.3.1-1) Ubuntu 22.04 Kernel: 5.4 Compiler: gcc gcc (Ubuntu 11.4.0-1ubuntu1~22.04) 11.4.0 Ubuntu 24.04 Kernel: 5.4 Compiler: gcc gcc (Ubuntu 13.3.0-6ubuntu2~24.04) 13.3.0 Red Hat Enterprise Linux 9.5 Kernel: 5.4 Compiler: gcc gcc (GCC) 11.5.0 20240719 (Red Hat 11.5.0-2) To view detailed results, visit: https://lab.dpdk.org/results/dashboard/patchsets/33591/ UNH-IOL DPDK Community Lab To manage your email subscriptions, visit: https://lab.dpdk.org/results/dashboard/preferences/subscriptions/