From mboxrd@z Thu Jan 1 00:00:00 1970 Return-Path: Received: from mails.dpdk.org (mails.dpdk.org [217.70.189.124]) by inbox.dpdk.org (Postfix) with ESMTP id 4440346B05 for ; Sat, 5 Jul 2025 12:09:09 +0200 (CEST) Received: from mails.dpdk.org (localhost [127.0.0.1]) by mails.dpdk.org (Postfix) with ESMTP id 32B6B40279; Sat, 5 Jul 2025 12:09:09 +0200 (CEST) Received: from mail-ot1-f100.google.com (mail-ot1-f100.google.com [209.85.210.100]) by mails.dpdk.org (Postfix) with ESMTP id D153840279 for ; Sat, 5 Jul 2025 12:09:07 +0200 (CEST) Received: by mail-ot1-f100.google.com with SMTP id 46e09a7af769-73b0ea4e138so1445709a34.3 for ; Sat, 05 Jul 2025 03:09:07 -0700 (PDT) DKIM-Signature: v=1; a=rsa-sha256; c=relaxed/relaxed; d=iol.unh.edu; s=unh-iol; t=1751710147; x=1752314947; darn=dpdk.org; h=references:in-reply-to:cc:to:from:subject:message-id:date:from:to :cc:subject:date:message-id:reply-to; bh=Ti8JJ+EMiDOMkwbOMfrhjnt0SoKthvic8RjRzMFrw7M=; b=IbExB7IhCIOGmdRqqKeapO/oA+foBFR/uYDandXEK+GmOYAyUm+cN2kqJPzPKq/bqS vZHgKBGchXnowYT3SgtqVjuJZSwzfYqRLi/d3i6R7hTm3sVieM2w+vmlfrqjFHweuSzC rnJxBYvkprYVzJVBM14XQdbZsEELZg8LQIVU8= X-Google-DKIM-Signature: v=1; a=rsa-sha256; c=relaxed/relaxed; d=1e100.net; s=20230601; t=1751710147; x=1752314947; h=references:in-reply-to:cc:to:from:subject:message-id:date :x-gm-message-state:from:to:cc:subject:date:message-id:reply-to; bh=Ti8JJ+EMiDOMkwbOMfrhjnt0SoKthvic8RjRzMFrw7M=; b=XHE2MBZmjixK9e29XKIk/MJLT1cMYM8+ze8f3o0xUTm/dMQXhxpzkSLY1F7kWeIcJi yPs8jXI2rfLlFdsExEVTWt3c2zXxud9DVedDXaDBoENn733S4EawgDMPCTqOTsCSFzvs kRyrjPr4n1JeaNiyXxxqDJUyg8Pg3raW3lqnGtJpOD559T6z/lJKs/1ZTO9GCAp8zZwi bN1grepB3wvKZ2Ku7TIaVzezr9Cn4udK0guQY3wYn+d6YH7hk8ricTfeX6Yyv/6D6OtM 9+Q62n9rLG9Z+zsfyVuDC26ZrlhHisZbqE8GSFeKb7shD3fxGjWyH+qIKVusxWWf189F pFqw== X-Gm-Message-State: AOJu0YwoqSR70EhZ0BhuZkDpnMPgzUVAHc7P5vaBidA+WHIN1oUAm6NZ n9Ne6VwXLSAN/X9HT6PsXjzJzlRZdeyDekVvLoznpvffI4mwVidZC1+v9u/xvIVuoZIzeQLfFuo 3MgSv4HSTFWF2qRFWPyUGSnEo1KQqGQKK8HdajbC9flbn X-Gm-Gg: ASbGncvPIQNuLrzn42l/cRvcDozxR8aPdg82GPPD+nveeAHjJ+vf3fbRfVNZW1sWMNL Lq2Cmp+ECNlk38N4IikOlC4985UnIk5aCo7E7RpkEV87Qjh3yz7SnAY5h7Z7tli2R55+WAHRUvP 97jSlpVoGpzTL9I1LbSgO6xDrM0DZqoCbLcD1NiQ5w9EnngNz1DFGSgsT5cweJXBUOWg6tLgvjH 25TJwLIDiRI6hD+0R5cly2d184amvMp1lAvL7ei5CirZIgfxk63QpgBAFeBhtPIS2UOb1QA4N21 IqP5AFcCmP3RrsW8PByUfHepurIHaEnQJbhvVQxKUXJ8Lk5psZj/btf2wvnlS5ZiK1K3nw== X-Google-Smtp-Source: AGHT+IG3kagYSc0F05jYhFcXPoY1133tpKsF5Y40ryMjygAy4g4AQj2e2o5YlmdlMoJT/66aSqc46iK0IOoE X-Received: by 2002:a05:6808:3027:b0:3fa:f848:8dfa with SMTP id 5614622812f47-40d073e03abmr3958280b6e.30.1751710147044; Sat, 05 Jul 2025 03:09:07 -0700 (PDT) Received: from postal.iol.unh.edu (postal.iol.unh.edu. [132.177.123.84]) by smtp-relay.gmail.com with ESMTPS id 006d021491bc7-6138e595640sm95606eaf.20.2025.07.05.03.09.06 (version=TLS1_2 cipher=ECDHE-ECDSA-AES128-GCM-SHA256 bits=128/128); Sat, 05 Jul 2025 03:09:07 -0700 (PDT) X-Relaying-Domain: iol.unh.edu Date: Sat, 05 Jul 2025 03:09:07 -0700 (PDT) Message-ID: <6868f9c3.050a0220.3d555b.4f7dSMTPIN_ADDED_MISSING@mx.google.com> Received: from [172.21.0.6] (unknown [172.18.0.240]) by postal.iol.unh.edu (Postfix) with ESMTP id 884186051830; Sat, 5 Jul 2025 06:09:06 -0400 (EDT) Subject: |SUCCESS| pw154995 [PATCH] [v2] ci: check C++ headers with clang From: dpdklab@iol.unh.edu To: Test Report Cc: dpdk-test-reports@iol.unh.edu In-Reply-To: <20250703082010.2002295-1-david.marchand@redhat.com> References: <20250703082010.2002295-1-david.marchand@redhat.com> Content-Type: text/plain X-BeenThere: test-report@dpdk.org X-Mailman-Version: 2.1.29 Precedence: list List-Id: automatic DPDK test reports List-Unsubscribe: , List-Archive: List-Post: List-Help: List-Subscribe: , Errors-To: test-report-bounces@dpdk.org Test-Label: iol-unit-arm64-testing Test-Status: SUCCESS http://dpdk.org/patch/154995 _Testing PASS_ Submitter: David Marchand Date: Thursday, July 03 2025 08:20:10 DPDK git baseline: Repo:dpdk Branch: master CommitID:70c2297528e7c7789af452f78de1932e9a20c8a2 154995 --> testing pass Upstream job id: Generic-Unit-Test-DPDK#352870 Test environment and result as below: +------------------------------+----------------+ | Environment | dpdk_unit_test | +==============================+================+ | CentOS Stream 10 | PASS | +------------------------------+----------------+ | Fedora Linux 40 | PASS | +------------------------------+----------------+ | CentOS Stream 9 | PASS | +------------------------------+----------------+ | Debian GNU/Linux 12 | PASS | +------------------------------+----------------+ | Fedora Linux 41 | PASS | +------------------------------+----------------+ | Red Hat Enterprise Linux 9.5 | PASS | +------------------------------+----------------+ | Ubuntu 20.04 | PASS | +------------------------------+----------------+ | Ubuntu 22.04 | PASS | +------------------------------+----------------+ | Ubuntu 24.04 | PASS | +------------------------------+----------------+ CentOS Stream 10 Kernel: 5.4 Compiler: gcc gcc (GCC) 14.2.1 20250110 (Red Hat 14.2.1-8) Fedora Linux 40 Kernel: 5.4 Compiler: gcc gcc (GCC) 14.2.1 20240912 (Red Hat 14.2.1-3) CentOS Stream 9 Kernel: 5.4 Compiler: gcc gcc (GCC) 11.5.0 20240719 (Red Hat 11.5.0-7) Debian GNU/Linux 12 Kernel: 5.4 Compiler: gcc gcc (Debian 12.2.0-14+deb12u1) 12.2.0 Fedora Linux 41 Kernel: 5.4 Compiler: clang gcc (GCC) 14.3.1 20250523 (Red Hat 14.3.1-1) Red Hat Enterprise Linux 9.5 Kernel: 5.4 Compiler: gcc gcc (GCC) 11.5.0 20240719 (Red Hat 11.5.0-2) Ubuntu 20.04 Kernel: 5.4 Compiler: gcc gcc (Ubuntu 9.4.0-1ubuntu1~20.04.2) 9.4.0 Ubuntu 22.04 Kernel: 5.4 Compiler: gcc gcc (Ubuntu 11.4.0-1ubuntu1~22.04) 11.4.0 Ubuntu 24.04 Kernel: 5.4 Compiler: gcc gcc (Ubuntu 13.3.0-6ubuntu2~24.04) 13.3.0 To view detailed results, visit: https://lab.dpdk.org/results/dashboard/patchsets/33578/ UNH-IOL DPDK Community Lab To manage your email subscriptions, visit: https://lab.dpdk.org/results/dashboard/preferences/subscriptions/