From mboxrd@z Thu Jan 1 00:00:00 1970 Return-Path: Received: from mails.dpdk.org (mails.dpdk.org [217.70.189.124]) by inbox.dpdk.org (Postfix) with ESMTP id 476C246B06 for ; Sat, 5 Jul 2025 14:45:21 +0200 (CEST) Received: from mails.dpdk.org (localhost [127.0.0.1]) by mails.dpdk.org (Postfix) with ESMTP id 23E2940279; Sat, 5 Jul 2025 14:45:21 +0200 (CEST) Received: from mail-il1-f225.google.com (mail-il1-f225.google.com [209.85.166.225]) by mails.dpdk.org (Postfix) with ESMTP id 73D9B40279 for ; Sat, 5 Jul 2025 14:45:20 +0200 (CEST) Received: by mail-il1-f225.google.com with SMTP id e9e14a558f8ab-3da73df6b6bso6633225ab.3 for ; Sat, 05 Jul 2025 05:45:20 -0700 (PDT) DKIM-Signature: v=1; a=rsa-sha256; c=relaxed/relaxed; d=iol.unh.edu; s=unh-iol; t=1751719519; x=1752324319; darn=dpdk.org; h=references:in-reply-to:cc:to:from:subject:message-id:date:from:to :cc:subject:date:message-id:reply-to; bh=LuPgRUHbt5RloKOuJbLXjYLFcxSscvqbKjd5hmRVu4s=; b=iYHlZLX4IG0fLg0/8ecYZlFOBg8dpgDPkQpRRNVSdgpmYTQ18aHEWBBHQNFdsc8RX9 c4t/a42beKdQcvb4uqsTU6zXVrq5y3/jpJrIkHz+gh8JEza3uOakj1DlAuYlMhgIjiIn ev/a1h3e18cP8lTDfk8pBNVM6DkBO2E+eCJfc= X-Google-DKIM-Signature: v=1; a=rsa-sha256; c=relaxed/relaxed; d=1e100.net; s=20230601; t=1751719519; x=1752324319; h=references:in-reply-to:cc:to:from:subject:message-id:date :x-gm-message-state:from:to:cc:subject:date:message-id:reply-to; bh=LuPgRUHbt5RloKOuJbLXjYLFcxSscvqbKjd5hmRVu4s=; b=stqzRZCk/4/z5dxlb5BSDvLakcN46e5o54bSYBLq83c9m5KBsp/HIlQNQQcHi+XbZO Fy8ChxmjO3kWEbii2Gm4+IPPbWLQjrxXHrxXCLY3j7OcQdnZRwCFHYWVTEbOrJDJznn2 6T0XEqr9yCY6Zr1BRGmanzNKqfAYrTEhkcC7TJbi0sd+5y3oWC9mA45qBMXy1cVpH/0m WK/b4prk30lETwAkGNCVXKYthlJlZkNwVvGwOYtiZkO7dLuUvaSzr3/0Gzt8xSiiYSas QC09eLEavtOnZ99U3PbL2NRnD/3mkj8hl59+Umu2rDnFJw074XpWYP906EJgrLtPohqb pWFA== X-Gm-Message-State: AOJu0YwNxSoY1kJL37kOFa2O96G3bfV+mk6CUt91CBuiCiDRXns7VGb7 ax/wADYCp8tu8N5ZA0yTsPE6t+9agtjWJlWjt9hIPTeIHMRNLDZV5MfDo9STyH7p2vucpcSOVyO S1jOh40Xo8Qsn8L1Ug+KkCjn6Cg/msy2C69E/N2sx4O/8 X-Gm-Gg: ASbGnctI9hIuSvNEmHSh1COe0Z9sTlFxC2G6RQkxo7hnlD4apdlBbKB0wk7pk7Gah03 dxSgkMTAz9vf0ot2rdfQo3aKSrPzUYRhtl0IZ6dOT5UO+NyGO0wBnib+K5TBGZm/9VVk7uwImMq Ln6PXboqB/NuHRlR+yRGSA54DOte84tIdD91IfOvnWkz2tmXtyWPGPr7MXHHeK57MZfB5DxU8RX 9pq6ltE1zipRoeCdHHfSc6f/oSIDqNCNCGshE0lXB/Helkjh8uCjDWBDnfjc/L3yooxZqLjSXvO 3lYB/D6jY+wKK9C0kXn/QzEJfvS8lbZVwyZvAQLmolwktu3gEbIXOv0TcLO3Zkq5c3YiuA== X-Google-Smtp-Source: AGHT+IGb2r8fungjSnKikctIm6di6WoRKNipYaemHkshl3pfldjJWe+MGhX6Sdot6Fu3ioaFwAQaRENqhshT X-Received: by 2002:a05:6e02:1a4c:b0:3dd:bb7e:f1af with SMTP id e9e14a558f8ab-3e1371f6b2emr50646575ab.20.1751719519620; Sat, 05 Jul 2025 05:45:19 -0700 (PDT) Received: from postal.iol.unh.edu (postal.iol.unh.edu. [132.177.123.84]) by smtp-relay.gmail.com with ESMTPS id e9e14a558f8ab-3e0fe2211e1sm2527865ab.53.2025.07.05.05.45.19 (version=TLS1_2 cipher=ECDHE-ECDSA-AES128-GCM-SHA256 bits=128/128); Sat, 05 Jul 2025 05:45:19 -0700 (PDT) X-Relaying-Domain: iol.unh.edu Date: Sat, 05 Jul 2025 05:45:19 -0700 (PDT) Message-ID: <68691e5f.050a0220.138641.d897SMTPIN_ADDED_MISSING@mx.google.com> Received: from [172.21.0.15] (unknown [172.18.0.240]) by postal.iol.unh.edu (Postfix) with ESMTP id D1E496051830; Sat, 5 Jul 2025 08:45:18 -0400 (EDT) Subject: |WARNING| pw154995 [PATCH] [v2] ci: check C++ headers with clang From: dpdklab@iol.unh.edu To: Test Report Cc: dpdk-test-reports@iol.unh.edu In-Reply-To: <20250703082010.2002295-1-david.marchand@redhat.com> References: <20250703082010.2002295-1-david.marchand@redhat.com> Content-Type: text/plain X-BeenThere: test-report@dpdk.org X-Mailman-Version: 2.1.29 Precedence: list List-Id: automatic DPDK test reports List-Unsubscribe: , List-Archive: List-Post: List-Help: List-Subscribe: , Errors-To: test-report-bounces@dpdk.org Test-Label: iol-compile-amd64-testing Test-Status: WARNING http://dpdk.org/patch/154995 _Testing issues_ Submitter: David Marchand Date: Thursday, July 03 2025 08:20:10 DPDK git baseline: Repo:dpdk Branch: master CommitID:70c2297528e7c7789af452f78de1932e9a20c8a2 154995 --> testing issues Upstream job id: Generic-DPDK-Compile-Meson#405734 Test environment and result as below: +-------------------------------+-------------------+--------------------+-------------------------+----------------------+-------------------+------------------+ | Environment | dpdk_msvc_compile | dpdk_meson_compile | dpdk_llvm_clang_compile | dpdk_mingw64_compile | dpdk_compile_spdk | dpdk_compile_ovs | +===============================+===================+====================+=========================+======================+===================+==================+ | Windows Server 2022 | PASS | SKIPPED | PASS | PASS | SKIPPED | SKIPPED | +-------------------------------+-------------------+--------------------+-------------------------+----------------------+-------------------+------------------+ | Ubuntu 20.04 | SKIPPED | PASS | SKIPPED | SKIPPED | SKIPPED | SKIPPED | +-------------------------------+-------------------+--------------------+-------------------------+----------------------+-------------------+------------------+ | CentOS Stream 9 | SKIPPED | PASS | SKIPPED | SKIPPED | PASS | SKIPPED | +-------------------------------+-------------------+--------------------+-------------------------+----------------------+-------------------+------------------+ | CentOS Stream 10 | SKIPPED | PASS | SKIPPED | SKIPPED | SKIPPED | SKIPPED | +-------------------------------+-------------------+--------------------+-------------------------+----------------------+-------------------+------------------+ | Debian GNU/Linux 12 | SKIPPED | PASS | SKIPPED | SKIPPED | PASS | SKIPPED | +-------------------------------+-------------------+--------------------+-------------------------+----------------------+-------------------+------------------+ | Fedora Linux 40 | SKIPPED | PASS | SKIPPED | SKIPPED | PASS | SKIPPED | +-------------------------------+-------------------+--------------------+-------------------------+----------------------+-------------------+------------------+ | openSUSE Leap 15.6 | SKIPPED | PASS | SKIPPED | SKIPPED | SKIPPED | SKIPPED | +-------------------------------+-------------------+--------------------+-------------------------+----------------------+-------------------+------------------+ | Red Hat Enterprise Linux 8.10 | SKIPPED | PASS | SKIPPED | SKIPPED | SKIPPED | SKIPPED | +-------------------------------+-------------------+--------------------+-------------------------+----------------------+-------------------+------------------+ | Red Hat Enterprise Linux 9.5 | SKIPPED | PASS | SKIPPED | SKIPPED | SKIPPED | SKIPPED | +-------------------------------+-------------------+--------------------+-------------------------+----------------------+-------------------+------------------+ | Ubuntu 22.04 | SKIPPED | PASS | SKIPPED | SKIPPED | PASS | SKIPPED | +-------------------------------+-------------------+--------------------+-------------------------+----------------------+-------------------+------------------+ | Ubuntu 24.04 | SKIPPED | PASS | SKIPPED | SKIPPED | PASS | PASS | +-------------------------------+-------------------+--------------------+-------------------------+----------------------+-------------------+------------------+ | Alpine Linux 3.22.0 | SKIPPED | PASS | SKIPPED | SKIPPED | SKIPPED | SKIPPED | +-------------------------------+-------------------+--------------------+-------------------------+----------------------+-------------------+------------------+ | Fedora Linux 41 | SKIPPED | PEND | SKIPPED | SKIPPED | PEND | PEND | +-------------------------------+-------------------+--------------------+-------------------------+----------------------+-------------------+------------------+ Windows Server 2022 Kernel: 10.0.20348.2031 Compiler: clang 15.0.7, gcc 14.1.0 (MinGW), and MSVC VS 19.39.33521 Ubuntu 20.04 Kernel: 4.19 Compiler: gcc gcc (Ubuntu 9.4.0-1ubuntu1~20.04.2) 9.4.0 CentOS Stream 9 Kernel: 5.15 Compiler: gcc gcc (GCC) 11.5.0 20240719 (Red Hat 11.5.0-7) CentOS Stream 10 Kernel: 5.15 Compiler: gcc gcc (GCC) 14.2.1 20250110 (Red Hat 14.2.1-8) Debian GNU/Linux 12 Kernel: 5.15 Compiler: gcc gcc (Debian 12.2.0-14+deb12u1) 12.2.0 Fedora Linux 40 Kernel: 5.15 Compiler: clang gcc (GCC) 14.2.1 20240912 (Red Hat 14.2.1-3) openSUSE Leap 15.6 Kernel: 5.15 Compiler: gcc gcc (SUSE Linux) 7.5.0 Red Hat Enterprise Linux 8.10 Kernel: 5.15 Compiler: gcc gcc (GCC) 8.5.0 20210514 (Red Hat 8.5.0-22) Red Hat Enterprise Linux 9.5 Kernel: 5.15 Compiler: gcc gcc (GCC) 11.5.0 20240719 (Red Hat 11.5.0-2) Ubuntu 22.04 Kernel: 5.15 Compiler: gcc gcc (Ubuntu 11.4.0-1ubuntu1~22.04) 11.4.0 Ubuntu 24.04 Kernel: 5.15 Compiler: gcc gcc (Ubuntu 13.3.0-6ubuntu2~24.04) 13.3.0 Alpine Linux 3.22.0 Kernel: 5.15 Compiler: gcc gcc (Alpine 14.2.0) 14.2.0 Fedora Linux 41 Kernel: 5.15 Compiler: gcc gcc (GCC) 14.3.1 20250523 (Red Hat 14.3.1-1) To view detailed results, visit: https://lab.dpdk.org/results/dashboard/patchsets/33578/ UNH-IOL DPDK Community Lab To manage your email subscriptions, visit: https://lab.dpdk.org/results/dashboard/preferences/subscriptions/