From mboxrd@z Thu Jan 1 00:00:00 1970 Return-Path: Received: from mails.dpdk.org (mails.dpdk.org [217.70.189.124]) by inbox.dpdk.org (Postfix) with ESMTP id 5448846B06 for ; Sat, 5 Jul 2025 14:46:53 +0200 (CEST) Received: from mails.dpdk.org (localhost [127.0.0.1]) by mails.dpdk.org (Postfix) with ESMTP id 4D5A640279; Sat, 5 Jul 2025 14:46:53 +0200 (CEST) Received: from mail-pf1-f227.google.com (mail-pf1-f227.google.com [209.85.210.227]) by mails.dpdk.org (Postfix) with ESMTP id DF12540279 for ; Sat, 5 Jul 2025 14:46:51 +0200 (CEST) Received: by mail-pf1-f227.google.com with SMTP id d2e1a72fcca58-748e63d4b05so884949b3a.2 for ; Sat, 05 Jul 2025 05:46:51 -0700 (PDT) DKIM-Signature: v=1; a=rsa-sha256; c=relaxed/relaxed; d=iol.unh.edu; s=unh-iol; t=1751719611; x=1752324411; darn=dpdk.org; h=references:in-reply-to:cc:to:from:subject:message-id:date:from:to :cc:subject:date:message-id:reply-to; bh=u2eWmzrvk8usOUl/cqc7E2IBI6XA/7zmaquW89zebAQ=; b=EG81pDPrAQbgVGkKC4/qva/rCs0D2U5q2Yj5mao3CfTEEGzKpBgftrG+yUnrQncsWh 3fOh8zTaCD8Y3GjDOrffsqd6l41fYHVdVtpjt5lWO8dmMl3JD3ypJG9ghr8fmkNxAlRl 2IyPppjynrkXdWiqhVvi0D7B6PbiPzRqiPeG4= X-Google-DKIM-Signature: v=1; a=rsa-sha256; c=relaxed/relaxed; d=1e100.net; s=20230601; t=1751719611; x=1752324411; h=references:in-reply-to:cc:to:from:subject:message-id:date :x-gm-message-state:from:to:cc:subject:date:message-id:reply-to; bh=u2eWmzrvk8usOUl/cqc7E2IBI6XA/7zmaquW89zebAQ=; b=B+uRc9l7y3ynmwKDk5D8bqJK1hEw6mdTQXgNL5ue57YGzYoTjX8ktwi5ol4hBuaaxd df1c5R0DnlKBTEpGgA9QemRofPdKACu0fhbEMeWKMGJNNIT9pyrhL7rDBLk9Yn+f9Aej GdpDagTcpHnfPpBT20WL06u4OYwSEafq4b2au2NN1UHJFB/5J76k+909BY23okn+gC0V TXRlZSMRsUInVcqvS8e2qg480SX3SpFbicDPkfm2K3up1UHyHqi5UA3H/yzjRbcRMiy0 VVsG/hOc4D/j+yH72WobFsPpP75wzUxr8MlGbUFctgYtYsqlYAdryoI46JdzdZM+SNwN L5HQ== X-Gm-Message-State: AOJu0Ywjof+npTtCJRjswWvnaF5FrJ98/Ozq8oatg4fvV9gs3lpLS3ul 97ZxtzstTHpLIcqw2XnM3hJMZfwuSFc6HWtw/sBUsN1JEtUgihnOZqWO+0FbHAHrCKOZH2S+qxi UCYVrNWzw8VahSrOZS8NX28bhhZdUsmbKwWhNjL9lctL9wSAwc3uaUZUagMok X-Gm-Gg: ASbGncvBePtHESpPN/jfa5HFo31FB+2VOrrvoS+8mW2u6uhFY8IALpwPn1M5Bb26qd2 MHvPV/APn3xGIXxyucJbp00Hp43fqOqX9S3Jc8mbLx/S4xR5XbVoXcS0DKlHlzYKZQyf+jKvDrh Z7+p5xVpeopu16btfjn8I2mB0AzQgiACLwuLEcCX4etFREJEaVojNEBBkGUAnzQNXAJbPgCAuYg 4K2kjlzxPCciIEtnGUaut4QGoO04FrNBBvLqSDa3LODkGHab92c+zEtvb0jF3C215GsKd5dt1Ke 4TgBNL1SuDF8Uu5zqdP28nK7r/4/T1RHqSBTsrtd/fmAxLA= X-Google-Smtp-Source: AGHT+IH3Z+LDEIVptyvldhqdEfqDPea4KIv2tAQfNFbOZyhSpUcF6uD3mlHEdp83i/lSJQ+TdWl2DVui+HE8 X-Received: by 2002:a05:6a21:689:b0:220:b03a:64ff with SMTP id adf61e73a8af0-2260c04d3b2mr6696214637.42.1751719610746; Sat, 05 Jul 2025 05:46:50 -0700 (PDT) Received: from postal.iol.unh.edu (postal.iol.unh.edu. [2606:4100:3880:1234::84]) by smtp-relay.gmail.com with ESMTPS id 41be03b00d2f7-b38ee51e3f4sm223050a12.27.2025.07.05.05.46.50 (version=TLS1_2 cipher=ECDHE-ECDSA-AES128-GCM-SHA256 bits=128/128); Sat, 05 Jul 2025 05:46:50 -0700 (PDT) X-Relaying-Domain: iol.unh.edu Date: Sat, 05 Jul 2025 05:46:50 -0700 (PDT) Message-ID: <68691eba.630a0220.2be77e.c269SMTPIN_ADDED_MISSING@mx.google.com> Received: from [172.21.0.17] (unknown [172.18.0.240]) by postal.iol.unh.edu (Postfix) with ESMTP id EE5926051830; Sat, 5 Jul 2025 08:46:49 -0400 (EDT) Subject: |WARNING| pw154995 [PATCH] [v2] ci: check C++ headers with clang From: dpdklab@iol.unh.edu To: Test Report Cc: dpdk-test-reports@iol.unh.edu In-Reply-To: <20250703082010.2002295-1-david.marchand@redhat.com> References: <20250703082010.2002295-1-david.marchand@redhat.com> Content-Type: text/plain X-BeenThere: test-report@dpdk.org X-Mailman-Version: 2.1.29 Precedence: list List-Id: automatic DPDK test reports List-Unsubscribe: , List-Archive: List-Post: List-Help: List-Subscribe: , Errors-To: test-report-bounces@dpdk.org Test-Label: iol-compile-amd64-testing Test-Status: WARNING http://dpdk.org/patch/154995 _Testing issues_ Submitter: David Marchand Date: Thursday, July 03 2025 08:20:10 DPDK git baseline: Repo:dpdk Branch: master CommitID:70c2297528e7c7789af452f78de1932e9a20c8a2 154995 --> testing issues Upstream job id: Generic-DPDK-Compile-Meson#405742 Test environment and result as below: +-------------------------------+-------------------+--------------------+-------------------------+----------------------+-------------------+------------------+ | Environment | dpdk_msvc_compile | dpdk_meson_compile | dpdk_llvm_clang_compile | dpdk_mingw64_compile | dpdk_compile_spdk | dpdk_compile_ovs | +===============================+===================+====================+=========================+======================+===================+==================+ | Windows Server 2022 | PASS | SKIPPED | PASS | PASS | SKIPPED | SKIPPED | +-------------------------------+-------------------+--------------------+-------------------------+----------------------+-------------------+------------------+ | Ubuntu 20.04 | SKIPPED | PASS | SKIPPED | SKIPPED | SKIPPED | SKIPPED | +-------------------------------+-------------------+--------------------+-------------------------+----------------------+-------------------+------------------+ | CentOS Stream 9 | SKIPPED | PASS | SKIPPED | SKIPPED | PASS | SKIPPED | +-------------------------------+-------------------+--------------------+-------------------------+----------------------+-------------------+------------------+ | CentOS Stream 10 | SKIPPED | PASS | SKIPPED | SKIPPED | SKIPPED | SKIPPED | +-------------------------------+-------------------+--------------------+-------------------------+----------------------+-------------------+------------------+ | Debian GNU/Linux 12 | SKIPPED | PASS | SKIPPED | SKIPPED | PASS | SKIPPED | +-------------------------------+-------------------+--------------------+-------------------------+----------------------+-------------------+------------------+ | Fedora Linux 40 | SKIPPED | PASS | SKIPPED | SKIPPED | PASS | SKIPPED | +-------------------------------+-------------------+--------------------+-------------------------+----------------------+-------------------+------------------+ | openSUSE Leap 15.6 | SKIPPED | PASS | SKIPPED | SKIPPED | SKIPPED | SKIPPED | +-------------------------------+-------------------+--------------------+-------------------------+----------------------+-------------------+------------------+ | Red Hat Enterprise Linux 8.10 | SKIPPED | PASS | SKIPPED | SKIPPED | SKIPPED | SKIPPED | +-------------------------------+-------------------+--------------------+-------------------------+----------------------+-------------------+------------------+ | Red Hat Enterprise Linux 9.5 | SKIPPED | PASS | SKIPPED | SKIPPED | SKIPPED | SKIPPED | +-------------------------------+-------------------+--------------------+-------------------------+----------------------+-------------------+------------------+ | Ubuntu 22.04 | SKIPPED | PASS | SKIPPED | SKIPPED | PASS | SKIPPED | +-------------------------------+-------------------+--------------------+-------------------------+----------------------+-------------------+------------------+ | Ubuntu 24.04 | SKIPPED | PASS | SKIPPED | SKIPPED | PASS | PASS | +-------------------------------+-------------------+--------------------+-------------------------+----------------------+-------------------+------------------+ | Alpine Linux 3.22.0 | SKIPPED | PASS | SKIPPED | SKIPPED | SKIPPED | SKIPPED | +-------------------------------+-------------------+--------------------+-------------------------+----------------------+-------------------+------------------+ | Fedora Linux 41 | SKIPPED | PEND | SKIPPED | SKIPPED | PEND | PEND | +-------------------------------+-------------------+--------------------+-------------------------+----------------------+-------------------+------------------+ Windows Server 2022 Kernel: 10.0.20348.2031 Compiler: clang 15.0.7, gcc 14.1.0 (MinGW), and MSVC VS 19.39.33521 Ubuntu 20.04 Kernel: 4.19 Compiler: gcc gcc (Ubuntu 9.4.0-1ubuntu1~20.04.2) 9.4.0 CentOS Stream 9 Kernel: 5.15 Compiler: gcc gcc (GCC) 11.5.0 20240719 (Red Hat 11.5.0-7) CentOS Stream 10 Kernel: 5.15 Compiler: gcc gcc (GCC) 14.2.1 20250110 (Red Hat 14.2.1-8) Debian GNU/Linux 12 Kernel: 5.15 Compiler: gcc gcc (Debian 12.2.0-14+deb12u1) 12.2.0 Fedora Linux 40 Kernel: 5.15 Compiler: clang gcc (GCC) 14.2.1 20240912 (Red Hat 14.2.1-3) openSUSE Leap 15.6 Kernel: 5.15 Compiler: gcc gcc (SUSE Linux) 7.5.0 Red Hat Enterprise Linux 8.10 Kernel: 5.15 Compiler: gcc gcc (GCC) 8.5.0 20210514 (Red Hat 8.5.0-22) Red Hat Enterprise Linux 9.5 Kernel: 5.15 Compiler: gcc gcc (GCC) 11.5.0 20240719 (Red Hat 11.5.0-2) Ubuntu 22.04 Kernel: 5.15 Compiler: gcc gcc (Ubuntu 11.4.0-1ubuntu1~22.04) 11.4.0 Ubuntu 24.04 Kernel: 5.15 Compiler: gcc gcc (Ubuntu 13.3.0-6ubuntu2~24.04) 13.3.0 Alpine Linux 3.22.0 Kernel: 5.15 Compiler: gcc gcc (Alpine 14.2.0) 14.2.0 Fedora Linux 41 Kernel: 5.15 Compiler: gcc gcc (GCC) 14.3.1 20250523 (Red Hat 14.3.1-1) To view detailed results, visit: https://lab.dpdk.org/results/dashboard/patchsets/33578/ UNH-IOL DPDK Community Lab To manage your email subscriptions, visit: https://lab.dpdk.org/results/dashboard/preferences/subscriptions/