From mboxrd@z Thu Jan 1 00:00:00 1970 Return-Path: Received: from mails.dpdk.org (mails.dpdk.org [217.70.189.124]) by inbox.dpdk.org (Postfix) with ESMTP id BAF0A46B06 for ; Sat, 5 Jul 2025 14:50:05 +0200 (CEST) Received: from mails.dpdk.org (localhost [127.0.0.1]) by mails.dpdk.org (Postfix) with ESMTP id 9DB7040279; Sat, 5 Jul 2025 14:50:05 +0200 (CEST) Received: from mail-yw1-f225.google.com (mail-yw1-f225.google.com [209.85.128.225]) by mails.dpdk.org (Postfix) with ESMTP id 9A4E740279 for ; Sat, 5 Jul 2025 14:50:04 +0200 (CEST) Received: by mail-yw1-f225.google.com with SMTP id 00721157ae682-70f94fe1e40so30191507b3.1 for ; Sat, 05 Jul 2025 05:50:04 -0700 (PDT) DKIM-Signature: v=1; a=rsa-sha256; c=relaxed/relaxed; d=iol.unh.edu; s=unh-iol; t=1751719804; x=1752324604; darn=dpdk.org; h=references:in-reply-to:cc:to:from:subject:message-id:date:from:to :cc:subject:date:message-id:reply-to; bh=1+rnk88oZ+byUVlx3pMafdnJdp4XN5huAC8SUAd+jIs=; b=e5zWP9myyQRvyns2WdVtl1C3Zq0/M+qcu3jXXW/veL5Wd8nZUlyeZAqPGoGAwwsJjR oZdiFKQAdxKF8z32BBVctMKae3mq9qU11a/G+oWDhouyNbIbPNqROhZNDIEDG60Qfu38 pL4dzJc2hJjUJFgNqMmjytMjFlAwdZPOgN3+4= X-Google-DKIM-Signature: v=1; a=rsa-sha256; c=relaxed/relaxed; d=1e100.net; s=20230601; t=1751719804; x=1752324604; h=references:in-reply-to:cc:to:from:subject:message-id:date :x-gm-message-state:from:to:cc:subject:date:message-id:reply-to; bh=1+rnk88oZ+byUVlx3pMafdnJdp4XN5huAC8SUAd+jIs=; b=p+U6QRryo9bsW8UtzFKCp1hs5RevUia4/rQWDRa4eGuga86YXItgu6mSOzmO9gDxrR JyY91WmBs6zwQPvry9M9BhT6iucLu/sgOa0SLfUA7IOE7YYgfB8HybBMvLdiTL4YIzhs lVyzjR4WtFg6e+NLEMvP14CkTptS37n0yAhZAdXbojVpk/WQnS0O5F6bG4MBC2hq5rCW KEX89haoA2WJbdoFc8qcGq4PZlIYS1N3ZCfcFj6tZ36Te6Y1TEjI7IROTPhuo65eZp6d /icHaovXenDn92Wa2y+K677C4r6+DVRD/JlY6hdNRxH+O5cBiNvKTdvnmmGwQgIXl009 Y2bA== X-Gm-Message-State: AOJu0Yw/pix4pXmTfFJrQ+PlfNlreDKah8lyyvHxlKAg9B7HfLiGeMl1 FKCyKv98kL53ph6v2qwEmnLYpppItA4mDCefn14NIw7auUZAZ778G7L30gauYAySHEBW25CoUqW lHYCIVA9K3jJoXE11pqJ7p00D8sAHd/kRyc4TXkIne46TxbV9p/xJ0Wlitnqo X-Gm-Gg: ASbGnctSDMpUFAMEefle6Suphcc86cWS2O4AMp/hIJMa73VQCnwYWEvoq6FZVMt8dQA +y/C0LhXko3rTr/wRV7FtuAulQQ+bEylZzEJOr8Ql9e9xdUCJxyOqdMHqmv+3xptFu7JQ/WVOIG e4Be4f0tPigy5L4HXHSTpmCQQKT1VvKZMIZYT/sGxgZ2BvvejHHjmg/pG6RWHs1hqvqjsvJol8F 33StckrSSGyHPafO7ycuDVgEAvG+Pa7+AdKyhKYrT6jhSIpgI8jf4NNSedylf/XzJDBEca5fbOC VbQidt2uJbDWCEJnLQxZL3wTaEmQDDZpm9I+P0lrNcBbgK8= X-Google-Smtp-Source: AGHT+IFiMu29XWJnAymwhZzEeTqgWone/rzx9BOvmoMKSKcRHsthKqj1kOB3wqYylueUoQOCM3DJEYg+ksGJ X-Received: by 2002:a05:690c:4b93:b0:70d:fd6f:b151 with SMTP id 00721157ae682-71667eabeecmr87296657b3.11.1751719803936; Sat, 05 Jul 2025 05:50:03 -0700 (PDT) Received: from postal.iol.unh.edu (postal.iol.unh.edu. [2606:4100:3880:1234::84]) by smtp-relay.gmail.com with ESMTPS id 3f1490d57ef6-e899c40e66fsm203860276.19.2025.07.05.05.50.03 (version=TLS1_2 cipher=ECDHE-ECDSA-AES128-GCM-SHA256 bits=128/128); Sat, 05 Jul 2025 05:50:03 -0700 (PDT) X-Relaying-Domain: iol.unh.edu Date: Sat, 05 Jul 2025 05:50:03 -0700 (PDT) Message-ID: <68691f7b.250a0220.bd16c.a9eaSMTPIN_ADDED_MISSING@mx.google.com> Received: from [172.21.0.7] (unknown [172.18.0.240]) by postal.iol.unh.edu (Postfix) with ESMTP id 8CDCF6051830; Sat, 5 Jul 2025 08:50:03 -0400 (EDT) Subject: |WARNING| pw155008 [PATCH] mbuf: add new ptype for slow protocols From: dpdklab@iol.unh.edu To: Test Report Cc: dpdk-test-reports@iol.unh.edu In-Reply-To: <20250704084502.237979-1-kuka@cesnet.cz> References: <20250704084502.237979-1-kuka@cesnet.cz> Content-Type: text/plain X-BeenThere: test-report@dpdk.org X-Mailman-Version: 2.1.29 Precedence: list List-Id: automatic DPDK test reports List-Unsubscribe: , List-Archive: List-Post: List-Help: List-Subscribe: , Errors-To: test-report-bounces@dpdk.org Test-Label: iol-compile-amd64-testing Test-Status: WARNING http://dpdk.org/patch/155008 _Testing issues_ Submitter: Mario Kuka Date: Friday, July 04 2025 08:45:01 DPDK git baseline: Repo:dpdk Branch: master CommitID:70c2297528e7c7789af452f78de1932e9a20c8a2 155008 --> testing issues Upstream job id: Generic-DPDK-Compile-Meson#405699 Test environment and result as below: +-------------------------------+-------------------+--------------------+-------------------------+----------------------+-------------------+------------------+ | Environment | dpdk_msvc_compile | dpdk_meson_compile | dpdk_llvm_clang_compile | dpdk_mingw64_compile | dpdk_compile_spdk | dpdk_compile_ovs | +===============================+===================+====================+=========================+======================+===================+==================+ | Windows Server 2022 | PASS | SKIPPED | PASS | PASS | SKIPPED | SKIPPED | +-------------------------------+-------------------+--------------------+-------------------------+----------------------+-------------------+------------------+ | Ubuntu 20.04 | SKIPPED | PASS | SKIPPED | SKIPPED | SKIPPED | SKIPPED | +-------------------------------+-------------------+--------------------+-------------------------+----------------------+-------------------+------------------+ | CentOS Stream 9 | SKIPPED | PASS | SKIPPED | SKIPPED | PASS | SKIPPED | +-------------------------------+-------------------+--------------------+-------------------------+----------------------+-------------------+------------------+ | Debian GNU/Linux 12 | SKIPPED | PASS | SKIPPED | SKIPPED | PASS | SKIPPED | +-------------------------------+-------------------+--------------------+-------------------------+----------------------+-------------------+------------------+ | Fedora Linux 40 | SKIPPED | PASS | SKIPPED | SKIPPED | PASS | SKIPPED | +-------------------------------+-------------------+--------------------+-------------------------+----------------------+-------------------+------------------+ | Fedora Linux 41 | SKIPPED | PASS | SKIPPED | SKIPPED | PASS | PASS | +-------------------------------+-------------------+--------------------+-------------------------+----------------------+-------------------+------------------+ | openSUSE Leap 15.6 | SKIPPED | PASS | SKIPPED | SKIPPED | SKIPPED | SKIPPED | +-------------------------------+-------------------+--------------------+-------------------------+----------------------+-------------------+------------------+ | Red Hat Enterprise Linux 8.10 | SKIPPED | PASS | SKIPPED | SKIPPED | SKIPPED | SKIPPED | +-------------------------------+-------------------+--------------------+-------------------------+----------------------+-------------------+------------------+ | Red Hat Enterprise Linux 9.5 | SKIPPED | PASS | SKIPPED | SKIPPED | SKIPPED | SKIPPED | +-------------------------------+-------------------+--------------------+-------------------------+----------------------+-------------------+------------------+ | Ubuntu 22.04 | SKIPPED | PASS | SKIPPED | SKIPPED | PASS | SKIPPED | +-------------------------------+-------------------+--------------------+-------------------------+----------------------+-------------------+------------------+ | Ubuntu 24.04 | SKIPPED | PASS | SKIPPED | SKIPPED | PASS | PASS | +-------------------------------+-------------------+--------------------+-------------------------+----------------------+-------------------+------------------+ | Alpine Linux 3.22.0 | SKIPPED | PASS | SKIPPED | SKIPPED | SKIPPED | SKIPPED | +-------------------------------+-------------------+--------------------+-------------------------+----------------------+-------------------+------------------+ | CentOS Stream 10 | SKIPPED | PASS | SKIPPED | SKIPPED | SKIPPED | SKIPPED | +-------------------------------+-------------------+--------------------+-------------------------+----------------------+-------------------+------------------+ Windows Server 2022 Kernel: 10.0.20348.2031 Compiler: clang 15.0.7, gcc 14.1.0 (MinGW), and MSVC VS 19.39.33521 Ubuntu 20.04 Kernel: 4.19 Compiler: gcc gcc (Ubuntu 9.4.0-1ubuntu1~20.04.2) 9.4.0 CentOS Stream 9 Kernel: 5.15 Compiler: gcc gcc (GCC) 11.5.0 20240719 (Red Hat 11.5.0-7) Debian GNU/Linux 12 Kernel: 5.15 Compiler: gcc gcc (Debian 12.2.0-14+deb12u1) 12.2.0 Fedora Linux 40 Kernel: 5.15 Compiler: clang gcc (GCC) 14.2.1 20240912 (Red Hat 14.2.1-3) Fedora Linux 41 Kernel: 5.15 Compiler: clang gcc (GCC) 14.3.1 20250523 (Red Hat 14.3.1-1) openSUSE Leap 15.6 Kernel: 5.15 Compiler: gcc gcc (SUSE Linux) 7.5.0 Red Hat Enterprise Linux 8.10 Kernel: 5.15 Compiler: gcc gcc (GCC) 8.5.0 20210514 (Red Hat 8.5.0-22) Red Hat Enterprise Linux 9.5 Kernel: 5.15 Compiler: gcc gcc (GCC) 11.5.0 20240719 (Red Hat 11.5.0-2) Ubuntu 22.04 Kernel: 5.15 Compiler: gcc gcc (Ubuntu 11.4.0-1ubuntu1~22.04) 11.4.0 Ubuntu 24.04 Kernel: 5.15 Compiler: gcc gcc (Ubuntu 13.3.0-6ubuntu2~24.04) 13.3.0 Alpine Linux 3.22.0 Kernel: 5.15 Compiler: gcc gcc (Alpine 14.2.0) 14.2.0 CentOS Stream 10 Kernel: 5.15 Compiler: gcc gcc (GCC) 14.2.1 20250110 (Red Hat 14.2.1-8) To view detailed results, visit: https://lab.dpdk.org/results/dashboard/patchsets/33591/ UNH-IOL DPDK Community Lab To manage your email subscriptions, visit: https://lab.dpdk.org/results/dashboard/preferences/subscriptions/