From mboxrd@z Thu Jan 1 00:00:00 1970 Return-Path: Received: from mails.dpdk.org (mails.dpdk.org [217.70.189.124]) by inbox.dpdk.org (Postfix) with ESMTP id 51D0246AED for ; Sat, 5 Jul 2025 14:55:34 +0200 (CEST) Received: from mails.dpdk.org (localhost [127.0.0.1]) by mails.dpdk.org (Postfix) with ESMTP id 2969E40279; Sat, 5 Jul 2025 14:55:34 +0200 (CEST) Received: from mail-yb1-f228.google.com (mail-yb1-f228.google.com [209.85.219.228]) by mails.dpdk.org (Postfix) with ESMTP id 0EDD940279 for ; Sat, 5 Jul 2025 14:55:33 +0200 (CEST) Received: by mail-yb1-f228.google.com with SMTP id 3f1490d57ef6-e7569ccf04cso1373977276.0 for ; Sat, 05 Jul 2025 05:55:32 -0700 (PDT) DKIM-Signature: v=1; a=rsa-sha256; c=relaxed/relaxed; d=iol.unh.edu; s=unh-iol; t=1751720132; x=1752324932; darn=dpdk.org; h=references:in-reply-to:cc:to:from:subject:message-id:date:from:to :cc:subject:date:message-id:reply-to; bh=Vlx2xFeW97muk3V/SQhbTN9lNUnR0BiHHx/8odU6yCE=; b=VTgHyLwInBRaJr814/L0dLXVD1Ywk4Z2DNUx2LquWs3t/NVmtUULP1gz0IsMHbuXt2 zE0JALvzB7u+aVT1uwg6r3QcU5wC6vCXA9dxzVeRmWU4eZ1yZ/SoQ+n6NLN1yro1GMLB jokmQI6E+vKzf5CqZL61UhY1Wx4r9oNzf5EJc= X-Google-DKIM-Signature: v=1; a=rsa-sha256; c=relaxed/relaxed; d=1e100.net; s=20230601; t=1751720132; x=1752324932; h=references:in-reply-to:cc:to:from:subject:message-id:date :x-gm-message-state:from:to:cc:subject:date:message-id:reply-to; bh=Vlx2xFeW97muk3V/SQhbTN9lNUnR0BiHHx/8odU6yCE=; b=XcKexm/JZ/WsUaJn+KANesEJ/fp90WIk7+wFJPhjPNEwPuFO09g4x2yGo7zr4t/sSg Wuz5B3WjeV30rTWmi/oqCewH0pT96ZPe70+rLMZc9BXXWhKHU2kcA+vIngkEFs/ih/h9 9StI6S3OlVeRQquZo9jpOt+trVwlWj+yyDbaDpNfzbTmHGIy1sVcLrS27WEFKCQLUTKC QG4D3RUSq9dvgitzvbGJN3jw4u7lvj3eGzOwuR63IQdqDmHXbMZ7wMup1EWp/eXc4ns+ 1/1QCQEOmguStz+qYjNcZF1DmBD4BOQ6oZ/RRc0m8SU7vMa6M9X1zGF2E37zcFRlCl9o /1eA== X-Gm-Message-State: AOJu0YxGYrfEFQOTu9qc6E3crY+1QGf5G0L7b5kE8PLttC6qxba3gEBD q43DXMD9LvN4/GWsQsKcNM3S+q2OM6+slYmlsRinBZNx+hII18amnSjJFL0l6zprfC1RsyhyKNO OHVvuRCIXuOzgt1z50MI12o/UUr6dcngZV/ndn9ns7iwU X-Gm-Gg: ASbGncvPTDTsJRixt2M2evI1V9brpElWFQX5L5kFtlaN3BSzKS7gz+W9J4A/rXa0qCm D3qMU9FB1UMktYGMMVu0S/REnT9HztyummtLB59J5jRCXtskR0pOClgrYNNxxhn+qQV0UCUhd58 QSZpwwYjD4rQeBBT5m413rWVJLQxBny0LrySYqPO1j+xlaY193jLRj5pQEgVr01z+e8GBG1vGQv tnr1PCauDCaAzBvIBlL8iK3ThfYM40nVyab8ecBw+kgVaUfMKzXGPGxTS2kTDTOLqrwuy/TBdKQ 3+6NOohitwTQIal4xRl2uuMGgQCb4UnBt5PFDjCNTFVe6Il88oXeDkIRygfVRVQbI/wBIg== X-Google-Smtp-Source: AGHT+IHeHZSUDqQdfG2v+mBrHe2bRKFGwJFC2LBs4xjaw/158U9ErD6Dpe2Q1J3rA0XwDY8VCSz85NOjfnc6 X-Received: by 2002:a05:690c:fd3:b0:70c:c013:f26 with SMTP id 00721157ae682-7166b6d9374mr68648917b3.33.1751720132322; Sat, 05 Jul 2025 05:55:32 -0700 (PDT) Received: from postal.iol.unh.edu (postal.iol.unh.edu. [132.177.123.84]) by smtp-relay.gmail.com with ESMTPS id 00721157ae682-7176af2c0casm444427b3.70.2025.07.05.05.55.32 (version=TLS1_2 cipher=ECDHE-ECDSA-AES128-GCM-SHA256 bits=128/128); Sat, 05 Jul 2025 05:55:32 -0700 (PDT) X-Relaying-Domain: iol.unh.edu Date: Sat, 05 Jul 2025 05:55:32 -0700 (PDT) Message-ID: <686920c4.050a0220.3ff94.24e7SMTPIN_ADDED_MISSING@mx.google.com> Received: from [172.21.0.10] (unknown [172.18.0.240]) by postal.iol.unh.edu (Postfix) with ESMTP id F2F3A6051830; Sat, 5 Jul 2025 08:55:31 -0400 (EDT) Subject: |WARNING| pw155010 [PATCH] net/bonding: avoid RSS reta update in flo From: dpdklab@iol.unh.edu To: Test Report Cc: dpdk-test-reports@iol.unh.edu In-Reply-To: <20250704135031.5306-1-madhuker.mythri@oracle.com> References: <20250704135031.5306-1-madhuker.mythri@oracle.com> Content-Type: text/plain X-BeenThere: test-report@dpdk.org X-Mailman-Version: 2.1.29 Precedence: list List-Id: automatic DPDK test reports List-Unsubscribe: , List-Archive: List-Post: List-Help: List-Subscribe: , Errors-To: test-report-bounces@dpdk.org Test-Label: iol-compile-amd64-testing Test-Status: WARNING http://dpdk.org/patch/155010 _Testing issues_ Submitter: Madhuker Mythri Date: Friday, July 04 2025 13:50:31 DPDK git baseline: Repo:dpdk Branch: master CommitID:b18c543ec30729ccc7708a6e064a1f9db5d8c11f 155010 --> testing issues Upstream job id: Generic-DPDK-Compile-Meson#405665 Test environment and result as below: +-------------------------------+--------------------+-------------------+-------------------------+----------------------+-------------------+------------------+ | Environment | dpdk_meson_compile | dpdk_msvc_compile | dpdk_llvm_clang_compile | dpdk_mingw64_compile | dpdk_compile_spdk | dpdk_compile_ovs | +===============================+====================+===================+=========================+======================+===================+==================+ | Ubuntu 20.04 | PASS | SKIPPED | SKIPPED | SKIPPED | SKIPPED | SKIPPED | +-------------------------------+--------------------+-------------------+-------------------------+----------------------+-------------------+------------------+ | CentOS Stream 10 | PASS | SKIPPED | SKIPPED | SKIPPED | SKIPPED | SKIPPED | +-------------------------------+--------------------+-------------------+-------------------------+----------------------+-------------------+------------------+ | Debian GNU/Linux 12 | PASS | SKIPPED | SKIPPED | SKIPPED | PASS | SKIPPED | +-------------------------------+--------------------+-------------------+-------------------------+----------------------+-------------------+------------------+ | Fedora Linux 40 | PASS | SKIPPED | SKIPPED | SKIPPED | PASS | SKIPPED | +-------------------------------+--------------------+-------------------+-------------------------+----------------------+-------------------+------------------+ | Fedora Linux 41 | PASS | SKIPPED | SKIPPED | SKIPPED | PASS | PASS | +-------------------------------+--------------------+-------------------+-------------------------+----------------------+-------------------+------------------+ | openSUSE Leap 15.6 | PASS | SKIPPED | SKIPPED | SKIPPED | SKIPPED | SKIPPED | +-------------------------------+--------------------+-------------------+-------------------------+----------------------+-------------------+------------------+ | Red Hat Enterprise Linux 8.10 | PASS | SKIPPED | SKIPPED | SKIPPED | SKIPPED | SKIPPED | +-------------------------------+--------------------+-------------------+-------------------------+----------------------+-------------------+------------------+ | Ubuntu 24.04 | PASS | SKIPPED | SKIPPED | SKIPPED | PASS | PASS | +-------------------------------+--------------------+-------------------+-------------------------+----------------------+-------------------+------------------+ | CentOS Stream 9 | PASS | SKIPPED | SKIPPED | SKIPPED | PASS | SKIPPED | +-------------------------------+--------------------+-------------------+-------------------------+----------------------+-------------------+------------------+ | Alpine Linux 3.22.0 | PASS | SKIPPED | SKIPPED | SKIPPED | SKIPPED | SKIPPED | +-------------------------------+--------------------+-------------------+-------------------------+----------------------+-------------------+------------------+ | Red Hat Enterprise Linux 9.5 | PASS | SKIPPED | SKIPPED | SKIPPED | SKIPPED | SKIPPED | +-------------------------------+--------------------+-------------------+-------------------------+----------------------+-------------------+------------------+ | Ubuntu 22.04 | PASS | SKIPPED | SKIPPED | SKIPPED | PASS | SKIPPED | +-------------------------------+--------------------+-------------------+-------------------------+----------------------+-------------------+------------------+ | Windows Server 2022 | SKIPPED | PASS | PASS | PASS | SKIPPED | SKIPPED | +-------------------------------+--------------------+-------------------+-------------------------+----------------------+-------------------+------------------+ Ubuntu 20.04 Kernel: 4.19 Compiler: gcc gcc (Ubuntu 9.4.0-1ubuntu1~20.04.2) 9.4.0 CentOS Stream 10 Kernel: 5.15 Compiler: gcc gcc (GCC) 14.2.1 20250110 (Red Hat 14.2.1-8) Debian GNU/Linux 12 Kernel: 5.15 Compiler: gcc gcc (Debian 12.2.0-14+deb12u1) 12.2.0 Fedora Linux 40 Kernel: 5.15 Compiler: clang gcc (GCC) 14.2.1 20240912 (Red Hat 14.2.1-3) Fedora Linux 41 Kernel: 5.15 Compiler: clang gcc (GCC) 14.3.1 20250523 (Red Hat 14.3.1-1) openSUSE Leap 15.6 Kernel: 5.15 Compiler: gcc gcc (SUSE Linux) 7.5.0 Red Hat Enterprise Linux 8.10 Kernel: 5.15 Compiler: gcc gcc (GCC) 8.5.0 20210514 (Red Hat 8.5.0-22) Ubuntu 24.04 Kernel: 5.15 Compiler: gcc gcc (Ubuntu 13.3.0-6ubuntu2~24.04) 13.3.0 CentOS Stream 9 Kernel: 5.15 Compiler: gcc gcc (GCC) 11.5.0 20240719 (Red Hat 11.5.0-7) Alpine Linux 3.22.0 Kernel: 5.15 Compiler: gcc gcc (Alpine 14.2.0) 14.2.0 Red Hat Enterprise Linux 9.5 Kernel: 5.15 Compiler: gcc gcc (GCC) 11.5.0 20240719 (Red Hat 11.5.0-2) Ubuntu 22.04 Kernel: 5.15 Compiler: gcc gcc (Ubuntu 11.4.0-1ubuntu1~22.04) 11.4.0 Windows Server 2022 Kernel: 10.0.20348.2031 Compiler: clang 15.0.7, gcc 14.1.0 (MinGW), and MSVC VS 19.39.33521 To view detailed results, visit: https://lab.dpdk.org/results/dashboard/patchsets/33593/ UNH-IOL DPDK Community Lab To manage your email subscriptions, visit: https://lab.dpdk.org/results/dashboard/preferences/subscriptions/