From mboxrd@z Thu Jan 1 00:00:00 1970 Return-Path: Received: from mails.dpdk.org (mails.dpdk.org [217.70.189.124]) by inbox.dpdk.org (Postfix) with ESMTP id 70E7D46AED for ; Sat, 5 Jul 2025 14:57:18 +0200 (CEST) Received: from mails.dpdk.org (localhost [127.0.0.1]) by mails.dpdk.org (Postfix) with ESMTP id 5591840279; Sat, 5 Jul 2025 14:57:18 +0200 (CEST) Received: from mail-pl1-f227.google.com (mail-pl1-f227.google.com [209.85.214.227]) by mails.dpdk.org (Postfix) with ESMTP id 8C77240279 for ; Sat, 5 Jul 2025 14:57:16 +0200 (CEST) Received: by mail-pl1-f227.google.com with SMTP id d9443c01a7336-235f9e87f78so18661475ad.2 for ; Sat, 05 Jul 2025 05:57:16 -0700 (PDT) DKIM-Signature: v=1; a=rsa-sha256; c=relaxed/relaxed; d=iol.unh.edu; s=unh-iol; t=1751720236; x=1752325036; darn=dpdk.org; h=references:in-reply-to:cc:to:from:subject:message-id:date:from:to :cc:subject:date:message-id:reply-to; bh=BJ/h6ibEGuK1Ke26aSp5pXFmIexl7mCqDeZFq5I7gWI=; b=ERCygcY66m7Yj05WCX2/CQ0vkXABQF2ioZ+kZLGQtAF0fMzNh6XAp388epbQ9G2UyD Xbvs/FGlkPVOQqLJ8NMcASuMmOhYmnam8Ljk6wGS1rM2RvTryhSvD+F1o7iD08MNfi8v WwVbutcn+ake6emacxRv4ff+6OlBZ0BajRY9o= X-Google-DKIM-Signature: v=1; a=rsa-sha256; c=relaxed/relaxed; d=1e100.net; s=20230601; t=1751720236; x=1752325036; h=references:in-reply-to:cc:to:from:subject:message-id:date :x-gm-message-state:from:to:cc:subject:date:message-id:reply-to; bh=BJ/h6ibEGuK1Ke26aSp5pXFmIexl7mCqDeZFq5I7gWI=; b=Jb88JAAyJrXjOEcFlU1iiYkOJi3R3ExvVaSptDsQtC9yw+tQ28/HEQJAFfY/aRqbwp a/dCn9cq/1irEoVxCQx+Q81AvUd13SpNVrF/IZknTTjE4MnJhyXzEhw5ZnvlvwRUXUTI iLH9XZgAgvjg+gkLgKvW0pcBshvqBkdXIA+d9v3UhQKlKXHl6Fe/cSaq/Y6rvGF6L6At qTqOfLAkaLr4pQ+CP+k2hN4621xKUAkObGCD0kPN8ABlDPYTr5o8FuI7yEVpa17XPqQ4 quh3RYNzOoCIi2BtNgxhkyxxpztH6UGWIaBCNSQAv5dHfhR+MuQhBc9c5xMSJ9edYPFK nQzQ== X-Gm-Message-State: AOJu0Yy71gMfNp38r0QvY5d0ieV29J6tOAHGKewY8bldX+gerWPb3uRy X5kRH3qocYXRPhRl6ZjYaStStkRbRUk64tlkHwVmbds+nSZ64j3qWxkXzbbC12Nx1u+SAW5Mpel 1AGO42R7rX9sk1dAxbDBXUgqd1aFNiMOf2qoA/+QX2hLg X-Gm-Gg: ASbGncuA39Mk53ZJCs3yjYqHBqmzanqKoAdG2rbgNEGXElgCIVQE1l80JocsTC1u7ly k3WJWz3VlRBBbb375wIO7IjcaTht5DYRqZiXPizR2jJKTMuw6Kfz5R9Ba5flAWngTbUw+23CaSa vrqa8k9GXxokdPshUdoOHVaIsq1/2HM42vkRQoq+L2faJgjt2gQ6iBJFa+M21O6MqDPs0TTFKAV i8qY4G9y2a+NGGvohyTfH2EVm+AlBevDS5gkZXrScTR2wyfX/QIaDAyeceD3nXacwQqJDHjcsHv bBKyYK8vTDDmArW5dnZnVVzZcCulhuuKRp/HSZbc8BMr48sWXxN75+iOBbh4rIcub/+3nQ== X-Google-Smtp-Source: AGHT+IH1ctH/K9bWGdA77ryhnmX5L5BPpp98Ja5pkc3ykKjDQjc1ooG2ODQ6xtKYrGMx4ToxYZIK6IHqGIxL X-Received: by 2002:a17:903:28e:b0:234:f6ba:e689 with SMTP id d9443c01a7336-23c85eb0757mr74991295ad.39.1751720235663; Sat, 05 Jul 2025 05:57:15 -0700 (PDT) Received: from postal.iol.unh.edu (postal.iol.unh.edu. [132.177.123.84]) by smtp-relay.gmail.com with ESMTPS id d9443c01a7336-23c842b54bfsm2072955ad.15.2025.07.05.05.57.15 (version=TLS1_2 cipher=ECDHE-ECDSA-AES128-GCM-SHA256 bits=128/128); Sat, 05 Jul 2025 05:57:15 -0700 (PDT) X-Relaying-Domain: iol.unh.edu Date: Sat, 05 Jul 2025 05:57:15 -0700 (PDT) Message-ID: <6869212b.170a0220.1adc5a.af07SMTPIN_ADDED_MISSING@mx.google.com> Received: from [172.21.0.11] (unknown [172.18.0.240]) by postal.iol.unh.edu (Postfix) with ESMTP id DAE146051830; Sat, 5 Jul 2025 08:57:14 -0400 (EDT) Subject: |WARNING| pw155010 [PATCH] net/bonding: avoid RSS reta update in flo From: dpdklab@iol.unh.edu To: Test Report Cc: dpdk-test-reports@iol.unh.edu In-Reply-To: <20250704135031.5306-1-madhuker.mythri@oracle.com> References: <20250704135031.5306-1-madhuker.mythri@oracle.com> Content-Type: text/plain X-BeenThere: test-report@dpdk.org X-Mailman-Version: 2.1.29 Precedence: list List-Id: automatic DPDK test reports List-Unsubscribe: , List-Archive: List-Post: List-Help: List-Subscribe: , Errors-To: test-report-bounces@dpdk.org Test-Label: iol-compile-amd64-testing Test-Status: WARNING http://dpdk.org/patch/155010 _Testing issues_ Submitter: Madhuker Mythri Date: Friday, July 04 2025 13:50:31 DPDK git baseline: Repo:dpdk Branch: master CommitID:b18c543ec30729ccc7708a6e064a1f9db5d8c11f 155010 --> testing issues Upstream job id: Generic-DPDK-Compile-Meson#405664 Test environment and result as below: +-------------------------------+--------------------+-------------------+-------------------------+----------------------+-------------------+------------------+ | Environment | dpdk_meson_compile | dpdk_msvc_compile | dpdk_llvm_clang_compile | dpdk_mingw64_compile | dpdk_compile_spdk | dpdk_compile_ovs | +===============================+====================+===================+=========================+======================+===================+==================+ | Ubuntu 20.04 | PASS | SKIPPED | SKIPPED | SKIPPED | SKIPPED | SKIPPED | +-------------------------------+--------------------+-------------------+-------------------------+----------------------+-------------------+------------------+ | CentOS Stream 10 | PASS | SKIPPED | SKIPPED | SKIPPED | SKIPPED | SKIPPED | +-------------------------------+--------------------+-------------------+-------------------------+----------------------+-------------------+------------------+ | Debian GNU/Linux 12 | PASS | SKIPPED | SKIPPED | SKIPPED | PASS | SKIPPED | +-------------------------------+--------------------+-------------------+-------------------------+----------------------+-------------------+------------------+ | Fedora Linux 40 | PASS | SKIPPED | SKIPPED | SKIPPED | PASS | SKIPPED | +-------------------------------+--------------------+-------------------+-------------------------+----------------------+-------------------+------------------+ | Fedora Linux 41 | PASS | SKIPPED | SKIPPED | SKIPPED | PASS | PASS | +-------------------------------+--------------------+-------------------+-------------------------+----------------------+-------------------+------------------+ | openSUSE Leap 15.6 | PASS | SKIPPED | SKIPPED | SKIPPED | SKIPPED | SKIPPED | +-------------------------------+--------------------+-------------------+-------------------------+----------------------+-------------------+------------------+ | Red Hat Enterprise Linux 8.10 | PASS | SKIPPED | SKIPPED | SKIPPED | SKIPPED | SKIPPED | +-------------------------------+--------------------+-------------------+-------------------------+----------------------+-------------------+------------------+ | Ubuntu 24.04 | PASS | SKIPPED | SKIPPED | SKIPPED | PASS | PASS | +-------------------------------+--------------------+-------------------+-------------------------+----------------------+-------------------+------------------+ | CentOS Stream 9 | PASS | SKIPPED | SKIPPED | SKIPPED | PASS | SKIPPED | +-------------------------------+--------------------+-------------------+-------------------------+----------------------+-------------------+------------------+ | Alpine Linux 3.22.0 | PASS | SKIPPED | SKIPPED | SKIPPED | SKIPPED | SKIPPED | +-------------------------------+--------------------+-------------------+-------------------------+----------------------+-------------------+------------------+ | Red Hat Enterprise Linux 9.5 | PASS | SKIPPED | SKIPPED | SKIPPED | SKIPPED | SKIPPED | +-------------------------------+--------------------+-------------------+-------------------------+----------------------+-------------------+------------------+ | Ubuntu 22.04 | PASS | SKIPPED | SKIPPED | SKIPPED | PASS | SKIPPED | +-------------------------------+--------------------+-------------------+-------------------------+----------------------+-------------------+------------------+ | Windows Server 2022 | SKIPPED | PASS | PASS | PASS | SKIPPED | SKIPPED | +-------------------------------+--------------------+-------------------+-------------------------+----------------------+-------------------+------------------+ Ubuntu 20.04 Kernel: 4.19 Compiler: gcc gcc (Ubuntu 9.4.0-1ubuntu1~20.04.2) 9.4.0 CentOS Stream 10 Kernel: 5.15 Compiler: gcc gcc (GCC) 14.2.1 20250110 (Red Hat 14.2.1-8) Debian GNU/Linux 12 Kernel: 5.15 Compiler: gcc gcc (Debian 12.2.0-14+deb12u1) 12.2.0 Fedora Linux 40 Kernel: 5.15 Compiler: clang gcc (GCC) 14.2.1 20240912 (Red Hat 14.2.1-3) Fedora Linux 41 Kernel: 5.15 Compiler: clang gcc (GCC) 14.3.1 20250523 (Red Hat 14.3.1-1) openSUSE Leap 15.6 Kernel: 5.15 Compiler: gcc gcc (SUSE Linux) 7.5.0 Red Hat Enterprise Linux 8.10 Kernel: 5.15 Compiler: gcc gcc (GCC) 8.5.0 20210514 (Red Hat 8.5.0-22) Ubuntu 24.04 Kernel: 5.15 Compiler: gcc gcc (Ubuntu 13.3.0-6ubuntu2~24.04) 13.3.0 CentOS Stream 9 Kernel: 5.15 Compiler: gcc gcc (GCC) 11.5.0 20240719 (Red Hat 11.5.0-7) Alpine Linux 3.22.0 Kernel: 5.15 Compiler: gcc gcc (Alpine 14.2.0) 14.2.0 Red Hat Enterprise Linux 9.5 Kernel: 5.15 Compiler: gcc gcc (GCC) 11.5.0 20240719 (Red Hat 11.5.0-2) Ubuntu 22.04 Kernel: 5.15 Compiler: gcc gcc (Ubuntu 11.4.0-1ubuntu1~22.04) 11.4.0 Windows Server 2022 Kernel: 10.0.20348.2031 Compiler: clang 15.0.7, gcc 14.1.0 (MinGW), and MSVC VS 19.39.33521 To view detailed results, visit: https://lab.dpdk.org/results/dashboard/patchsets/33593/ UNH-IOL DPDK Community Lab To manage your email subscriptions, visit: https://lab.dpdk.org/results/dashboard/preferences/subscriptions/