From mboxrd@z Thu Jan 1 00:00:00 1970 Return-Path: Received: from mails.dpdk.org (mails.dpdk.org [217.70.189.124]) by inbox.dpdk.org (Postfix) with ESMTP id 71ACB46AED for ; Sat, 5 Jul 2025 14:58:06 +0200 (CEST) Received: from mails.dpdk.org (localhost [127.0.0.1]) by mails.dpdk.org (Postfix) with ESMTP id 6E01A40279; Sat, 5 Jul 2025 14:58:06 +0200 (CEST) Received: from mail-oo1-f99.google.com (mail-oo1-f99.google.com [209.85.161.99]) by mails.dpdk.org (Postfix) with ESMTP id 7991340279 for ; Sat, 5 Jul 2025 14:58:05 +0200 (CEST) Received: by mail-oo1-f99.google.com with SMTP id 006d021491bc7-6138ed92ba4so403668eaf.2 for ; Sat, 05 Jul 2025 05:58:05 -0700 (PDT) DKIM-Signature: v=1; a=rsa-sha256; c=relaxed/relaxed; d=iol.unh.edu; s=unh-iol; t=1751720284; x=1752325084; darn=dpdk.org; h=references:in-reply-to:cc:to:from:subject:message-id:date:from:to :cc:subject:date:message-id:reply-to; bh=SFh5EhpAAUQAZnEgTAcjjZZ469T4KxJUv6VM+3CwALY=; b=Csz5BcoZbPTstOqg33ksiobj+EoRK/6xHsFArf4WbMCdrbWqqWWYWpsPpKHzoQJL4P jKpI5tjWCnRX/sLIbsFmZ061YRL0wN5XAlCkX3wp5c7gVE4cZ4VtLXl8qCCsIikqnSeC SqOdCtbC7ad59CAd5VGnfXekgd+VyfEKIMVJE= X-Google-DKIM-Signature: v=1; a=rsa-sha256; c=relaxed/relaxed; d=1e100.net; s=20230601; t=1751720284; x=1752325084; h=references:in-reply-to:cc:to:from:subject:message-id:date :x-gm-message-state:from:to:cc:subject:date:message-id:reply-to; bh=SFh5EhpAAUQAZnEgTAcjjZZ469T4KxJUv6VM+3CwALY=; b=JLMNWVMZehT6Ml8JPG0m56amMBvaufssQkPPFiZ1Cc5V/nV47RRteaVLoQvR2448EI t0dNPrYliwIBeOaOkz2bq7rOL1xSc6ZJ5KLBWsCiE7/L0tSQTWy6SrR+UmAueboEey+s 4mYoRYZ7zJeeKROCCaXHeXOOh2vKCw+vWIWoqEhNGc30QljEWQn0CRXfCXs/hXYK4j+2 QVyPs9m4es78PMlwcsmGBTadjQ2SR0zfcuBQyDSnnilYl8WCYCsjxl5ByeovIWG4RaHw Dd4gEg0CEY0Ev39iYlI8M/8rigF5RbahCGZsa3Erf8kOhBneJHwpCub+/i8WaSX1OcY6 xHtA== X-Gm-Message-State: AOJu0Yy/l44kavxfNwYU4EN8ILTnRiP12VvsAtieY1M3gRQeVdC1WRY7 +HfhH+39WuZ+ICwfgeok+1zS8vdu43YfqqKYEL568Jju93LNUe/b2p2fvIKKKhUDkb81owQyC+X LVYhsNU9nO72m9XYfpzajomeNwD1gCHsoHov0oo9JQTfZYn5HiXBeg827Ll/J X-Gm-Gg: ASbGnctrV3heUPyuSZANtr7LaOdUvqxdjOnWchzfrO78CayXlFS2F+VR3u0ejlQ46Gt f/CfX9mBO1TvImJCs9osSXzsIw5GtpU5g1GrRYrRwMwQzh/gTfAGxN2YKDOBlQ2swGJy/0vQKnW wdypEwvMw4NUR2UmbPYCwgsmfJogzhEh2qfy1ja7OtGvB4fp0CyGbjr6eKZERUvd/Ig6dS1F73w uUKZGFOjCTCPeNm8eeLf3Jh8erqURQPeHgSCtW7ndeOIqrJNoi4VWeDDffFsMbD3zUZTvHm3e0t 4swXvX+9Ro9T2avm+lDrM+Ryga4UyG+7oUvkV/+/6oNm7Jk= X-Google-Smtp-Source: AGHT+IERhgZSorQ/Y4y+o/Pcc2GJ6Zm7TEEPVltd29x1BbFvqsEUHSS/ThC5SFscKxrn82nsReFtkoFW2hPn X-Received: by 2002:a05:6820:201b:b0:611:80f3:eb44 with SMTP id 006d021491bc7-613a0062e85mr1661727eaf.3.1751720284709; Sat, 05 Jul 2025 05:58:04 -0700 (PDT) Received: from postal.iol.unh.edu (postal.iol.unh.edu. [2606:4100:3880:1234::84]) by smtp-relay.gmail.com with ESMTPS id 006d021491bc7-6138e4a973esm158597eaf.9.2025.07.05.05.58.04 (version=TLS1_2 cipher=ECDHE-ECDSA-AES128-GCM-SHA256 bits=128/128); Sat, 05 Jul 2025 05:58:04 -0700 (PDT) X-Relaying-Domain: iol.unh.edu Date: Sat, 05 Jul 2025 05:58:04 -0700 (PDT) Message-ID: <6869215c.050a0220.3500e8.9337SMTPIN_ADDED_MISSING@mx.google.com> Received: from [172.21.0.9] (unknown [172.18.0.240]) by postal.iol.unh.edu (Postfix) with ESMTP id 2EC1E6051830; Sat, 5 Jul 2025 08:58:04 -0400 (EDT) Subject: |WARNING| pw155010 [PATCH] net/bonding: avoid RSS reta update in flo From: dpdklab@iol.unh.edu To: Test Report Cc: dpdk-test-reports@iol.unh.edu In-Reply-To: <20250704135031.5306-1-madhuker.mythri@oracle.com> References: <20250704135031.5306-1-madhuker.mythri@oracle.com> Content-Type: text/plain X-BeenThere: test-report@dpdk.org X-Mailman-Version: 2.1.29 Precedence: list List-Id: automatic DPDK test reports List-Unsubscribe: , List-Archive: List-Post: List-Help: List-Subscribe: , Errors-To: test-report-bounces@dpdk.org Test-Label: iol-compile-amd64-testing Test-Status: WARNING http://dpdk.org/patch/155010 _Testing issues_ Submitter: Madhuker Mythri Date: Friday, July 04 2025 13:50:31 DPDK git baseline: Repo:dpdk Branch: master CommitID:b18c543ec30729ccc7708a6e064a1f9db5d8c11f 155010 --> testing issues Upstream job id: Generic-DPDK-Compile-Meson#405666 Test environment and result as below: +-------------------------------+--------------------+-------------------+-------------------------+----------------------+-------------------+------------------+ | Environment | dpdk_meson_compile | dpdk_msvc_compile | dpdk_llvm_clang_compile | dpdk_mingw64_compile | dpdk_compile_spdk | dpdk_compile_ovs | +===============================+====================+===================+=========================+======================+===================+==================+ | Ubuntu 20.04 | PASS | SKIPPED | SKIPPED | SKIPPED | SKIPPED | SKIPPED | +-------------------------------+--------------------+-------------------+-------------------------+----------------------+-------------------+------------------+ | CentOS Stream 10 | PASS | SKIPPED | SKIPPED | SKIPPED | SKIPPED | SKIPPED | +-------------------------------+--------------------+-------------------+-------------------------+----------------------+-------------------+------------------+ | Debian GNU/Linux 12 | PASS | SKIPPED | SKIPPED | SKIPPED | PASS | SKIPPED | +-------------------------------+--------------------+-------------------+-------------------------+----------------------+-------------------+------------------+ | Fedora Linux 40 | PASS | SKIPPED | SKIPPED | SKIPPED | PASS | SKIPPED | +-------------------------------+--------------------+-------------------+-------------------------+----------------------+-------------------+------------------+ | Fedora Linux 41 | PASS | SKIPPED | SKIPPED | SKIPPED | PASS | PASS | +-------------------------------+--------------------+-------------------+-------------------------+----------------------+-------------------+------------------+ | openSUSE Leap 15.6 | PASS | SKIPPED | SKIPPED | SKIPPED | SKIPPED | SKIPPED | +-------------------------------+--------------------+-------------------+-------------------------+----------------------+-------------------+------------------+ | Red Hat Enterprise Linux 8.10 | PASS | SKIPPED | SKIPPED | SKIPPED | SKIPPED | SKIPPED | +-------------------------------+--------------------+-------------------+-------------------------+----------------------+-------------------+------------------+ | Ubuntu 24.04 | PASS | SKIPPED | SKIPPED | SKIPPED | PASS | PASS | +-------------------------------+--------------------+-------------------+-------------------------+----------------------+-------------------+------------------+ | CentOS Stream 9 | PASS | SKIPPED | SKIPPED | SKIPPED | PASS | SKIPPED | +-------------------------------+--------------------+-------------------+-------------------------+----------------------+-------------------+------------------+ | Alpine Linux 3.22.0 | PASS | SKIPPED | SKIPPED | SKIPPED | SKIPPED | SKIPPED | +-------------------------------+--------------------+-------------------+-------------------------+----------------------+-------------------+------------------+ | Red Hat Enterprise Linux 9.5 | PASS | SKIPPED | SKIPPED | SKIPPED | SKIPPED | SKIPPED | +-------------------------------+--------------------+-------------------+-------------------------+----------------------+-------------------+------------------+ | Ubuntu 22.04 | PASS | SKIPPED | SKIPPED | SKIPPED | PASS | SKIPPED | +-------------------------------+--------------------+-------------------+-------------------------+----------------------+-------------------+------------------+ | Windows Server 2022 | SKIPPED | PASS | PASS | PASS | SKIPPED | SKIPPED | +-------------------------------+--------------------+-------------------+-------------------------+----------------------+-------------------+------------------+ Ubuntu 20.04 Kernel: 4.19 Compiler: gcc gcc (Ubuntu 9.4.0-1ubuntu1~20.04.2) 9.4.0 CentOS Stream 10 Kernel: 5.15 Compiler: gcc gcc (GCC) 14.2.1 20250110 (Red Hat 14.2.1-8) Debian GNU/Linux 12 Kernel: 5.15 Compiler: gcc gcc (Debian 12.2.0-14+deb12u1) 12.2.0 Fedora Linux 40 Kernel: 5.15 Compiler: clang gcc (GCC) 14.2.1 20240912 (Red Hat 14.2.1-3) Fedora Linux 41 Kernel: 5.15 Compiler: clang gcc (GCC) 14.3.1 20250523 (Red Hat 14.3.1-1) openSUSE Leap 15.6 Kernel: 5.15 Compiler: gcc gcc (SUSE Linux) 7.5.0 Red Hat Enterprise Linux 8.10 Kernel: 5.15 Compiler: gcc gcc (GCC) 8.5.0 20210514 (Red Hat 8.5.0-22) Ubuntu 24.04 Kernel: 5.15 Compiler: gcc gcc (Ubuntu 13.3.0-6ubuntu2~24.04) 13.3.0 CentOS Stream 9 Kernel: 5.15 Compiler: gcc gcc (GCC) 11.5.0 20240719 (Red Hat 11.5.0-7) Alpine Linux 3.22.0 Kernel: 5.15 Compiler: gcc gcc (Alpine 14.2.0) 14.2.0 Red Hat Enterprise Linux 9.5 Kernel: 5.15 Compiler: gcc gcc (GCC) 11.5.0 20240719 (Red Hat 11.5.0-2) Ubuntu 22.04 Kernel: 5.15 Compiler: gcc gcc (Ubuntu 11.4.0-1ubuntu1~22.04) 11.4.0 Windows Server 2022 Kernel: 10.0.20348.2031 Compiler: clang 15.0.7, gcc 14.1.0 (MinGW), and MSVC VS 19.39.33521 To view detailed results, visit: https://lab.dpdk.org/results/dashboard/patchsets/33593/ UNH-IOL DPDK Community Lab To manage your email subscriptions, visit: https://lab.dpdk.org/results/dashboard/preferences/subscriptions/