From mboxrd@z Thu Jan 1 00:00:00 1970 Return-Path: Received: from mails.dpdk.org (mails.dpdk.org [217.70.189.124]) by inbox.dpdk.org (Postfix) with ESMTP id 8834846AED for ; Sat, 5 Jul 2025 14:58:15 +0200 (CEST) Received: from mails.dpdk.org (localhost [127.0.0.1]) by mails.dpdk.org (Postfix) with ESMTP id 83DB340279; Sat, 5 Jul 2025 14:58:15 +0200 (CEST) Received: from mail-pl1-f227.google.com (mail-pl1-f227.google.com [209.85.214.227]) by mails.dpdk.org (Postfix) with ESMTP id 3311540279 for ; Sat, 5 Jul 2025 14:58:14 +0200 (CEST) Received: by mail-pl1-f227.google.com with SMTP id d9443c01a7336-234b440afa7so17094405ad.0 for ; Sat, 05 Jul 2025 05:58:14 -0700 (PDT) DKIM-Signature: v=1; a=rsa-sha256; c=relaxed/relaxed; d=iol.unh.edu; s=unh-iol; t=1751720293; x=1752325093; darn=dpdk.org; h=references:in-reply-to:cc:to:from:subject:message-id:date:from:to :cc:subject:date:message-id:reply-to; bh=qNe4eNXo90okOH14i2iDRyonnzXY58muVPtujbhsKso=; b=ia+veqErdT/ixqSSKqsxVuARii6quclvmzdOO3AsvYzybzSsNRJSKICUPRi0gjgwAF TiACY4ujV0bReSkBoxFb53yH9Z/tzJ6M5XDEYkHKEJ5caDE3vdtRjRUX/XkxLTfFd11R p1mn2VzOTIeYGrpVr996fzw0huh1+y1x1xpK0= X-Google-DKIM-Signature: v=1; a=rsa-sha256; c=relaxed/relaxed; d=1e100.net; s=20230601; t=1751720293; x=1752325093; h=references:in-reply-to:cc:to:from:subject:message-id:date :x-gm-message-state:from:to:cc:subject:date:message-id:reply-to; bh=qNe4eNXo90okOH14i2iDRyonnzXY58muVPtujbhsKso=; b=oEzwjGiz+ST4+p007YiCujcfEcpRh9/H9U/kjtrsi4V3PAtAzl7PdzyBfoURzUcvh4 zhKhOmDra0zxM3j8SIxMKAsTS1kEW0wmaA6cOQ+J7nJIx+qMAwJ1/h3FFVvUXNOP10aI 3LdHOaFol74q3gmm3H++RMXvdouSxqqnVpFKgbdOM776XUJEPKsoSI1ui60/nmYFGhFo S8wUbDmHPzE3L5MLYuIzfJvcq+hiTFq0gy08PrmVCH39+anTgoZNs1l8xtmutUC6VT2J 2QPvXc27VDGCiAqElgmqBTdzeu3+fSB96ZAwYUTg2bJUPLBttms/awu/UQwqojYVUXkn UD0A== X-Gm-Message-State: AOJu0YwEDOxxgvPvCtpSVuU1FHH8thSvjzj+sfgfM6tVVCZ9fy8PCmhv O0QuHCAm+bJtP1rQSyhx1vXchH12rMcsibny8x5uk+ELOxv/uDNjk1EYknjWsuYe+PQMQyOLtvK FrTvrwUBAaB3z0ZF9fS+JUQ0OuX2x7L5M8EDC+jNfXD8OTtPYg8O0UChdFmGy X-Gm-Gg: ASbGnctEcu43JFUfp+54zY8Dgsar64vT+sWQJucYS9AsURVkXnOHzT57BNcNlz2mvkq 9N7zGPCIRI6t7B594od6gtHj9zD1xqm4c6W6brnqVnC/QVYyBhUu9witxbmD0NKl8ReTruFMLfw mgfF9Lh06Wg1392vNRIG8Jy1a47fUzPSQMYXpDfM6q+DSCLHO2lQVnsCTRGYN3f0gC3995KisQm cxlKOml69Pk1uAIWOjcw9CbO/vYRQDjpwqyxwNorSNc85EPBiuP6OP63Wy9odjudL1ZrEWnv6qf 0JoPWr33jQDj1C02wq1zd+6LpzKCm+KvVZtMpsFa8kP4apU= X-Google-Smtp-Source: AGHT+IHFbW/rI7ZmAx2E9AaXRqV3Pw3PYvW4uWWkqX6h3D8FwUK7SxRiKlOwuMCJzPJ2Fp+tMTSo6w6R1AT/ X-Received: by 2002:a17:902:d50c:b0:234:ba37:87b6 with SMTP id d9443c01a7336-23c90f4a9c7mr29260455ad.17.1751720293434; Sat, 05 Jul 2025 05:58:13 -0700 (PDT) Received: from postal.iol.unh.edu (postal.iol.unh.edu. [2606:4100:3880:1234::84]) by smtp-relay.gmail.com with ESMTPS id d9443c01a7336-23c842d02d0sm1995085ad.29.2025.07.05.05.58.13 (version=TLS1_2 cipher=ECDHE-ECDSA-AES128-GCM-SHA256 bits=128/128); Sat, 05 Jul 2025 05:58:13 -0700 (PDT) X-Relaying-Domain: iol.unh.edu Date: Sat, 05 Jul 2025 05:58:13 -0700 (PDT) Message-ID: <68692165.170a0220.309996.a40aSMTPIN_ADDED_MISSING@mx.google.com> Received: from [172.21.0.14] (unknown [172.18.0.240]) by postal.iol.unh.edu (Postfix) with ESMTP id A4C146051830; Sat, 5 Jul 2025 08:58:12 -0400 (EDT) Subject: |WARNING| pw155008 [PATCH] mbuf: add new ptype for slow protocols From: dpdklab@iol.unh.edu To: Test Report Cc: dpdk-test-reports@iol.unh.edu In-Reply-To: <20250704084502.237979-1-kuka@cesnet.cz> References: <20250704084502.237979-1-kuka@cesnet.cz> Content-Type: text/plain X-BeenThere: test-report@dpdk.org X-Mailman-Version: 2.1.29 Precedence: list List-Id: automatic DPDK test reports List-Unsubscribe: , List-Archive: List-Post: List-Help: List-Subscribe: , Errors-To: test-report-bounces@dpdk.org Test-Label: iol-compile-amd64-testing Test-Status: WARNING http://dpdk.org/patch/155008 _Testing issues_ Submitter: Mario Kuka Date: Friday, July 04 2025 08:45:01 DPDK git baseline: Repo:dpdk Branch: master CommitID:70c2297528e7c7789af452f78de1932e9a20c8a2 155008 --> testing issues Upstream job id: Generic-DPDK-Compile-Meson#405687 Test environment and result as below: +-------------------------------+-------------------+--------------------+-------------------------+----------------------+-------------------+------------------+ | Environment | dpdk_msvc_compile | dpdk_meson_compile | dpdk_llvm_clang_compile | dpdk_mingw64_compile | dpdk_compile_spdk | dpdk_compile_ovs | +===============================+===================+====================+=========================+======================+===================+==================+ | Windows Server 2022 | PASS | SKIPPED | PASS | PASS | SKIPPED | SKIPPED | +-------------------------------+-------------------+--------------------+-------------------------+----------------------+-------------------+------------------+ | Ubuntu 20.04 | SKIPPED | PASS | SKIPPED | SKIPPED | SKIPPED | SKIPPED | +-------------------------------+-------------------+--------------------+-------------------------+----------------------+-------------------+------------------+ | CentOS Stream 9 | SKIPPED | PASS | SKIPPED | SKIPPED | PASS | SKIPPED | +-------------------------------+-------------------+--------------------+-------------------------+----------------------+-------------------+------------------+ | Debian GNU/Linux 12 | SKIPPED | PASS | SKIPPED | SKIPPED | PASS | SKIPPED | +-------------------------------+-------------------+--------------------+-------------------------+----------------------+-------------------+------------------+ | Fedora Linux 40 | SKIPPED | PASS | SKIPPED | SKIPPED | PASS | SKIPPED | +-------------------------------+-------------------+--------------------+-------------------------+----------------------+-------------------+------------------+ | Fedora Linux 41 | SKIPPED | PASS | SKIPPED | SKIPPED | PASS | PASS | +-------------------------------+-------------------+--------------------+-------------------------+----------------------+-------------------+------------------+ | openSUSE Leap 15.6 | SKIPPED | PASS | SKIPPED | SKIPPED | SKIPPED | SKIPPED | +-------------------------------+-------------------+--------------------+-------------------------+----------------------+-------------------+------------------+ | Red Hat Enterprise Linux 8.10 | SKIPPED | PASS | SKIPPED | SKIPPED | SKIPPED | SKIPPED | +-------------------------------+-------------------+--------------------+-------------------------+----------------------+-------------------+------------------+ | Red Hat Enterprise Linux 9.5 | SKIPPED | PASS | SKIPPED | SKIPPED | SKIPPED | SKIPPED | +-------------------------------+-------------------+--------------------+-------------------------+----------------------+-------------------+------------------+ | Ubuntu 22.04 | SKIPPED | PASS | SKIPPED | SKIPPED | PASS | SKIPPED | +-------------------------------+-------------------+--------------------+-------------------------+----------------------+-------------------+------------------+ | Ubuntu 24.04 | SKIPPED | PASS | SKIPPED | SKIPPED | PASS | PASS | +-------------------------------+-------------------+--------------------+-------------------------+----------------------+-------------------+------------------+ | Alpine Linux 3.22.0 | SKIPPED | PASS | SKIPPED | SKIPPED | SKIPPED | SKIPPED | +-------------------------------+-------------------+--------------------+-------------------------+----------------------+-------------------+------------------+ | CentOS Stream 10 | SKIPPED | PASS | SKIPPED | SKIPPED | SKIPPED | SKIPPED | +-------------------------------+-------------------+--------------------+-------------------------+----------------------+-------------------+------------------+ Windows Server 2022 Kernel: 10.0.20348.2031 Compiler: clang 15.0.7, gcc 14.1.0 (MinGW), and MSVC VS 19.39.33521 Ubuntu 20.04 Kernel: 4.19 Compiler: gcc gcc (Ubuntu 9.4.0-1ubuntu1~20.04.2) 9.4.0 CentOS Stream 9 Kernel: 5.15 Compiler: gcc gcc (GCC) 11.5.0 20240719 (Red Hat 11.5.0-7) Debian GNU/Linux 12 Kernel: 5.15 Compiler: gcc gcc (Debian 12.2.0-14+deb12u1) 12.2.0 Fedora Linux 40 Kernel: 5.15 Compiler: clang gcc (GCC) 14.2.1 20240912 (Red Hat 14.2.1-3) Fedora Linux 41 Kernel: 5.15 Compiler: clang gcc (GCC) 14.3.1 20250523 (Red Hat 14.3.1-1) openSUSE Leap 15.6 Kernel: 5.15 Compiler: gcc gcc (SUSE Linux) 7.5.0 Red Hat Enterprise Linux 8.10 Kernel: 5.15 Compiler: gcc gcc (GCC) 8.5.0 20210514 (Red Hat 8.5.0-22) Red Hat Enterprise Linux 9.5 Kernel: 5.15 Compiler: gcc gcc (GCC) 11.5.0 20240719 (Red Hat 11.5.0-2) Ubuntu 22.04 Kernel: 5.15 Compiler: gcc gcc (Ubuntu 11.4.0-1ubuntu1~22.04) 11.4.0 Ubuntu 24.04 Kernel: 5.15 Compiler: gcc gcc (Ubuntu 13.3.0-6ubuntu2~24.04) 13.3.0 Alpine Linux 3.22.0 Kernel: 5.15 Compiler: gcc gcc (Alpine 14.2.0) 14.2.0 CentOS Stream 10 Kernel: 5.15 Compiler: gcc gcc (GCC) 14.2.1 20250110 (Red Hat 14.2.1-8) To view detailed results, visit: https://lab.dpdk.org/results/dashboard/patchsets/33591/ UNH-IOL DPDK Community Lab To manage your email subscriptions, visit: https://lab.dpdk.org/results/dashboard/preferences/subscriptions/